BEGIN:VCALENDAR
CALSCALE:GREGORIAN
VERSION:2.0
BEGIN:VTIMEZONE
TZID:Europe/Vienna
BEGIN:DAYLIGHT
DTSTART:19810329T020000
RRULE:FREQ=YEARLY;BYMONTH=3;BYDAY=-1SU
TZNAME:MESZ
TZOFFSETFROM:+0100
TZOFFSETTO:+0200
END:DAYLIGHT
BEGIN:STANDARD
DTSTART:19961027T030000
RRULE:FREQ=YEARLY;BYMONTH=10;BYDAY=-1SU
TZNAME:MEZ
TZOFFSETFROM:+0200
TZOFFSETTO:+0100
END:STANDARD
END:VTIMEZONE
BEGIN:VEVENT
CREATED:20231221T170959Z
DESCRIPTION:Christian Bakanic - Akkordeon &amp; Perkussion
Klemens Bittmann - Violine &amp; Mandola
Eddie Luis - Kontrabass &amp; Gesang

In der Musik von Folksmilch fließen verschiedene Musikstile ineinander - wie in einer akustischen Melange.Das Ergebnis ist kammermusikalischer Crossover: Leidenschaftlicher Tango, virtuose Klassik,mitreißender Balkan-Swing, sowie musikkabarettistische Einlagen finden auf harmonische Art und Weise nebeneinander ihren klingenden Raum.

Charakteristisch für das Ensemble und ein wesentlicher Teil ihres Programms sind die farbenreichen Eigenkompositionen, die kunstsinnig auf das Trio abgestimmt sind.

&quot;Das österreichische Akustik-Trio folksmilch zeigt auf charmante und humorvolle Weise, dass Tango, Klassik, Balkan-Swing und Musikkabarett nebeneinander wunderbar harmonieren können. Das Resultat dieser ungewöhnlichen Verbindungen ist ein kammermusikalischer Crossover, der eine sehr interessante Mischung darbietet. Die Stammbesetzung besteht aus Christian Bakanic mit dem Akkordeon, Klemens Bittmann an der Violine und Eddie Luis am Kontrabass, welche die folkloristische Seite hervorheben. Mit den Klängen der Mandola und dem Cajon erweitert sich das Repertoire um Jazz und Weltmusiklänge.
&quot; Akkordeon grenzenlos, Trossingen (D)


http://www.folksmilch.at/

DTEND;TZID=Europe/Vienna:20161111T235900
DTSTAMP:20231221T171224Z
DTSTART;TZID=Europe/Vienna:20161111T190000
LAST-MODIFIED:20231221T171210Z
LOCATION:[ku:L] Kunst- & Kulturhaus Öblarn\n8960 Öblarn 26\, Austria
SEQUENCE:0
STATUS:CONFIRMED
SUMMARY:folksmilch - austrian.acoustic.trio
TRANSP:OPAQUE
UID:95378F1D-9035-46E4-B853-04D9DBE28066
URL;VALUE=URI:https://www.kultur.st/events-archiv/folksmilch-austrianacoustictrio
X-APPLE-CREATOR-IDENTITY:com.apple.calendar
X-APPLE-CREATOR-TEAM-IDENTITY:0000000000
X-APPLE-STRUCTURED-LOCATION;VALUE=URI;X-APPLE-MAPKIT-HANDLE=CAES4gEI2TIa
 Egl0CYfe4rpHQBHLh/sjZ/wrQCJnCgvDlnN0ZXJyZWljaBICQVQaClN0ZWllcm1hcmsqDUJl
 emlyayBMaWV6ZW4yB8OWYmxhcm46BDg5NjBCB8OWYmxhcm5SB8OWYmxhcm5aAjI2YgrDlmJs
 YXJuIDI2igEHw5ZibGFybioKw5ZibGFybiAyNjIKw5ZibGFybiAyNjIMODk2MCDDlmJsYXJu
 MgvDlnN0ZXJyZWljaDg5QABQAVonCiUSEgl0CYfe4rpHQBHLh/sjZ/wrQBjZMiDHj4Po89yn
 vJIBkAMB;X-APPLE-RADIUS=70.58735946348322;X-APPLE-REFERENCEFRAME=1;X-TIT
 LE="[ku:L] Kunst- & Kulturhaus Öblarn\n8960 Öblarn 26, Austria":geo:47.4
 60048,13.992974
BEGIN:VALARM
ACTION:DISPLAY
DESCRIPTION:This is an event reminder
TRIGGER:-P1D
UID:A4449477-3C11-44D3-AE1D-16287D87CEFF
X-WR-ALARMUID:A4449477-3C11-44D3-AE1D-16287D87CEFF
END:VALARM
BEGIN:VALARM
ACTION:DISPLAY
DESCRIPTION:This is an event reminder
TRIGGER:-PT1H
UID:F548110B-4C92-41EC-A1E4-AAB7E38B9653
X-WR-ALARMUID:F548110B-4C92-41EC-A1E4-AAB7E38B9653
END:VALARM
END:VEVENT
END:VCALENDAR
