BEGIN:VCALENDAR
CALSCALE:GREGORIAN
VERSION:2.0
BEGIN:VTIMEZONE
TZID:Europe/Vienna
BEGIN:DAYLIGHT
DTSTART:19810329T020000
RRULE:FREQ=YEARLY;BYMONTH=3;BYDAY=-1SU
TZNAME:MESZ
TZOFFSETFROM:+0100
TZOFFSETTO:+0200
END:DAYLIGHT
BEGIN:STANDARD
DTSTART:19961027T030000
RRULE:FREQ=YEARLY;BYMONTH=10;BYDAY=-1SU
TZNAME:MEZ
TZOFFSETFROM:+0200
TZOFFSETTO:+0100
END:STANDARD
END:VTIMEZONE
BEGIN:VEVENT
CREATED:20231221T170959Z
DESCRIPTION:Hier gehts zum Livestream des Konzertes:Lineup:Lisa Hofmaninger, Fabian Rucker, Astrid Wiesinger Robert Unterköfler, Ilse Riedler, Florian Bauer – saxophones, clarinetsGerhard Ornig, Lorenz Raab, Dominik Fuss – trumpet, flugelhornAlois Eberl, Daniel Holzleitner, Christina Baumfried – trombone Philipp Nykrin - pianoJudith Ferstl, Beate Wiesinger – bassJudith Schwarz, Marton Juhasz – drumsChristian Muthspiel – compositions, leaderGroßbesetzungen im Jazz sind rar geworden. Unter anderem durch den Verfall der Gagen im letzten Jahrzehnt geht eine Kultur verloren, welche die Geschichte einer der größten musikalischen Erfindungen des 20. Jahrhunderts mitgeprägt hat: Von Duke Ellington bis Carla Bley, vom Sun Ra Arkestra bis zum Vienna Art Orchestra gehörten großbesetzte Bands immer zum Kanon der improvisierten Musik. Mit dem 18-köpfigen Orjazztra Vienna erfülle ich mir nun – den Zug der Zeit ignorierend – den Traum eines eigenen Jazzorchesters, den ich seit meinem Weggang vom Vienna Art Orchestra im Jahr 2004 träume. Österreich und Wien besitzen derzeit eine schier unglaublich dichte Szene junger, großartiger Musikerinnen und Musiker, die in vielen eigenen Bands musizieren, die neugierig, experimentierfreudig, weltoffen und allesamt sehr gut ausgebildet sind und somit auch technisch auf höchstem Niveau spielen. Zum überwiegenden Teil besteht das Orjazztra aus jungen Menschen dieser heimischen Szene, ist mit doppelter Rhythmusgruppe (zwei Bässe, zwei Schlagzeuge), Klavier, einem sechsköpfigen Saxophon/Klarinettensatz, drei Trompeten, zwei Posaunen und einer Tuba ungewöhnlich besetzt und eher als zeitgenössisches Jazzorchester denn als Big Band zu bezeichnen. Nach nunmehr 35 Jahren als Komponist, Dirigent und Instrumentalist, immer zwischen den Stühlen agierend bzw. diese regelmäßig wechselnd – vom Leiten zahlreicher Jazzbands bis zum Dirigieren einer Mahler-Symphonie, vom Komponieren für Symphonieorchester bis zur Produktion der Signations für Ö1 –, soll das Orjazztra für die nächsten Jahre nun mein musikalischer Schwerpunkt und die größtmögliche gemeinsame Schnittmenge der Summe dieser Erfahrungen werden: Ein orchestraler Zugang zum zeitgenössischen Jazz über komplexe Partituren, die gleichzeitig den individuellen Solistinnen und Solisten den entsprechenden improvisatorischen Freiraum geben, klanglich geprägt von einem akustischen, in diesem Fall bewusst elektronikfreien, an den Tugenden klassischen Orchesterspiels geschulten Zusammenklang.Reservierungen sind auch via WhatsApp (0664 86 00 300) möglich.
DTEND;TZID=Europe/Vienna:20210723T235900
DTSTAMP:20231221T171224Z
DTSTART;TZID=Europe/Vienna:20210723T173000
LAST-MODIFIED:20231221T171210Z
LOCATION:[ku:L] Kunst- & Kulturhaus Öblarn\n8960 Öblarn 26\, Austria
SEQUENCE:0
STATUS:CONFIRMED
SUMMARY:Christian Muthspiel & ORJAZZTRA VIENNA
TRANSP:OPAQUE
UID:95378F1D-9035-46E4-B853-04D9DBE28066
URL;VALUE=URI:https://www.kultur.st/events-archiv/christian-muthspiel-orjazztra-vienna
X-APPLE-CREATOR-IDENTITY:com.apple.calendar
X-APPLE-CREATOR-TEAM-IDENTITY:0000000000
X-APPLE-STRUCTURED-LOCATION;VALUE=URI;X-APPLE-MAPKIT-HANDLE=CAES4gEI2TIa
 Egl0CYfe4rpHQBHLh/sjZ/wrQCJnCgvDlnN0ZXJyZWljaBICQVQaClN0ZWllcm1hcmsqDUJl
 emlyayBMaWV6ZW4yB8OWYmxhcm46BDg5NjBCB8OWYmxhcm5SB8OWYmxhcm5aAjI2YgrDlmJs
 YXJuIDI2igEHw5ZibGFybioKw5ZibGFybiAyNjIKw5ZibGFybiAyNjIMODk2MCDDlmJsYXJu
 MgvDlnN0ZXJyZWljaDg5QABQAVonCiUSEgl0CYfe4rpHQBHLh/sjZ/wrQBjZMiDHj4Po89yn
 vJIBkAMB;X-APPLE-RADIUS=70.58735946348322;X-APPLE-REFERENCEFRAME=1;X-TIT
 LE="[ku:L] Kunst- & Kulturhaus Öblarn\n8960 Öblarn 26, Austria":geo:47.4
 60048,13.992974
BEGIN:VALARM
ACTION:DISPLAY
DESCRIPTION:This is an event reminder
TRIGGER:-P1D
UID:A4449477-3C11-44D3-AE1D-16287D87CEFF
X-WR-ALARMUID:A4449477-3C11-44D3-AE1D-16287D87CEFF
END:VALARM
BEGIN:VALARM
ACTION:DISPLAY
DESCRIPTION:This is an event reminder
TRIGGER:-PT1H
UID:F548110B-4C92-41EC-A1E4-AAB7E38B9653
X-WR-ALARMUID:F548110B-4C92-41EC-A1E4-AAB7E38B9653
END:VALARM
END:VEVENT
END:VCALENDAR
