BEGIN:VCALENDAR
CALSCALE:GREGORIAN
VERSION:2.0
BEGIN:VTIMEZONE
TZID:Europe/Vienna
BEGIN:DAYLIGHT
DTSTART:19810329T020000
RRULE:FREQ=YEARLY;BYMONTH=3;BYDAY=-1SU
TZNAME:MESZ
TZOFFSETFROM:+0100
TZOFFSETTO:+0200
END:DAYLIGHT
BEGIN:STANDARD
DTSTART:19961027T030000
RRULE:FREQ=YEARLY;BYMONTH=10;BYDAY=-1SU
TZNAME:MEZ
TZOFFSETFROM:+0200
TZOFFSETTO:+0100
END:STANDARD
END:VTIMEZONE
BEGIN:VEVENT
CREATED:20231221T170959Z
DESCRIPTION:Entdecken Sie Österreichs zwielichtige Seite mit Brecht/Weill-Songs auf Wienerisch!   Verruchter Charme, Ganoven und leichte Mädchen: &quot;Im Proda&quot; mit Freihaus 4in Öblarn.  FREIHAUS 4 sind: Tini Kainrath - Gesang, Sigi Finkel - Saxophon, Flöte, Monika Lang - Piano &amp; Melissa Coleman - Cello   Ganz im Trend liegen Freihaus 4 mit ihren  Brecht-Songs auf Wienerisch: Sie stehen an der Spitze der Renaissance  des Wiener Dialekts und der Wienerlieder. Und das nicht nur am Ort des  Geschehens, in Wien und im Wiener Prater, auch in Deutschland begeistert  der Wiener Lokalkolorit.   Freihaus 4 treffen mit den Geschichten aus einer  Zeit, als noch Klartext geredet wurde, voll ins Schwarze. Eine Kultur-  und Zeitreise präsentieren die 4 MusikerInnen von Freihaus 4, alle  bestens bekannt aus der Jazz- und Wienerliedszene:   Die Sensation und die kulturelle Bedeutung dieser  erstmaligen und einmaligen Bearbeitung der Brecht-Texte ins Wienerische  durch Tini Kainrath liegt auch darin, dass Brecht-Tochter Barbara als  Erbin die Einwilligung zur Bearbeitung gegeben hat. Sie ist überaus  zurückhaltend mit der Rechtevergabe. Umso mehr spricht dies für die  singuläre Idee und für die musikalische Qualität der Lieder in der  Bearbeitung durch die MusikerInnen von FREIHAUS 4.
DTEND;TZID=Europe/Vienna:20130314T235900
DTSTAMP:20231221T171224Z
DTSTART;TZID=Europe/Vienna:20130314T190000
LAST-MODIFIED:20231221T171210Z
LOCATION:[ku:L] Kunst- & Kulturhaus Öblarn\n8960 Öblarn 26\, Austria
SEQUENCE:0
STATUS:CONFIRMED
SUMMARY:Freihaus 4
TRANSP:OPAQUE
UID:95378F1D-9035-46E4-B853-04D9DBE28066
URL;VALUE=URI:https://www.kultur.st/events-archiv/freihaus-4
X-APPLE-CREATOR-IDENTITY:com.apple.calendar
X-APPLE-CREATOR-TEAM-IDENTITY:0000000000
X-APPLE-STRUCTURED-LOCATION;VALUE=URI;X-APPLE-MAPKIT-HANDLE=CAES4gEI2TIa
 Egl0CYfe4rpHQBHLh/sjZ/wrQCJnCgvDlnN0ZXJyZWljaBICQVQaClN0ZWllcm1hcmsqDUJl
 emlyayBMaWV6ZW4yB8OWYmxhcm46BDg5NjBCB8OWYmxhcm5SB8OWYmxhcm5aAjI2YgrDlmJs
 YXJuIDI2igEHw5ZibGFybioKw5ZibGFybiAyNjIKw5ZibGFybiAyNjIMODk2MCDDlmJsYXJu
 MgvDlnN0ZXJyZWljaDg5QABQAVonCiUSEgl0CYfe4rpHQBHLh/sjZ/wrQBjZMiDHj4Po89yn
 vJIBkAMB;X-APPLE-RADIUS=70.58735946348322;X-APPLE-REFERENCEFRAME=1;X-TIT
 LE="[ku:L] Kunst- & Kulturhaus Öblarn\n8960 Öblarn 26, Austria":geo:47.4
 60048,13.992974
BEGIN:VALARM
ACTION:DISPLAY
DESCRIPTION:This is an event reminder
TRIGGER:-P1D
UID:A4449477-3C11-44D3-AE1D-16287D87CEFF
X-WR-ALARMUID:A4449477-3C11-44D3-AE1D-16287D87CEFF
END:VALARM
BEGIN:VALARM
ACTION:DISPLAY
DESCRIPTION:This is an event reminder
TRIGGER:-PT1H
UID:F548110B-4C92-41EC-A1E4-AAB7E38B9653
X-WR-ALARMUID:F548110B-4C92-41EC-A1E4-AAB7E38B9653
END:VALARM
END:VEVENT
END:VCALENDAR
