BEGIN:VCALENDAR
CALSCALE:GREGORIAN
VERSION:2.0
BEGIN:VTIMEZONE
TZID:Europe/Vienna
BEGIN:DAYLIGHT
DTSTART:19810329T020000
RRULE:FREQ=YEARLY;BYMONTH=3;BYDAY=-1SU
TZNAME:MESZ
TZOFFSETFROM:+0100
TZOFFSETTO:+0200
END:DAYLIGHT
BEGIN:STANDARD
DTSTART:19961027T030000
RRULE:FREQ=YEARLY;BYMONTH=10;BYDAY=-1SU
TZNAME:MEZ
TZOFFSETFROM:+0200
TZOFFSETTO:+0100
END:STANDARD
END:VTIMEZONE
BEGIN:VEVENT
CREATED:20231221T170959Z
DESCRIPTION:Die Könige des Blues-Rock sind zurück auf unseren Bühnen. Nach einer langen Pause von mehr als 5 Jahren sind sie wieder da. Nach verschiedene Projekten in der Unterhaltungsbranche und Filmindustrie sind die Hohen Priester des Blues Rock wieder dort wo sie hin gehören: auf die Bühne. Das Quartett aus Los Angeles watet durch die Tiefen von Swamp- und Delta-Blues, predigt den Boogie. Sie sind auf Konzertbühnen ein unterhaltsamer Tornado, dessen mitreißende Kraft vor zotigen Witzen und verschwitztem Ganzkörpereinsatz nicht Halt macht. Ein Feuerwerk der guten Laune, das ist der mutierte, dreckige Blues, der - aus seinem akademischen Korsett befreit - in dunklen Kaschemmen, anrüchigen Strip-Clubs und liquor-stores heimisch ist. Die Imperial Crowns wollen unterhalten – und das tun sie mit gehörigem Können, Verve, Hingabe und teuflischem Witz. Es geht darüber hinaus die Mär, Jimmie Wood habe bereits für Springsteen und Hornsby die Harmonika geblasen und J.J. Holiday habe den Gitarristen für Dylan und Taj Mahal gegeben. Beide sind außerdem noch in der Original Blues Brothers Band (von John Belushi und Dan Aykroyd) aktiv gewesen. Unvergessen ihr Auftritt beim Crossroads Festival des WDR Rockpalast. 
  http://www.imperialcrowns.com/
DTEND;TZID=Europe/Vienna:20210508T235900
DTSTAMP:20231221T171224Z
DTSTART;TZID=Europe/Vienna:20210508T180000
LAST-MODIFIED:20231221T171210Z
LOCATION:[ku:L] Kunst- & Kulturhaus Öblarn\n8960 Öblarn 26\, Austria
SEQUENCE:0
STATUS:CONFIRMED
SUMMARY:Verschoben auf 2022 - Imperial Crowns - Los Angeles, CA
TRANSP:OPAQUE
UID:95378F1D-9035-46E4-B853-04D9DBE28066
URL;VALUE=URI:https://www.kultur.st/events-archiv/verschoben-auf-2022-imperial-crowns-los-angeles-ca
X-APPLE-CREATOR-IDENTITY:com.apple.calendar
X-APPLE-CREATOR-TEAM-IDENTITY:0000000000
X-APPLE-STRUCTURED-LOCATION;VALUE=URI;X-APPLE-MAPKIT-HANDLE=CAES4gEI2TIa
 Egl0CYfe4rpHQBHLh/sjZ/wrQCJnCgvDlnN0ZXJyZWljaBICQVQaClN0ZWllcm1hcmsqDUJl
 emlyayBMaWV6ZW4yB8OWYmxhcm46BDg5NjBCB8OWYmxhcm5SB8OWYmxhcm5aAjI2YgrDlmJs
 YXJuIDI2igEHw5ZibGFybioKw5ZibGFybiAyNjIKw5ZibGFybiAyNjIMODk2MCDDlmJsYXJu
 MgvDlnN0ZXJyZWljaDg5QABQAVonCiUSEgl0CYfe4rpHQBHLh/sjZ/wrQBjZMiDHj4Po89yn
 vJIBkAMB;X-APPLE-RADIUS=70.58735946348322;X-APPLE-REFERENCEFRAME=1;X-TIT
 LE="[ku:L] Kunst- & Kulturhaus Öblarn\n8960 Öblarn 26, Austria":geo:47.4
 60048,13.992974
BEGIN:VALARM
ACTION:DISPLAY
DESCRIPTION:This is an event reminder
TRIGGER:-P1D
UID:A4449477-3C11-44D3-AE1D-16287D87CEFF
X-WR-ALARMUID:A4449477-3C11-44D3-AE1D-16287D87CEFF
END:VALARM
BEGIN:VALARM
ACTION:DISPLAY
DESCRIPTION:This is an event reminder
TRIGGER:-PT1H
UID:F548110B-4C92-41EC-A1E4-AAB7E38B9653
X-WR-ALARMUID:F548110B-4C92-41EC-A1E4-AAB7E38B9653
END:VALARM
END:VEVENT
END:VCALENDAR
