BEGIN:VCALENDAR
CALSCALE:GREGORIAN
VERSION:2.0
BEGIN:VTIMEZONE
TZID:Europe/Vienna
BEGIN:DAYLIGHT
DTSTART:19810329T020000
RRULE:FREQ=YEARLY;BYMONTH=3;BYDAY=-1SU
TZNAME:MESZ
TZOFFSETFROM:+0100
TZOFFSETTO:+0200
END:DAYLIGHT
BEGIN:STANDARD
DTSTART:19961027T030000
RRULE:FREQ=YEARLY;BYMONTH=10;BYDAY=-1SU
TZNAME:MEZ
TZOFFSETFROM:+0200
TZOFFSETTO:+0100
END:STANDARD
END:VTIMEZONE
BEGIN:VEVENT
CREATED:20231221T170959Z
DESCRIPTION:Am 13. Juni 2026 lädt das [ku:L] Öblarn zu einer besonderen Premiere ein: Das musikalische Kinderbuch "Auch Schutzengel brauchen Freunde – eine himmlische Geschichte über wahre Freundschaft" wird erstmals live präsentiert. Die berührende Geschichte stammt aus der Feder von Walter Greimeister, die liebevollen, detailreichen Illustrationen stammen von Marlene Schaumberger. Das Publikum, Kinder wie Erwachsene, erwartet eine stimmungsvolle Mischung aus Lesung, Musik und Bildern. Erzählt und gespielt wird die Geschichte von einer feinen, handverlesenen Band rund um den Autor: Durch den Abend führt Christina Kukula.Walter Greimeister – GitarreJosef Schnedl – KlavierMichael Fuchs – DrumsHans Peter Knaus – BassGerit Knaus – GeigeGesang - SophieBesonderes Highlight: Eine kleine Ausstellung zeigt Originalillustrationen und Einblicke in die Entstehung des Buches, ein seltenes Fenster in die kreative Welt von Marlene Schaumberger.Die Präsentation verspricht ein warmherziger, poetischer Abend zu werden, ein Erlebnis für Familien, Musikliebhaber:innen und alle, die Geschichten über Freundschaft und Mut schätzen.Wir freuen uns auf einen Abend voller Fantasie, Musik und berührender Bilder!🎟️ Reservierung empfohlen:📞 0664 86 00 300 (telefonisch oder via WhatsApp)📧 tickets@kultur.st
DTEND;TZID=Europe/Vienna:20260613T235900
DTSTAMP:20231221T171224Z
DTSTART;TZID=Europe/Vienna:20260613T193000
LAST-MODIFIED:20231221T171210Z
LOCATION:[ku:L] Kunst- & Kulturhaus Öblarn\n8960 Öblarn 26\, Austria
SEQUENCE:0
STATUS:CONFIRMED
SUMMARY:Musikalische Buchpremiere: „Auch Schutzengel brauchen Freunde“
TRANSP:OPAQUE
UID:95378F1D-9035-46E4-B853-04D9DBE28066
URL;VALUE=URI:https://www.kultur.st/event/musikalische-buchpremiere-auch-schutzengel-brauchen-freunde
X-APPLE-CREATOR-IDENTITY:com.apple.calendar
X-APPLE-CREATOR-TEAM-IDENTITY:0000000000
X-APPLE-STRUCTURED-LOCATION;VALUE=URI;X-APPLE-MAPKIT-HANDLE=CAES4gEI2TIa
 Egl0CYfe4rpHQBHLh/sjZ/wrQCJnCgvDlnN0ZXJyZWljaBICQVQaClN0ZWllcm1hcmsqDUJl
 emlyayBMaWV6ZW4yB8OWYmxhcm46BDg5NjBCB8OWYmxhcm5SB8OWYmxhcm5aAjI2YgrDlmJs
 YXJuIDI2igEHw5ZibGFybioKw5ZibGFybiAyNjIKw5ZibGFybiAyNjIMODk2MCDDlmJsYXJu
 MgvDlnN0ZXJyZWljaDg5QABQAVonCiUSEgl0CYfe4rpHQBHLh/sjZ/wrQBjZMiDHj4Po89yn
 vJIBkAMB;X-APPLE-RADIUS=70.58735946348322;X-APPLE-REFERENCEFRAME=1;X-TIT
 LE="[ku:L] Kunst- & Kulturhaus Öblarn\n8960 Öblarn 26, Austria":geo:47.4
 60048,13.992974
BEGIN:VALARM
ACTION:DISPLAY
DESCRIPTION:This is an event reminder
TRIGGER:-P1D
UID:A4449477-3C11-44D3-AE1D-16287D87CEFF
X-WR-ALARMUID:A4449477-3C11-44D3-AE1D-16287D87CEFF
END:VALARM
BEGIN:VALARM
ACTION:DISPLAY
DESCRIPTION:This is an event reminder
TRIGGER:-PT1H
UID:F548110B-4C92-41EC-A1E4-AAB7E38B9653
X-WR-ALARMUID:F548110B-4C92-41EC-A1E4-AAB7E38B9653
END:VALARM
END:VEVENT
END:VCALENDAR
