BEGIN:VCALENDAR
CALSCALE:GREGORIAN
VERSION:2.0
BEGIN:VTIMEZONE
TZID:Europe/Vienna
BEGIN:DAYLIGHT
DTSTART:19810329T020000
RRULE:FREQ=YEARLY;BYMONTH=3;BYDAY=-1SU
TZNAME:MESZ
TZOFFSETFROM:+0100
TZOFFSETTO:+0200
END:DAYLIGHT
BEGIN:STANDARD
DTSTART:19961027T030000
RRULE:FREQ=YEARLY;BYMONTH=10;BYDAY=-1SU
TZNAME:MEZ
TZOFFSETFROM:+0200
TZOFFSETTO:+0100
END:STANDARD
END:VTIMEZONE
BEGIN:VEVENT
CREATED:20231221T170959Z
DESCRIPTION:Mediterrane Leichtigkeit, virtuose Gitarrenkunst und ein Trio, das seit Jahren wie aus einem Guss spielt, genau das erwartet dich, wenn das Manuel Randi Trio nach Öblarn kommt. Mit ihrem Programm "Music For Three" zeigen die drei Ausnahmemusiker, wie kraftvoll, feinfühlig und mitreißend ein gemeinsamer Klang werden kann. Manuel Randi entführt dich mit seiner unverwechselbaren Gitarrensprache in eine Welt voller Farben und Emotionen. An seiner Seite: Marco Stagni am Kontra- und E-Bass sowie Mario Punzi an Percussion und Drums. Zusammen formen sie einen Sound, der sofort unter die Haut geht, mal zart und poetisch, mal explosiv und voller Energie.Das Trio bewegt sich mühelos zwischen Flamenco, italienischer Folklore, Bossa-Elementen und modernen Fusion-Ansätzen. Jeder Titel öffnet ein neues musikalisches Fenster, jeder Moment überrascht mit feinen Details, Wärme und Spielfreude. Was die drei verbindet, ist eine beeindruckende musikalische Harmonie, die über viele Jahre gewachsen ist und in jedem Stück spürbar wird.Manuel Randi, bekannt aus dem Herbert Pixner Projekt und gefeiert auf internationalen Bühnen, zählt zu den vielseitigsten Gitarristen Italiens. "Music For Three" zeigt ihn in Bestform, virtuos, leidenschaftlich und mit einem unverkennbaren Stil.Ein Abend für alle, die Musik nicht nur hören, sondern erleben möchten.Freu dich auf ein Konzert voller Gefühl, Rhythmus und südlicher Seele, das noch lange nachklingt.Jetzt Plätze sichern und live dabei sein! 🎶🔥✨
DTEND;TZID=Europe/Vienna:20260412T235900
DTSTAMP:20231221T171224Z
DTSTART;TZID=Europe/Vienna:20260412T180000
LAST-MODIFIED:20231221T171210Z
LOCATION:[ku:L] Kunst- & Kulturhaus Öblarn\n8960 Öblarn 26\, Austria
SEQUENCE:0
STATUS:CONFIRMED
SUMMARY:Manuel Randi Trio
TRANSP:OPAQUE
UID:95378F1D-9035-46E4-B853-04D9DBE28066
URL;VALUE=URI:https://www.kultur.st/events-archiv/manuel-randi-trio-music-for-three
X-APPLE-CREATOR-IDENTITY:com.apple.calendar
X-APPLE-CREATOR-TEAM-IDENTITY:0000000000
X-APPLE-STRUCTURED-LOCATION;VALUE=URI;X-APPLE-MAPKIT-HANDLE=CAES4gEI2TIa
 Egl0CYfe4rpHQBHLh/sjZ/wrQCJnCgvDlnN0ZXJyZWljaBICQVQaClN0ZWllcm1hcmsqDUJl
 emlyayBMaWV6ZW4yB8OWYmxhcm46BDg5NjBCB8OWYmxhcm5SB8OWYmxhcm5aAjI2YgrDlmJs
 YXJuIDI2igEHw5ZibGFybioKw5ZibGFybiAyNjIKw5ZibGFybiAyNjIMODk2MCDDlmJsYXJu
 MgvDlnN0ZXJyZWljaDg5QABQAVonCiUSEgl0CYfe4rpHQBHLh/sjZ/wrQBjZMiDHj4Po89yn
 vJIBkAMB;X-APPLE-RADIUS=70.58735946348322;X-APPLE-REFERENCEFRAME=1;X-TIT
 LE="[ku:L] Kunst- & Kulturhaus Öblarn\n8960 Öblarn 26, Austria":geo:47.4
 60048,13.992974
BEGIN:VALARM
ACTION:DISPLAY
DESCRIPTION:This is an event reminder
TRIGGER:-P1D
UID:A4449477-3C11-44D3-AE1D-16287D87CEFF
X-WR-ALARMUID:A4449477-3C11-44D3-AE1D-16287D87CEFF
END:VALARM
BEGIN:VALARM
ACTION:DISPLAY
DESCRIPTION:This is an event reminder
TRIGGER:-PT1H
UID:F548110B-4C92-41EC-A1E4-AAB7E38B9653
X-WR-ALARMUID:F548110B-4C92-41EC-A1E4-AAB7E38B9653
END:VALARM
END:VEVENT
END:VCALENDAR
