BEGIN:VCALENDAR
CALSCALE:GREGORIAN
VERSION:2.0
BEGIN:VTIMEZONE
TZID:Europe/Vienna
BEGIN:DAYLIGHT
DTSTART:19810329T020000
RRULE:FREQ=YEARLY;BYMONTH=3;BYDAY=-1SU
TZNAME:MESZ
TZOFFSETFROM:+0100
TZOFFSETTO:+0200
END:DAYLIGHT
BEGIN:STANDARD
DTSTART:19961027T030000
RRULE:FREQ=YEARLY;BYMONTH=10;BYDAY=-1SU
TZNAME:MEZ
TZOFFSETFROM:+0200
TZOFFSETTO:+0100
END:STANDARD
END:VTIMEZONE
BEGIN:VEVENT
CREATED:20231221T170959Z
DESCRIPTION:VORSPIEL – das neue Konzertprogramm von STOAHOAT &amp; BAZWOACH Erleben Sie das Vorspiel der Waldviertler Crossover-Volxmusik STOAHOAT &amp; BAZWOACH in neuer Besetzung.Alexander Andorfer(Gitarre und Ukulele),Thomas Franz-Riegler(Percussion, Geige, Basstrompete und Hang),Josef Koppensteiner(Kontrabass, Posaune, ESFlügelhorn und Tuba),Johannes Teuschl(Harmonika, Flöten und Tuba) undWolfgang Walter(Geige, Bassflöte und Didgeridoo)begleiten Sie musikalisch durch den Abend.Natürlich ist jeder der fünf Musiker auch stimmlich vertreten. Die Vielseitigkeit ist also bei STOAHOAT &amp; BAZWOACH auch nach elf Bühnenjahren weiterhin ein besonderes Markenzeichen. Im neuen Konzertprogramm &quot;Vorspiel&quot; werden nicht nur aktuelle Themen wie Finanzkrise oder Umwelt beleuchtet. Auch Liebe, Leidenschaft oder Laster werden in all ihren Facetten dargestellt. Kurzum, es geht um Dinge bei denen ein Vorspiel ausdrücklich erwünscht ist! Freuen Sie sich auf einen witzigen und schwungvollen Konzertabend, auch wenn das Durchschnittsalter der Gruppe in den letzten drei Monaten um drei Jahre gestiegen ist.Seien Sie gespannt, denn eines ist sicher: Das wird noch ein Vorspiel haben!http://www.stoahoat.at
DTEND;TZID=Europe/Vienna:20101126T235900
DTSTAMP:20231221T171224Z
DTSTART;TZID=Europe/Vienna:20101126T190000
LAST-MODIFIED:20231221T171210Z
LOCATION:[ku:L] Kunst- & Kulturhaus Öblarn\n8960 Öblarn 26\, Austria
SEQUENCE:0
STATUS:CONFIRMED
SUMMARY:Stoahoat & Bazwoach
TRANSP:OPAQUE
UID:95378F1D-9035-46E4-B853-04D9DBE28066
URL;VALUE=URI:https://www.kultur.st/events-archiv/stoahoat-bazwoach
X-APPLE-CREATOR-IDENTITY:com.apple.calendar
X-APPLE-CREATOR-TEAM-IDENTITY:0000000000
X-APPLE-STRUCTURED-LOCATION;VALUE=URI;X-APPLE-MAPKIT-HANDLE=CAES4gEI2TIa
 Egl0CYfe4rpHQBHLh/sjZ/wrQCJnCgvDlnN0ZXJyZWljaBICQVQaClN0ZWllcm1hcmsqDUJl
 emlyayBMaWV6ZW4yB8OWYmxhcm46BDg5NjBCB8OWYmxhcm5SB8OWYmxhcm5aAjI2YgrDlmJs
 YXJuIDI2igEHw5ZibGFybioKw5ZibGFybiAyNjIKw5ZibGFybiAyNjIMODk2MCDDlmJsYXJu
 MgvDlnN0ZXJyZWljaDg5QABQAVonCiUSEgl0CYfe4rpHQBHLh/sjZ/wrQBjZMiDHj4Po89yn
 vJIBkAMB;X-APPLE-RADIUS=70.58735946348322;X-APPLE-REFERENCEFRAME=1;X-TIT
 LE="[ku:L] Kunst- & Kulturhaus Öblarn\n8960 Öblarn 26, Austria":geo:47.4
 60048,13.992974
BEGIN:VALARM
ACTION:DISPLAY
DESCRIPTION:This is an event reminder
TRIGGER:-P1D
UID:A4449477-3C11-44D3-AE1D-16287D87CEFF
X-WR-ALARMUID:A4449477-3C11-44D3-AE1D-16287D87CEFF
END:VALARM
BEGIN:VALARM
ACTION:DISPLAY
DESCRIPTION:This is an event reminder
TRIGGER:-PT1H
UID:F548110B-4C92-41EC-A1E4-AAB7E38B9653
X-WR-ALARMUID:F548110B-4C92-41EC-A1E4-AAB7E38B9653
END:VALARM
END:VEVENT
END:VCALENDAR
