BEGIN:VCALENDAR
CALSCALE:GREGORIAN
VERSION:2.0
BEGIN:VTIMEZONE
TZID:Europe/Vienna
BEGIN:DAYLIGHT
DTSTART:19810329T020000
RRULE:FREQ=YEARLY;BYMONTH=3;BYDAY=-1SU
TZNAME:MESZ
TZOFFSETFROM:+0100
TZOFFSETTO:+0200
END:DAYLIGHT
BEGIN:STANDARD
DTSTART:19961027T030000
RRULE:FREQ=YEARLY;BYMONTH=10;BYDAY=-1SU
TZNAME:MEZ
TZOFFSETFROM:+0200
TZOFFSETTO:+0100
END:STANDARD
END:VTIMEZONE
BEGIN:VEVENT
CREATED:20231221T170959Z
DESCRIPTION:Die drei Schwestern aus Donegal sind derzeit einer der gefragtesten Folk/Roots-Acts der Szene Karen (Fiddle Vocals), Lorna (Vocals, Accordeon) und Joleen McLaughlin (Harfe, Piano, Vocals) sind in ihrer Heimat Malin, einem malerischen Städtchen auf der Inish Eoghain Halbinsel in Nord Donegal, schon von jeher als &quot;The Henry Girls&quot; bekannt. Keiner weiß so recht warum, aber irgendwie blieb der ungewöhnliche Name an den drei Schwestern haften. Früh schon bekamen die jungen Mädchen Unterricht und zu Hause war mehrstimmiges Singen an der Tagesordnung, heute ist es ihr Markenzeichen. Erste Schritte ins Profi-Leben taten Karen und Lorna in Australien, während die jüngere Jolene zu Hause die Harfe spielen lernte. Neben den traditionellen Klängen ihrer Heimatgegend hörten sie früh die modernen Varianten des Irish Folk und Pop (etwa die legendären Clannad, ebenfalls aus Donegal), wendeten sich aber gleichfalls nach Westen, Richtung Amerika. Schon bald gehörten die Girls zu denen, die amerikanische Folk- und Bluegrass-Richtungen per musikalischer &quot;Transatlantic Connection&quot; wieder stärker mit den keltischen Wurzeln verbanden.Mittlerweile gelten sie als eine der wegweisenden neuen Folk Gruppen Irlands mit einem sehr persönlichen Stil. Neben weltweiten Konzerten, unzähligen TV- und Radioshows unterrichten sie, arbeiteten mit Stars wie Donal Lunny, Mary Black oder Moya Brennan und schreiben komplette Soundtracks für Filme und Theater.In ihrem Bühnen-Programm reisen sie in beiden Richtungen übers Meer und fischen in wilden Gefilden: New Folk, Bluegrass, Pop, Irish Tradition, Balladen, aber auch Anleihen bei den swingenden Andrew Sisters der 30er Jahre, Crosby Stills &amp; Nash oder den Dixie Chicks sind auszumachen. Typisch und eher un-irisch ist der komplexe und intensive dreistimmige Gesang, neben gekonnt abgestimmten Vokalharmonien mit einer zusätzlichen &quot;Gänsehaut&quot;-Intensität, die nur drei über ihre gemeinsamen Lebenslinien verbundene Geschwister erzeugen können. &quot;Die Henry Girls sind spektakulär...die besten Gesangsharmonien aus Donegal seit Clannad!&quot;- BBC&quot;The Henry Girls are the real deal. Their harmonies are the best in the business….The Everly Brothers, Mills Brothers, Henry Girls, Andrews Sisters - perfect ‘sibling blends’, perfect harmonies.” Bill Margeson, WDCB National Public Radio, Chicago
DTEND;TZID=Europe/Vienna:20200613T235900
DTSTAMP:20231221T171224Z
DTSTART;TZID=Europe/Vienna:20200613T180000
LAST-MODIFIED:20231221T171210Z
LOCATION:[ku:L] Kunst- & Kulturhaus Öblarn\n8960 Öblarn 26\, Austria
SEQUENCE:0
STATUS:CONFIRMED
SUMMARY:The Henry Girls - 20 Jahr Jubiläumstour - verschoben auf 12.06.2021
TRANSP:OPAQUE
UID:95378F1D-9035-46E4-B853-04D9DBE28066
URL;VALUE=URI:https://www.kultur.st/events-archiv/the-henry-girls-20-jahr-jubilaeumstour-verschoben-auf-12062021
X-APPLE-CREATOR-IDENTITY:com.apple.calendar
X-APPLE-CREATOR-TEAM-IDENTITY:0000000000
X-APPLE-STRUCTURED-LOCATION;VALUE=URI;X-APPLE-MAPKIT-HANDLE=CAES4gEI2TIa
 Egl0CYfe4rpHQBHLh/sjZ/wrQCJnCgvDlnN0ZXJyZWljaBICQVQaClN0ZWllcm1hcmsqDUJl
 emlyayBMaWV6ZW4yB8OWYmxhcm46BDg5NjBCB8OWYmxhcm5SB8OWYmxhcm5aAjI2YgrDlmJs
 YXJuIDI2igEHw5ZibGFybioKw5ZibGFybiAyNjIKw5ZibGFybiAyNjIMODk2MCDDlmJsYXJu
 MgvDlnN0ZXJyZWljaDg5QABQAVonCiUSEgl0CYfe4rpHQBHLh/sjZ/wrQBjZMiDHj4Po89yn
 vJIBkAMB;X-APPLE-RADIUS=70.58735946348322;X-APPLE-REFERENCEFRAME=1;X-TIT
 LE="[ku:L] Kunst- & Kulturhaus Öblarn\n8960 Öblarn 26, Austria":geo:47.4
 60048,13.992974
BEGIN:VALARM
ACTION:DISPLAY
DESCRIPTION:This is an event reminder
TRIGGER:-P1D
UID:A4449477-3C11-44D3-AE1D-16287D87CEFF
X-WR-ALARMUID:A4449477-3C11-44D3-AE1D-16287D87CEFF
END:VALARM
BEGIN:VALARM
ACTION:DISPLAY
DESCRIPTION:This is an event reminder
TRIGGER:-PT1H
UID:F548110B-4C92-41EC-A1E4-AAB7E38B9653
X-WR-ALARMUID:F548110B-4C92-41EC-A1E4-AAB7E38B9653
END:VALARM
END:VEVENT
END:VCALENDAR
