BEGIN:VCALENDAR
CALSCALE:GREGORIAN
VERSION:2.0
BEGIN:VTIMEZONE
TZID:Europe/Vienna
BEGIN:DAYLIGHT
DTSTART:19810329T020000
RRULE:FREQ=YEARLY;BYMONTH=3;BYDAY=-1SU
TZNAME:MESZ
TZOFFSETFROM:+0100
TZOFFSETTO:+0200
END:DAYLIGHT
BEGIN:STANDARD
DTSTART:19961027T030000
RRULE:FREQ=YEARLY;BYMONTH=10;BYDAY=-1SU
TZNAME:MEZ
TZOFFSETFROM:+0200
TZOFFSETTO:+0100
END:STANDARD
END:VTIMEZONE
BEGIN:VEVENT
CREATED:20231221T170959Z
DESCRIPTION:Alles wird teurer, das spüren wir beim Einkaufen, bei der Miete oder an der Tankstelle. Aber was steckt eigentlich dahinter? In diesem Vortrag wird einfach und verständlich erklärt, was Inflation ist, wie sie entsteht und warum sie manche Menschen stärker trifft als andere. Wir schauen uns nicht nur die offiziellen Zahlen an, sondern auch die Realität im Alltag: Stimmen diese Zahlen mit dem überein, was wir tatsächlich bezahlen? Anhand realer Beispiele, von Lebensmitteln über Immobilienpreise in der Region bis hin zu Dienstleistungen, wird greifbar gezeigt, wie sich Preise in den letzten Jahren verändert haben.Am Ende geht es um die wichtigste Frage: Was kann ich selbst tun? Du bekommst konkrete, alltagstaugliche Ansätze vom bewussteren Konsum über einfache finanzielle Entscheidungen bis hin zu Möglichkeiten, der Inflation aktiv entgegenzuwirken und dir langfristig etwas für die Zukunft aufzubauen.Der Vortrag richtet sich an alle, die verstehen wollen, warum wir uns heute oft weniger leisten können als früher und wie wir dem in Zukunft gezielt entgegenwirken können.Dieser Vortrag versteht sich als reiner Infovortrag und dient NICHT zur Anlageberatung oder zum Verkauf von Produkten oder Investmentstrategien!
DTEND;TZID=Europe/Vienna:20260618T235900
DTSTAMP:20231221T171224Z
DTSTART;TZID=Europe/Vienna:20260618T193000
LAST-MODIFIED:20231221T171210Z
LOCATION:[ku:L] Kunst- & Kulturhaus Öblarn\n8960 Öblarn 26\, Austria
SEQUENCE:0
STATUS:CONFIRMED
SUMMARY:Warum wir immer ärmer werden und was wir dagegen tun können
TRANSP:OPAQUE
UID:95378F1D-9035-46E4-B853-04D9DBE28066
URL;VALUE=URI:https://www.kultur.st/event/warum-wir-immer-aermer-werden-und-was-wir-dagegen-tun-koennen
X-APPLE-CREATOR-IDENTITY:com.apple.calendar
X-APPLE-CREATOR-TEAM-IDENTITY:0000000000
X-APPLE-STRUCTURED-LOCATION;VALUE=URI;X-APPLE-MAPKIT-HANDLE=CAES4gEI2TIa
 Egl0CYfe4rpHQBHLh/sjZ/wrQCJnCgvDlnN0ZXJyZWljaBICQVQaClN0ZWllcm1hcmsqDUJl
 emlyayBMaWV6ZW4yB8OWYmxhcm46BDg5NjBCB8OWYmxhcm5SB8OWYmxhcm5aAjI2YgrDlmJs
 YXJuIDI2igEHw5ZibGFybioKw5ZibGFybiAyNjIKw5ZibGFybiAyNjIMODk2MCDDlmJsYXJu
 MgvDlnN0ZXJyZWljaDg5QABQAVonCiUSEgl0CYfe4rpHQBHLh/sjZ/wrQBjZMiDHj4Po89yn
 vJIBkAMB;X-APPLE-RADIUS=70.58735946348322;X-APPLE-REFERENCEFRAME=1;X-TIT
 LE="[ku:L] Kunst- & Kulturhaus Öblarn\n8960 Öblarn 26, Austria":geo:47.4
 60048,13.992974
BEGIN:VALARM
ACTION:DISPLAY
DESCRIPTION:This is an event reminder
TRIGGER:-P1D
UID:A4449477-3C11-44D3-AE1D-16287D87CEFF
X-WR-ALARMUID:A4449477-3C11-44D3-AE1D-16287D87CEFF
END:VALARM
BEGIN:VALARM
ACTION:DISPLAY
DESCRIPTION:This is an event reminder
TRIGGER:-PT1H
UID:F548110B-4C92-41EC-A1E4-AAB7E38B9653
X-WR-ALARMUID:F548110B-4C92-41EC-A1E4-AAB7E38B9653
END:VALARM
END:VEVENT
END:VCALENDAR
