BEGIN:VCALENDAR
CALSCALE:GREGORIAN
VERSION:2.0
BEGIN:VTIMEZONE
TZID:Europe/Vienna
BEGIN:DAYLIGHT
DTSTART:19810329T020000
RRULE:FREQ=YEARLY;BYMONTH=3;BYDAY=-1SU
TZNAME:MESZ
TZOFFSETFROM:+0100
TZOFFSETTO:+0200
END:DAYLIGHT
BEGIN:STANDARD
DTSTART:19961027T030000
RRULE:FREQ=YEARLY;BYMONTH=10;BYDAY=-1SU
TZNAME:MEZ
TZOFFSETFROM:+0200
TZOFFSETTO:+0100
END:STANDARD
END:VTIMEZONE
BEGIN:VEVENT
CREATED:20231221T170959Z
DESCRIPTION:Tickets: via Whatsapp Tel 0664 8600300 oder telefonisch       oder an tickets@kultur.st        Eintritt: EUR 21/23/23/25            Vvk Mitgl./ Abendk. Mitgl/Vvk Nichtmitgl./ Abendk. Nichtmitgl.  Markus Binder: Schlagzeug, Stimme HP Falkner: Akkordeon, Stimme Mit dem Album Spot wird der Fokus auf die kurze Form gerichtet. 12 Stücke mit einer Länge von 2 Minuten pluswechseln sich konsequentmit11 Jingles um die 60 Sekunden ab. 23 Songs in 40 Minuten. Lang lebe die Kurzlebigkeit! Dafür umso öfter hören!Thematisch beleuchtet Spot Folgendes: Nichtalleinesein, Tourismusunfalltourismus, Ende der bekannten Welt, Gegenübertum, Unfugsfuge, Minimalismus, Erfrorenheit, spontane Homoerotik, Monodialog, Wortroulade, Immernochsong, Leckfunk, Jalousienblick, Überwachungsfolgen, Leere Versprechungen, Polkapunk, Automatisierung, Schweigen, Davonlaufen, Wohnen, Quatsch, Plärren, Alleinesein.25 Jahre nach unserem allerersten Konzert im April 1990, dem in der Zwischenzeit 750 Auftritte in 20 Ländern gefolgt sind, erscheint mit Spot das 8. Studioalbum: Attwengern auf dem neuesten Stand. Nach der Gründung unter dem Motto: Wir sind diejenigen auf die wir gewartet haben, waren wir von Anfang an darauf aus, mit dem Pfeil ins Schwarze zu treffen und nicht mit Granaten ins Blaue zu ballern. Auch auf Spot wird der minimalistische Mix aus traditionellem Material und afroamerikanischen Einflüssen weiterentwickelt, diesmal wieder unter verstärktem Einsatz elektronischer Sounds. Und mit Singsang im oberösterreichischem Dialekt. Wenn sie die Sprache nicht verstehen, soll sie das nicht daran hindern, Attwenger zu verstehen. In diesem Sinn: Ride on!www.attwenger.at
DTEND;TZID=Europe/Vienna:20220525T235900
DTSTAMP:20231221T171224Z
DTSTART;TZID=Europe/Vienna:20220525T180000
LAST-MODIFIED:20231221T171210Z
LOCATION:[ku:L] Kunst- & Kulturhaus Öblarn\n8960 Öblarn 26\, Austria
SEQUENCE:0
STATUS:CONFIRMED
SUMMARY:Attwenger
TRANSP:OPAQUE
UID:95378F1D-9035-46E4-B853-04D9DBE28066
URL;VALUE=URI:https://www.kultur.st/events-archiv/attwenger
X-APPLE-CREATOR-IDENTITY:com.apple.calendar
X-APPLE-CREATOR-TEAM-IDENTITY:0000000000
X-APPLE-STRUCTURED-LOCATION;VALUE=URI;X-APPLE-MAPKIT-HANDLE=CAES4gEI2TIa
 Egl0CYfe4rpHQBHLh/sjZ/wrQCJnCgvDlnN0ZXJyZWljaBICQVQaClN0ZWllcm1hcmsqDUJl
 emlyayBMaWV6ZW4yB8OWYmxhcm46BDg5NjBCB8OWYmxhcm5SB8OWYmxhcm5aAjI2YgrDlmJs
 YXJuIDI2igEHw5ZibGFybioKw5ZibGFybiAyNjIKw5ZibGFybiAyNjIMODk2MCDDlmJsYXJu
 MgvDlnN0ZXJyZWljaDg5QABQAVonCiUSEgl0CYfe4rpHQBHLh/sjZ/wrQBjZMiDHj4Po89yn
 vJIBkAMB;X-APPLE-RADIUS=70.58735946348322;X-APPLE-REFERENCEFRAME=1;X-TIT
 LE="[ku:L] Kunst- & Kulturhaus Öblarn\n8960 Öblarn 26, Austria":geo:47.4
 60048,13.992974
BEGIN:VALARM
ACTION:DISPLAY
DESCRIPTION:This is an event reminder
TRIGGER:-P1D
UID:A4449477-3C11-44D3-AE1D-16287D87CEFF
X-WR-ALARMUID:A4449477-3C11-44D3-AE1D-16287D87CEFF
END:VALARM
BEGIN:VALARM
ACTION:DISPLAY
DESCRIPTION:This is an event reminder
TRIGGER:-PT1H
UID:F548110B-4C92-41EC-A1E4-AAB7E38B9653
X-WR-ALARMUID:F548110B-4C92-41EC-A1E4-AAB7E38B9653
END:VALARM
END:VEVENT
END:VCALENDAR
