BEGIN:VCALENDAR
CALSCALE:GREGORIAN
VERSION:2.0
BEGIN:VTIMEZONE
TZID:Europe/Vienna
BEGIN:DAYLIGHT
DTSTART:19810329T020000
RRULE:FREQ=YEARLY;BYMONTH=3;BYDAY=-1SU
TZNAME:MESZ
TZOFFSETFROM:+0100
TZOFFSETTO:+0200
END:DAYLIGHT
BEGIN:STANDARD
DTSTART:19961027T030000
RRULE:FREQ=YEARLY;BYMONTH=10;BYDAY=-1SU
TZNAME:MEZ
TZOFFSETFROM:+0200
TZOFFSETTO:+0100
END:STANDARD
END:VTIMEZONE
BEGIN:VEVENT
CREATED:20231221T170959Z
DESCRIPTION:Freies, offenes Tanzen in einem geschützten Rahmen!Das Konzept des Dance Clubbings klingt nach einer inspirierenden Möglichkeit, Tanzen neu zu erleben – abseits von Leistungsdruck und Konventionen. Es bietet Raum, in dem individuelle Bewegungen und nonverbale Kommunikation im Vordergrund stehen. Kommende Termine: 28.05./ 25.06.2025Ganz ohne Vorgaben oder feste Schritte - hier zählt nur, dass du dich so bewegst, wie es sich für dich richtig anfühlt. Hier gibt es kein Richtig oder Falsch, hier brauchst du keine Tanzschritte erlernen, sondern dich einfach so bewegen wie dir gerade zumute ist.Jeder Eindruck im Leben braucht seinen Ausdruck und viele Gefühle und Emotionen, aber auch Eindrücke wie Lärm, Stress oder Probleme in der Arbeit müssen täglich verarbeitet und können oft nicht mit Worten ausgedrückt werden (80% unserer menschlichen Kommunikation findet nonverbal statt).Isadora Duncan, die Pionierin des Ausdruckstanzes, brachte es auf den Punkt indem sie sagte: "Wenn wir es mit Worten sagen könnten, bräuchten wir nicht zu tanzen."Egal, ob du alleine kommst oder mit Freunden, du bist sofort Teil unserer offenen, wertschätzenden Tanz-Community – daher zieh deine Tanzschuhe an, lass den Alltag hinter dir, begib dich auf eine besondere Reise – hin zu mehr Leichtigkeit, Selbstausdruck und innerer Balance - TANZ DICH FREI!Wir freuen uns auf dich!Kursort: [ku:L] Öblarn19:00 – 23:00 UhrAnmeldung und weitere Informationen:Um sich anzumelden oder weitere Informationen zu erhalten, kontaktiere uns bitte perE-mail unter: info@kultur.st oder telefonisch 0664/86 00 300.
DTEND;TZID=Europe/Vienna:20250423T235900
DTSTAMP:20231221T171224Z
DTSTART;TZID=Europe/Vienna:20250423T190000
LAST-MODIFIED:20231221T171210Z
LOCATION:[ku:L] Kunst- & Kulturhaus Öblarn\n8960 Öblarn 26\, Austria
SEQUENCE:0
STATUS:CONFIRMED
SUMMARY:Abgesagt ! - Dance Clubbing
TRANSP:OPAQUE
UID:95378F1D-9035-46E4-B853-04D9DBE28066
URL;VALUE=URI:https://www.kultur.st/events-archiv/dance-clubbing-4
X-APPLE-CREATOR-IDENTITY:com.apple.calendar
X-APPLE-CREATOR-TEAM-IDENTITY:0000000000
X-APPLE-STRUCTURED-LOCATION;VALUE=URI;X-APPLE-MAPKIT-HANDLE=CAES4gEI2TIa
 Egl0CYfe4rpHQBHLh/sjZ/wrQCJnCgvDlnN0ZXJyZWljaBICQVQaClN0ZWllcm1hcmsqDUJl
 emlyayBMaWV6ZW4yB8OWYmxhcm46BDg5NjBCB8OWYmxhcm5SB8OWYmxhcm5aAjI2YgrDlmJs
 YXJuIDI2igEHw5ZibGFybioKw5ZibGFybiAyNjIKw5ZibGFybiAyNjIMODk2MCDDlmJsYXJu
 MgvDlnN0ZXJyZWljaDg5QABQAVonCiUSEgl0CYfe4rpHQBHLh/sjZ/wrQBjZMiDHj4Po89yn
 vJIBkAMB;X-APPLE-RADIUS=70.58735946348322;X-APPLE-REFERENCEFRAME=1;X-TIT
 LE="[ku:L] Kunst- & Kulturhaus Öblarn\n8960 Öblarn 26, Austria":geo:47.4
 60048,13.992974
BEGIN:VALARM
ACTION:DISPLAY
DESCRIPTION:This is an event reminder
TRIGGER:-P1D
UID:A4449477-3C11-44D3-AE1D-16287D87CEFF
X-WR-ALARMUID:A4449477-3C11-44D3-AE1D-16287D87CEFF
END:VALARM
BEGIN:VALARM
ACTION:DISPLAY
DESCRIPTION:This is an event reminder
TRIGGER:-PT1H
UID:F548110B-4C92-41EC-A1E4-AAB7E38B9653
X-WR-ALARMUID:F548110B-4C92-41EC-A1E4-AAB7E38B9653
END:VALARM
END:VEVENT
END:VCALENDAR
