BEGIN:VCALENDAR
CALSCALE:GREGORIAN
VERSION:2.0
BEGIN:VTIMEZONE
TZID:Europe/Vienna
BEGIN:DAYLIGHT
DTSTART:19810329T020000
RRULE:FREQ=YEARLY;BYMONTH=3;BYDAY=-1SU
TZNAME:MESZ
TZOFFSETFROM:+0100
TZOFFSETTO:+0200
END:DAYLIGHT
BEGIN:STANDARD
DTSTART:19961027T030000
RRULE:FREQ=YEARLY;BYMONTH=10;BYDAY=-1SU
TZNAME:MEZ
TZOFFSETFROM:+0200
TZOFFSETTO:+0100
END:STANDARD
END:VTIMEZONE
BEGIN:VEVENT
CREATED:20231221T170959Z
DESCRIPTION:Ein Vortrag von Herbert Raffalt. Das Colorado Plateau im Südwesten der USA zählt mit seiner wild zerklüfteten Erosionslandschaft zu den faszinierendsten Regionen Nordamerikas. Hier werden die schöpferischen Kräfte der Natur in einem einzigartigen Spiel der Formen und Farben sichtbar. In Jahrmillionen entstand hier eine Landschaft, die zu einem Ensemble phantastischer Felsskulpturen geworden ist. Durch die spärliche Vegetation der Halbwüste kaum verborgen, liegt das steinerne Skelett der Erde unverhüllt brach. Die aus rotem Sandstein geformten Figuren oder auch die engen Schluchten, sogenannten „Slot-Canyons“ üben auf Fotografen und Naturfreaks gleichermaßen eine unwiderstehliche Anziehungskraft aus. Ein amerikanischer Fotograf verglich die Szenerie gar mit einer aus Stein geschriebenen Symphonie. Wenn man sich die geschwungenen Formen mit ihren gleichmäßigen Linien im Fels anschaut, könnte man diesen Vergleich sogar nachvollziehen. Für manche dieser schwer zugänglichen Canyons wie etwa der „Paria Vermilion Cliffs Wilderness“ sind Permits erforderlich. Solche Zutrittsgenehmigungen, die nur das das Büro für Land Management erteilen kann, gleichen einem Lottogewinn und sind dementsprechend begehrt.  Herbert Raffalt, geboren 1964 in Schladming am Dachstein ist immer wieder im Südwesten der USA unterwegs. Der Vortrag zum Thema USA/CANYONLAND lässt teilhaben an der besonderen Faszination dieser Landschaft und führen zu den wenig bekannten und teilweise verstecken Kostbarkeiten des Colorado-Plateaus. Besondere Highlights sind die Bilder aus dem „Antelop-Canyon“ und der „Wave“ im Paria-Canyon. Herbert Raffalt berichtet von einem faszinierenden Land und einer traumhaften Reise ins rote Herz Amerikas.
DTEND;TZID=Europe/Vienna:20141031T235900
DTSTAMP:20231221T171224Z
DTSTART;TZID=Europe/Vienna:20141031T190000
LAST-MODIFIED:20231221T171210Z
LOCATION:[ku:L] Kunst- & Kulturhaus Öblarn\n8960 Öblarn 26\, Austria
SEQUENCE:0
STATUS:CONFIRMED
SUMMARY:USA /Canyonland - Das rote Herz Amerikas
TRANSP:OPAQUE
UID:95378F1D-9035-46E4-B853-04D9DBE28066
URL;VALUE=URI:https://www.kultur.st/events-archiv/usa-canyonland-das-rote-herz-amerikas
X-APPLE-CREATOR-IDENTITY:com.apple.calendar
X-APPLE-CREATOR-TEAM-IDENTITY:0000000000
X-APPLE-STRUCTURED-LOCATION;VALUE=URI;X-APPLE-MAPKIT-HANDLE=CAES4gEI2TIa
 Egl0CYfe4rpHQBHLh/sjZ/wrQCJnCgvDlnN0ZXJyZWljaBICQVQaClN0ZWllcm1hcmsqDUJl
 emlyayBMaWV6ZW4yB8OWYmxhcm46BDg5NjBCB8OWYmxhcm5SB8OWYmxhcm5aAjI2YgrDlmJs
 YXJuIDI2igEHw5ZibGFybioKw5ZibGFybiAyNjIKw5ZibGFybiAyNjIMODk2MCDDlmJsYXJu
 MgvDlnN0ZXJyZWljaDg5QABQAVonCiUSEgl0CYfe4rpHQBHLh/sjZ/wrQBjZMiDHj4Po89yn
 vJIBkAMB;X-APPLE-RADIUS=70.58735946348322;X-APPLE-REFERENCEFRAME=1;X-TIT
 LE="[ku:L] Kunst- & Kulturhaus Öblarn\n8960 Öblarn 26, Austria":geo:47.4
 60048,13.992974
BEGIN:VALARM
ACTION:DISPLAY
DESCRIPTION:This is an event reminder
TRIGGER:-P1D
UID:A4449477-3C11-44D3-AE1D-16287D87CEFF
X-WR-ALARMUID:A4449477-3C11-44D3-AE1D-16287D87CEFF
END:VALARM
BEGIN:VALARM
ACTION:DISPLAY
DESCRIPTION:This is an event reminder
TRIGGER:-PT1H
UID:F548110B-4C92-41EC-A1E4-AAB7E38B9653
X-WR-ALARMUID:F548110B-4C92-41EC-A1E4-AAB7E38B9653
END:VALARM
END:VEVENT
END:VCALENDAR
