BEGIN:VCALENDAR
CALSCALE:GREGORIAN
VERSION:2.0
BEGIN:VTIMEZONE
TZID:Europe/Vienna
BEGIN:DAYLIGHT
DTSTART:19810329T020000
RRULE:FREQ=YEARLY;BYMONTH=3;BYDAY=-1SU
TZNAME:MESZ
TZOFFSETFROM:+0100
TZOFFSETTO:+0200
END:DAYLIGHT
BEGIN:STANDARD
DTSTART:19961027T030000
RRULE:FREQ=YEARLY;BYMONTH=10;BYDAY=-1SU
TZNAME:MEZ
TZOFFSETFROM:+0200
TZOFFSETTO:+0100
END:STANDARD
END:VTIMEZONE
BEGIN:VEVENT
CREATED:20231221T170959Z
DESCRIPTION:Sonntag, 03. Mai 202610:00 – 12:30 Workshop 1 – Thema: Bewegungsvokabular € 50,-14:00 – 16:30 Workshop 2 – Thema: Komposition in Bewegung € 50,-WS 1 + WS 2 € 90,-Kursort: ÖHAFür diese beiden Workshops hat Gloria zwei neue Konzepte entwickelt. Beide bauen auf ihre bisherige Arbeit in Modern &amp; Contemporary Dance auf und integrierenihre body-tells-Praxis, sind aberklar unterschiedlich und ergänzen sich perfekt. WORKSHOP 1 — BewegungsvokabularEntdecke Qualitäten, Texturen, Geschwindigkeiten und Richtungen und erweitere dein eigenes Movement VocabularyDauer:2h 30 minLevel:Open Level für alle Teilnehmenden geeignetZeit:Vormittag 10:00 – 12:30Dieser Workshop konzentriert sich auf dieinnere Entdeckung des eigenen Körpers.Wir erforschen, fühlen und experimentieren mit den Möglichkeiten unseres Bewegungsrepertoires. Ziel ist es, dein persönliches Bewegungsvokabular zu erweitern, ohne Druck oder Vorgaben.Hier liegt der Schwerpunkt aufErkundung und sensorischem Lernen.Was dich erwartet:Mobility:Sanfte Aktivierung der Gelenke, Atemübungen, Gewichtsverlagerung und Körperbewusstsein.Dance(Modern &amp; Contemporary):Zugängliche Bewegungssequenzen, die du bewusst mit verschiedenen Qualitäten, Geschwindigkeiten und Richtungen variieren kannst.Kreativer Ausdruck:Explorationen und Übungen, um neue Versionen deiner gewohnten Bewegungen zu entdecken – jede/r bewegt sich auf individuelle Weise.Integration &amp; Relaxation:Sanfter Abschluss, um loszulassen, zu integrieren und die Bewegungen zu verinnerlichen.Perfekt, wenn du…dein Bewegungsvokabular erweitern willstneue Bewegungswege entdecken möchtestneugierig und spielerisch deinen Körper erleben willstdie Qualitäten des Bewegens kennenlernen willsteine sensorische, freie Bewegungsreise erleben willst.WORKSHOP 2 — Movement Composition Mini-LabVerwandle Bewegungen in kleine Kompositionen: Kreation, Struktur und SpielDauer:2h 30 minLevel:Open Level für alle Teilnehmenden geeignetZeit:Nachmittag 14:00 – 16:30Dieser Workshop legt den Fokus auf dieäußere Umsetzung und Strukturierung von Bewegung.Wir nutzen eigene Bewegungsimpulse, um darauskleine Phrasen, Sequenzen und einfache Kompositionenzu gestalten. Ziel ist es, Bewegung kreativ zu formen, zu arrangieren und sichtbar zu machen.Hier liegt der Schwerpunkt aufSchaffung, Struktur und Komposition.Was dich erwartetMobilityKurze Aktivierung des Körpers, um präsent, fokussiert und bereit für kreative Gestaltung zu sein.Dance &amp; StrukturAufbau und Transformation von Bewegungssequenzen: drehen, beschleunigen, erweitern, Level- und Richtungswechsel einbauen.Creative CompositionMini-Labs zur Erstellung eigener Sequenzen, Solos oder Duett-Phrasen – die Bewegung wird sichtbar und choreografisch umgesetzt.Integration &amp; RelaxationSanfter Abschluss, um die Kreationen zu reflektieren, Spannungen loszulassen und die Bewegungsenergie harmonisch abzurunden.Perfekt, wenn du…lernen willst, Bewegungen in Choreografien zu verwandelnspielerisch mit Struktur, Wiederholung und Variation experimentieren willstFreude an kreativer Gestaltung ohne Leistungsdruck hastsehen willst, wie persönliche Bewegungsideen zu kleinen Kompositionen werden.info@body-tells.com
DTEND;TZID=Europe/Vienna:20260503T235900
DTSTAMP:20231221T171224Z
DTSTART;TZID=Europe/Vienna:20260503T100000
LAST-MODIFIED:20231221T171210Z
LOCATION:[ku:L] Kunst- & Kulturhaus Öblarn\n8960 Öblarn 26\, Austria
SEQUENCE:0
STATUS:CONFIRMED
SUMMARY:Modern &amp; Contemporary Dance
TRANSP:OPAQUE
UID:95378F1D-9035-46E4-B853-04D9DBE28066
URL;VALUE=URI:https://www.kultur.st/event/modern-comtemporary-dance-neues-konzept-mit-gloria-cavet
X-APPLE-CREATOR-IDENTITY:com.apple.calendar
X-APPLE-CREATOR-TEAM-IDENTITY:0000000000
X-APPLE-STRUCTURED-LOCATION;VALUE=URI;X-APPLE-MAPKIT-HANDLE=CAES4gEI2TIa
 Egl0CYfe4rpHQBHLh/sjZ/wrQCJnCgvDlnN0ZXJyZWljaBICQVQaClN0ZWllcm1hcmsqDUJl
 emlyayBMaWV6ZW4yB8OWYmxhcm46BDg5NjBCB8OWYmxhcm5SB8OWYmxhcm5aAjI2YgrDlmJs
 YXJuIDI2igEHw5ZibGFybioKw5ZibGFybiAyNjIKw5ZibGFybiAyNjIMODk2MCDDlmJsYXJu
 MgvDlnN0ZXJyZWljaDg5QABQAVonCiUSEgl0CYfe4rpHQBHLh/sjZ/wrQBjZMiDHj4Po89yn
 vJIBkAMB;X-APPLE-RADIUS=70.58735946348322;X-APPLE-REFERENCEFRAME=1;X-TIT
 LE="[ku:L] Kunst- & Kulturhaus Öblarn\n8960 Öblarn 26, Austria":geo:47.4
 60048,13.992974
BEGIN:VALARM
ACTION:DISPLAY
DESCRIPTION:This is an event reminder
TRIGGER:-P1D
UID:A4449477-3C11-44D3-AE1D-16287D87CEFF
X-WR-ALARMUID:A4449477-3C11-44D3-AE1D-16287D87CEFF
END:VALARM
BEGIN:VALARM
ACTION:DISPLAY
DESCRIPTION:This is an event reminder
TRIGGER:-PT1H
UID:F548110B-4C92-41EC-A1E4-AAB7E38B9653
X-WR-ALARMUID:F548110B-4C92-41EC-A1E4-AAB7E38B9653
END:VALARM
END:VEVENT
END:VCALENDAR
