BEGIN:VCALENDAR
CALSCALE:GREGORIAN
VERSION:2.0
BEGIN:VTIMEZONE
TZID:Europe/Vienna
BEGIN:DAYLIGHT
DTSTART:19810329T020000
RRULE:FREQ=YEARLY;BYMONTH=3;BYDAY=-1SU
TZNAME:MESZ
TZOFFSETFROM:+0100
TZOFFSETTO:+0200
END:DAYLIGHT
BEGIN:STANDARD
DTSTART:19961027T030000
RRULE:FREQ=YEARLY;BYMONTH=10;BYDAY=-1SU
TZNAME:MEZ
TZOFFSETFROM:+0200
TZOFFSETTO:+0100
END:STANDARD
END:VTIMEZONE
BEGIN:VEVENT
CREATED:20231221T170959Z
DESCRIPTION:Lena und Paula, zwei engagierte junge Frauen aus der Steiermark, nehmen Sie mit auf eine bewegende Reise voller Erlebnisse, die ihr Leben verändert haben. Die beiden 20-Jährigen haben im Jahr 2024 an der Bafep in Liezen maturiert und arbeiten nun als Kindergartenpädagoginnen. Im September 2024 erfüllten sie sich einen lang gehegten Traum: Ein Monat Afrika, in dem sie in Waisenhäusern, Schulen und Krankenhäusern freiwillig mithalfen und eine neue, inspirierende Welt entdeckten.Ihre Erlebnisse reichen von tief berührenden Momenten bis hin zu unvergesslichen Begegnungen, die sie prägten und motivierten, selbst aktiv zu werden. Aus diesen Erfahrungen entstand ein Hilfsprojekt, das Menschen und Kindern in Afrika eine Perspektive geben soll.An diesem Abend teilen Lena und Paula ihre Geschichte, untermalt mit Bildern, Videos und persönlichen Eindrücken. Lassen Sie sich inspirieren und erleben Sie, wie aus einem Monat Afrika eine lebenslange Mission wurde.Die gesamten Einnahmen kommen zu 100 % dem Hilfsprojekt von Lena und Paula zugute.Verpassen Sie nicht diesen besonderen Abend voller Emotionen, Eindrücke und Hoffnung - für eine bessere Welt!Reservierung unter:0664 86 00 300 (WhatsApp oder telefonisch) sowie unter tickets@kultur.st
DTEND;TZID=Europe/Vienna:20250306T235900
DTSTAMP:20231221T171224Z
DTSTART;TZID=Europe/Vienna:20250306T193000
LAST-MODIFIED:20231221T171210Z
LOCATION:[ku:L] Kunst- & Kulturhaus Öblarn\n8960 Öblarn 26\, Austria
SEQUENCE:0
STATUS:CONFIRMED
SUMMARY:Erlebnisse in Afrika
TRANSP:OPAQUE
UID:95378F1D-9035-46E4-B853-04D9DBE28066
URL;VALUE=URI:https://www.kultur.st/events-archiv/erlebnisse-in-afrika
X-APPLE-CREATOR-IDENTITY:com.apple.calendar
X-APPLE-CREATOR-TEAM-IDENTITY:0000000000
X-APPLE-STRUCTURED-LOCATION;VALUE=URI;X-APPLE-MAPKIT-HANDLE=CAES4gEI2TIa
 Egl0CYfe4rpHQBHLh/sjZ/wrQCJnCgvDlnN0ZXJyZWljaBICQVQaClN0ZWllcm1hcmsqDUJl
 emlyayBMaWV6ZW4yB8OWYmxhcm46BDg5NjBCB8OWYmxhcm5SB8OWYmxhcm5aAjI2YgrDlmJs
 YXJuIDI2igEHw5ZibGFybioKw5ZibGFybiAyNjIKw5ZibGFybiAyNjIMODk2MCDDlmJsYXJu
 MgvDlnN0ZXJyZWljaDg5QABQAVonCiUSEgl0CYfe4rpHQBHLh/sjZ/wrQBjZMiDHj4Po89yn
 vJIBkAMB;X-APPLE-RADIUS=70.58735946348322;X-APPLE-REFERENCEFRAME=1;X-TIT
 LE="[ku:L] Kunst- & Kulturhaus Öblarn\n8960 Öblarn 26, Austria":geo:47.4
 60048,13.992974
BEGIN:VALARM
ACTION:DISPLAY
DESCRIPTION:This is an event reminder
TRIGGER:-P1D
UID:A4449477-3C11-44D3-AE1D-16287D87CEFF
X-WR-ALARMUID:A4449477-3C11-44D3-AE1D-16287D87CEFF
END:VALARM
BEGIN:VALARM
ACTION:DISPLAY
DESCRIPTION:This is an event reminder
TRIGGER:-PT1H
UID:F548110B-4C92-41EC-A1E4-AAB7E38B9653
X-WR-ALARMUID:F548110B-4C92-41EC-A1E4-AAB7E38B9653
END:VALARM
END:VEVENT
END:VCALENDAR
DI2igEHw5ZibGFybioKw5ZibGFybiAyNjIKw5ZibGFybiAyNjIMODk2MCDDlmJsYXJu
 MgvDlnN0ZXJyZWljaDg5QABQAVonCiUSEgl0CYfe4rpHQBHLh/sjZ/wrQBjZMiDHj4Po89yn
 vJIBkAMB;X-APPLE-RADIUS=70.58735946348322;X-APPLE-REFERENCEFRAME=1;X-TIT
 LE="[ku:L] Kunst- & Kulturhaus Öblarn\n8960 Öblarn 26, Austria":geo:47.4
 60048,13.992974
BEGIN:VALARM
ACTION:DISPLAY
DESCRIPTION:This is an event reminder
TRIGGER:-P1D
UID:A4449477-3C11-44D3-AE1D-16287D87CEFF
X-WR-ALARMUID:A4449477-3C11-44D3-AE1D-16287D87CEFF
END:VALARM
BEGIN:VALARM
ACTION:DISPLAY
DESCRIPTION:This is an event reminder
TRIGGER:-PT1H
UID:F548110B-4C92-41EC-A1E4-AAB7E38B9653
X-WR-ALARMUID:F548110B-4C92-41EC-A1E4-AAB7E38B9653
END:VALARM
END:VEVENT
END:VCALENDAR
