BEGIN:VCALENDAR
CALSCALE:GREGORIAN
VERSION:2.0
BEGIN:VTIMEZONE
TZID:Europe/Vienna
BEGIN:DAYLIGHT
DTSTART:19810329T020000
RRULE:FREQ=YEARLY;BYMONTH=3;BYDAY=-1SU
TZNAME:MESZ
TZOFFSETFROM:+0100
TZOFFSETTO:+0200
END:DAYLIGHT
BEGIN:STANDARD
DTSTART:19961027T030000
RRULE:FREQ=YEARLY;BYMONTH=10;BYDAY=-1SU
TZNAME:MEZ
TZOFFSETFROM:+0200
TZOFFSETTO:+0100
END:STANDARD
END:VTIMEZONE
BEGIN:VEVENT
CREATED:20231221T170959Z
DESCRIPTION:PETER SIMONISCHEK: Europäischer Filmpreis in Gold als bester Schauspieler für „Toni Erdmann“ – Deutscher Filmpreis – Grimmepreis - Burgschauspieler – 7 Jahre Salzburger „Jedermann“ – Deutscher Kritikerpreis usw. usw.  Advent, die stimmungsvolle Zeit des Wartens, was wäre sie ohne jene Geschichten und Gedichte, die uns ein Leben lang begleiten, die Dramatik der kindlichen Erinnerungen an den Heiligen Abend in unseren Herzen Jahr für Jahr wieder von Neuem entstehen lassen? Warmherzig, abwechslungsreich und voll Spannung liest Peter Simonischek Dialoge von Erich Kästner, Heinrich Hoffmann von Fallersleben, Rainer Maria Rilke, von österreichischen Volksdichtern bis zu russischen Adventgeschichten. Die behutsame Art des Vortrags regt – das Geheimnis des Weihnachtszaubers bewahrend – den Zuhörer an zur Besinnung, gibt der Vorfreude auf das Fest der Feste seinen gebührenden Raum.   STREICHQUARTETT „SONARE LINZ“ Peter Gillmayr, (1. Violine)Kathrin Lenzenweger, (2. Violine)Christoph Lenz, (Viola) Judith Bik, (Violoncello)  Die Stimmführer des Ensemble Sonare Linz sind Mitglieder der Österr. Salonisten, Lehrer im OÖ. Landesmusikschulwerk sowie Kammer- und Orchestermusiker. Auftritte und Programme im gesamten deutschsprachigen Raum bei renommierten Festivals u.a. mit Fritz Karl, Julia Stemberger, Karl Markovics, Nina Proll, Klaus Maria Brandauer, Cornelia Horak, Christoph Wagner-Trenkwitz, Michael Heltau u.a. Tickets: via Whatsapp Tel 0664 8600300 oder telefonisch       oder an tickets@kultur.st  
DTEND;TZID=Europe/Vienna:20221204T235900
DTSTAMP:20231221T171224Z
DTSTART;TZID=Europe/Vienna:20221204T160000
LAST-MODIFIED:20231221T171210Z
LOCATION:[ku:L] Kunst- & Kulturhaus Öblarn\n8960 Öblarn 26\, Austria
SEQUENCE:0
STATUS:CONFIRMED
SUMMARY:Peter Simonischek & Streichquartett Sonare Linz
TRANSP:OPAQUE
UID:95378F1D-9035-46E4-B853-04D9DBE28066
URL;VALUE=URI:https://www.kultur.st/events-archiv/peter-simonischek-streichquartett-sonare-linz
X-APPLE-CREATOR-IDENTITY:com.apple.calendar
X-APPLE-CREATOR-TEAM-IDENTITY:0000000000
X-APPLE-STRUCTURED-LOCATION;VALUE=URI;X-APPLE-MAPKIT-HANDLE=CAES4gEI2TIa
 Egl0CYfe4rpHQBHLh/sjZ/wrQCJnCgvDlnN0ZXJyZWljaBICQVQaClN0ZWllcm1hcmsqDUJl
 emlyayBMaWV6ZW4yB8OWYmxhcm46BDg5NjBCB8OWYmxhcm5SB8OWYmxhcm5aAjI2YgrDlmJs
 YXJuIDI2igEHw5ZibGFybioKw5ZibGFybiAyNjIKw5ZibGFybiAyNjIMODk2MCDDlmJsYXJu
 MgvDlnN0ZXJyZWljaDg5QABQAVonCiUSEgl0CYfe4rpHQBHLh/sjZ/wrQBjZMiDHj4Po89yn
 vJIBkAMB;X-APPLE-RADIUS=70.58735946348322;X-APPLE-REFERENCEFRAME=1;X-TIT
 LE="[ku:L] Kunst- & Kulturhaus Öblarn\n8960 Öblarn 26, Austria":geo:47.4
 60048,13.992974
BEGIN:VALARM
ACTION:DISPLAY
DESCRIPTION:This is an event reminder
TRIGGER:-P1D
UID:A4449477-3C11-44D3-AE1D-16287D87CEFF
X-WR-ALARMUID:A4449477-3C11-44D3-AE1D-16287D87CEFF
END:VALARM
BEGIN:VALARM
ACTION:DISPLAY
DESCRIPTION:This is an event reminder
TRIGGER:-PT1H
UID:F548110B-4C92-41EC-A1E4-AAB7E38B9653
X-WR-ALARMUID:F548110B-4C92-41EC-A1E4-AAB7E38B9653
END:VALARM
END:VEVENT
END:VCALENDAR
