BEGIN:VCALENDAR
CALSCALE:GREGORIAN
VERSION:2.0
BEGIN:VTIMEZONE
TZID:Europe/Vienna
BEGIN:DAYLIGHT
DTSTART:19810329T020000
RRULE:FREQ=YEARLY;BYMONTH=3;BYDAY=-1SU
TZNAME:MESZ
TZOFFSETFROM:+0100
TZOFFSETTO:+0200
END:DAYLIGHT
BEGIN:STANDARD
DTSTART:19961027T030000
RRULE:FREQ=YEARLY;BYMONTH=10;BYDAY=-1SU
TZNAME:MEZ
TZOFFSETFROM:+0200
TZOFFSETTO:+0100
END:STANDARD
END:VTIMEZONE
BEGIN:VEVENT
CREATED:20231221T170959Z
DESCRIPTION: INN ECHO (Canada) https://innechomusic.com/home  “Complete command of their repertoire and material. What a powerful sound.” – Roots Music Canada   https://www.youtube.com/watch?v=ebg6aO5Uluw https://www.youtube.com/watch?v=84LkVTz8qvU  Das junge multinationale kanadische Quartett INN ECHO habe ich im Herbst 2019 auf der Musik-Konferenz „Music P.E.I.” auf der ost-kanadischen Prince Edward Island entdeckt. Was für eine Band! Mir ist beim Showcase-Konzert vom ersten Ton an wörtlich „die Spucke weg geblieben”. Alle vier ProtagonistInnen sind Musik-Uni AbgängerInnen, unterrichten z.T. ihr Fach und haben sich eben auf der Uni in Charlotteville/P.E.I. kennen gelernt, wo sie beschlossen ein Ensemble zu gründen - Gott sei Dank muss man sagen! Die Concertina-Expertin GORMLAITH MAYNES (aus Drogheda/Irland), Geigerin/Cellistin TULI PORCHER (aus Victoria/British Columbia), Geiger KARSON McKEOWN (Ottawa/Ontario) und Gitarrist TOM GAMMONS (Bute/Montana) schaffen einen sensationellen Spagat zwischen Irish/Scottish/Canadian/American roots music. CASSIE &amp; MAGGIE MacDONALD (Canada)  http://www.cassieandmaggie.com  “The sound that emanates from these two is so enormous it could take up any room, and is a true testament to their talent.” NY Theater Guide  https://www.youtube.com/watch?v=rNsZxOKl1WY https://www.youtube.com/watch?v=sJkUsEIHhQw  Die beiden Spitzen-Musikerinnen aus NOVA SCOTIA/Canada kommen aus der musikalischen Tradition der im Zuge der „Highland Clearances” (ca 1790 -1890) von den Engländern an die Ostküste Kanadas deportierten schottischen Einwanderer (Nova Scotia = Neu-Schottland).  Mit ihren unvergleichlichen, druckvollen Konzerten haben sie in den letzten Jahren weltweit auf großen Festivals und in renommierten Theatern und Clubs tausende Leute begeistert. Das aktuelle Album „The Willow Collection” erregte in allen Fach-Medien großes Aufsehen und wurde vielfach ausgezeichnet. Cassie &amp; Maggie wurden 2012 als „Young Performers Of The Year” bei den Canadian Folk Music Awards nominiert, die Sensation war allerdings die Nominierung ihres Debut-Albums „Fresh Heirs” bei den East Coast Music Awards 2012 (der kanadische GRAMMY)  Nur zu zweit schaffen sie es dennoch wie eine volle Band zu klingen, meisterliches Handwerk auf Fiddle (Cassie), Gitarre und Klavier (Maggie), wunderschöne Gesangsharmonien und atemberaubender Steptanz sind die Zutaten der beiden Ausnahme-Talente um das Publikum zu verzaubern. Ihr CD-Debut „Fresh Heirs” bekam großartige Rezensionen, ebenso wie ihr Nachfolger „Sterling Road”. Mit dem letzten Album „The Willow Collection” ist den Beiden ein wirklich großer Wurf gelungen! 200 Live-Konzerte pro Jahr und ausgedehnte Tourneen in Kanada, den USA und Europa machten sie zu den meist beschäftigten Künstlern der lebendigen Szene Nova Scotias.  Trad/Roots Album Of The Year 2017 - Music Nova Scotia Awards Traditional Folk Album Of The Year 2017 – Canadian Folk Music Awards Female Singer of the Year 2016 - liveIRELAND Awards NEW GROUP OF THE YEAR 2015 - Live Ireland Radio Emerging Artist Of The Year 2015 - Chicago Irish Americvan News 
DTEND;TZID=Europe/Vienna:20211009T235900
DTSTAMP:20231221T171224Z
DTSTART;TZID=Europe/Vienna:20211009T180000
LAST-MODIFIED:20231221T171210Z
LOCATION:[ku:L] Kunst- & Kulturhaus Öblarn\n8960 Öblarn 26\, Austria
SEQUENCE:0
STATUS:CONFIRMED
SUMMARY:14th SCOTTISH COLOURS
TRANSP:OPAQUE
UID:95378F1D-9035-46E4-B853-04D9DBE28066
URL;VALUE=URI:https://www.kultur.st/events-archiv/14th-scottish-colours
X-APPLE-CREATOR-IDENTITY:com.apple.calendar
X-APPLE-CREATOR-TEAM-IDENTITY:0000000000
X-APPLE-STRUCTURED-LOCATION;VALUE=URI;X-APPLE-MAPKIT-HANDLE=CAES4gEI2TIa
 Egl0CYfe4rpHQBHLh/sjZ/wrQCJnCgvDlnN0ZXJyZWljaBICQVQaClN0ZWllcm1hcmsqDUJl
 emlyayBMaWV6ZW4yB8OWYmxhcm46BDg5NjBCB8OWYmxhcm5SB8OWYmxhcm5aAjI2YgrDlmJs
 YXJuIDI2igEHw5ZibGFybioKw5ZibGFybiAyNjIKw5ZibGFybiAyNjIMODk2MCDDlmJsYXJu
 MgvDlnN0ZXJyZWljaDg5QABQAVonCiUSEgl0CYfe4rpHQBHLh/sjZ/wrQBjZMiDHj4Po89yn
 vJIBkAMB;X-APPLE-RADIUS=70.58735946348322;X-APPLE-REFERENCEFRAME=1;X-TIT
 LE="[ku:L] Kunst- & Kulturhaus Öblarn\n8960 Öblarn 26, Austria":geo:47.4
 60048,13.992974
BEGIN:VALARM
ACTION:DISPLAY
DESCRIPTION:This is an event reminder
TRIGGER:-P1D
UID:A4449477-3C11-44D3-AE1D-16287D87CEFF
X-WR-ALARMUID:A4449477-3C11-44D3-AE1D-16287D87CEFF
END:VALARM
BEGIN:VALARM
ACTION:DISPLAY
DESCRIPTION:This is an event reminder
TRIGGER:-PT1H
UID:F548110B-4C92-41EC-A1E4-AAB7E38B9653
X-WR-ALARMUID:F548110B-4C92-41EC-A1E4-AAB7E38B9653
END:VALARM
END:VEVENT
END:VCALENDAR
