BEGIN:VCALENDAR
CALSCALE:GREGORIAN
VERSION:2.0
BEGIN:VTIMEZONE
TZID:Europe/Vienna
BEGIN:DAYLIGHT
DTSTART:19810329T020000
RRULE:FREQ=YEARLY;BYMONTH=3;BYDAY=-1SU
TZNAME:MESZ
TZOFFSETFROM:+0100
TZOFFSETTO:+0200
END:DAYLIGHT
BEGIN:STANDARD
DTSTART:19961027T030000
RRULE:FREQ=YEARLY;BYMONTH=10;BYDAY=-1SU
TZNAME:MEZ
TZOFFSETFROM:+0200
TZOFFSETTO:+0100
END:STANDARD
END:VTIMEZONE
BEGIN:VEVENT
CREATED:20231221T170959Z
DESCRIPTION:Manchmal braucht es genau solche Abende: überraschend, ein bisserl schräg und genau deshalb so gut. Mit Gschreams und der Hinterberger Soatnmusi treffen zwei Formationen aufeinander, die musikalische Grenzen nicht nur ausloten, sondern mit einem Augenzwinkern gleich ganz auflösen. Gschreams sind ein Trio, das sich bewusst jeder klaren Schublade entzieht. Kaum hat man sich an einen Sound gewöhnt, kippt die Stimmung, neue Instrumente, neue Farben, neue Richtungen. Inhaltlich bewegen sie sich mit viel Schmäh irgendwo zwischen Alltagsbeobachtung und feiner Absurdität: Wenn plötzlich Haflinger, Dachfenster oder Apfelstrudel zu zentralen Themen werden, ist klar – hier wird Musik nicht nur gespielt, sondern auch mit Humor erzählt. Das Ergebnis: ein ebenso virtuoses wie unterhaltsames Konzerterlebnis, das garantiert nicht vorhersehbar ist.Als Support bringt die Hinterberger Soatnmusi genau jene Mischung mit, die perfekt dazu passt: tief verwurzelt in der Ausseer Volksmusik, gleichzeitig offen für alles, was darüber hinausgeht. Ob Swing, Balkanklänge oder Wienerlied – die Mitterndorfer Multiinstrumentalisten verweben unterschiedlichste Einflüsse zu einem eigenständigen, lebendigen Klangbild. Dabei bleibt immer dieser feine, unaufgeregte Schmäh spürbar, der ihre Musik so besonders macht.Ein Abend also für alle, die Musik gerne abseits der gewohnten Pfade erleben, verspielt, hochwertig und mit einer guten Portion Humor.Besetzung Gschreams:Anna Tropper-Lener :Gesang/Violine bzw. Klavier (tätig am Burgtheater Wien, Volksoper Wien, diverse Theaterproduktionen im In- und Ausland)Bernhard Potzmann: Trompete bzw. Schlagzeug (Konzerte mit Studio Percussion Graz, Moritz Weiß, Luiza MonteiroSextett, Southern Blues Club, Quartett Potzmann // Fruhwirth im Jazz/Blues und Volksmusikbereich in Österreich, Slowenien und Deutschland)Jonny Kölbl :Harmonika bzw. Percussion (spielt ab April 2026, Besetzungwechsel, nicht am Foto)(Nordic Master in Folk Music, internationale Konzerttätigkeit mit Quetsch ’n’ Vibes, Sturm &amp; Klang, Tubonika, Timber,Annagramm, Mamabeda und Tim &amp; Jonnic) (nicht am Foto, weil Neubesetzung)🎟️ Reservierung empfohlen:📞 0664 86 00 300 (telefonisch oder WhatsApp)📧 tickets@kultur.st
DTEND;TZID=Europe/Vienna:20260410T235900
DTSTAMP:20231221T171224Z
DTSTART;TZID=Europe/Vienna:20260410T193000
LAST-MODIFIED:20231221T171210Z
LOCATION:[ku:L] Kunst- & Kulturhaus Öblarn\n8960 Öblarn 26\, Austria
SEQUENCE:0
STATUS:CONFIRMED
SUMMARY:Gschreams &amp; Hinterberger Soatnmusi
TRANSP:OPAQUE
UID:95378F1D-9035-46E4-B853-04D9DBE28066
URL;VALUE=URI:https://www.kultur.st/events-archiv/gschreams
X-APPLE-CREATOR-IDENTITY:com.apple.calendar
X-APPLE-CREATOR-TEAM-IDENTITY:0000000000
X-APPLE-STRUCTURED-LOCATION;VALUE=URI;X-APPLE-MAPKIT-HANDLE=CAES4gEI2TIa
 Egl0CYfe4rpHQBHLh/sjZ/wrQCJnCgvDlnN0ZXJyZWljaBICQVQaClN0ZWllcm1hcmsqDUJl
 emlyayBMaWV6ZW4yB8OWYmxhcm46BDg5NjBCB8OWYmxhcm5SB8OWYmxhcm5aAjI2YgrDlmJs
 YXJuIDI2igEHw5ZibGFybioKw5ZibGFybiAyNjIKw5ZibGFybiAyNjIMODk2MCDDlmJsYXJu
 MgvDlnN0ZXJyZWljaDg5QABQAVonCiUSEgl0CYfe4rpHQBHLh/sjZ/wrQBjZMiDHj4Po89yn
 vJIBkAMB;X-APPLE-RADIUS=70.58735946348322;X-APPLE-REFERENCEFRAME=1;X-TIT
 LE="[ku:L] Kunst- & Kulturhaus Öblarn\n8960 Öblarn 26, Austria":geo:47.4
 60048,13.992974
BEGIN:VALARM
ACTION:DISPLAY
DESCRIPTION:This is an event reminder
TRIGGER:-P1D
UID:A4449477-3C11-44D3-AE1D-16287D87CEFF
X-WR-ALARMUID:A4449477-3C11-44D3-AE1D-16287D87CEFF
END:VALARM
BEGIN:VALARM
ACTION:DISPLAY
DESCRIPTION:This is an event reminder
TRIGGER:-PT1H
UID:F548110B-4C92-41EC-A1E4-AAB7E38B9653
X-WR-ALARMUID:F548110B-4C92-41EC-A1E4-AAB7E38B9653
END:VALARM
END:VEVENT
END:VCALENDAR
