BEGIN:VCALENDAR
CALSCALE:GREGORIAN
VERSION:2.0
BEGIN:VTIMEZONE
TZID:Europe/Vienna
BEGIN:DAYLIGHT
DTSTART:19810329T020000
RRULE:FREQ=YEARLY;BYMONTH=3;BYDAY=-1SU
TZNAME:MESZ
TZOFFSETFROM:+0100
TZOFFSETTO:+0200
END:DAYLIGHT
BEGIN:STANDARD
DTSTART:19961027T030000
RRULE:FREQ=YEARLY;BYMONTH=10;BYDAY=-1SU
TZNAME:MEZ
TZOFFSETFROM:+0200
TZOFFSETTO:+0100
END:STANDARD
END:VTIMEZONE
BEGIN:VEVENT
CREATED:20231221T170959Z
DESCRIPTION:Buchvorstellung mit musikalischer Begleitung.Die Nach-Forschung zu einem verschwundenen Kind in Öblarn in Tagebuchform und illustriert mit gezeichneten Szenen aus dem Festspiel. Überlegungen zu den geschichtlichen und literarischen Zusammenhängen um die Kinder-Hauptrolle in Paula Groggers Spiel "Die Hochzeit". Was passiert, wenn sich ein dramatisches Kapitel Dorfgeschichte, ein mysteriöser Mordfall und die literarische Kraft eines Festspiels zu einem fesselnden Werk verweben? Herwig Bachler nimmt Sie mit auf eine eindringliche Spurensuche – und bringt dabei längst Vergessenes wieder ans Licht.In seinem neuen Buch "Huldigung an die Einöd Waberl" geht es um mehr als ein verschwundenes Kind aus Öblarn. Es geht um Erinnerung, um das Weiterwirken eines tragischen Schicksals und um die stille Magie der Literatur, die der kleinen Maria Köck eine neue Rolle schenkt – als Verkündigungsengel in Paula Groggers "Die Hochzeit". Wie kommt ein reales Verbrechen in ein Festspiel? Und warum bleibt uns das Einöder-Kind über Generationen im Gedächtnis?Bachlers Tagebuch-Recherche liest sich wie ein Krimi, gespickt mit Zeichnungen aus dem Festspiel und tiefen Einsichten in die Seele eines Dorfes. Mit einem feinen Gespür für Geschichte, Sprache und Menschlichkeit gelingt es ihm, ein Stück Vergangenheit in die Gegenwart zu holen – behutsam, berührend und mit großer Liebe zum Detail.Kommen Sie zur Buchpräsentation am 12. September ins [ku:L] Öblarn. Lassen Sie sich von einer wahren Geschichte berühren, die zeigt, dass Erinnern auch ein Akt der Versöhnung sein kann. Denn manchmal kehrt ein verlorenes Kind nicht nur als Engel, sondern auch als Mahnung und Trost zurück.Mehr Infos:Buch: Bod 2025, ISBN 9783819209505 , 64 Seiten🎟️ Reservierung empfohlen:📞 0664 86 00 300 (telefonisch oder via WhatsApp)📧 tickets@kultur.st
DTEND;TZID=Europe/Vienna:20250912T235900
DTSTAMP:20231221T171224Z
DTSTART;TZID=Europe/Vienna:20250912T193000
LAST-MODIFIED:20231221T171210Z
LOCATION:[ku:L] Kunst- & Kulturhaus Öblarn\n8960 Öblarn 26\, Austria
SEQUENCE:0
STATUS:CONFIRMED
SUMMARY:📖 Herwig Bachler - Mein Festspielsommer 2024 Huldigung an die Einöd Waberl - Geschichte eines Mordes.
TRANSP:OPAQUE
UID:95378F1D-9035-46E4-B853-04D9DBE28066
URL;VALUE=URI:https://www.kultur.st/events-archiv/herwig-bachler-mein-festspielsommer-2024-huldigung-an-die-einoed-waberl-geschichte-eines-mordes
X-APPLE-CREATOR-IDENTITY:com.apple.calendar
X-APPLE-CREATOR-TEAM-IDENTITY:0000000000
X-APPLE-STRUCTURED-LOCATION;VALUE=URI;X-APPLE-MAPKIT-HANDLE=CAES4gEI2TIa
 Egl0CYfe4rpHQBHLh/sjZ/wrQCJnCgvDlnN0ZXJyZWljaBICQVQaClN0ZWllcm1hcmsqDUJl
 emlyayBMaWV6ZW4yB8OWYmxhcm46BDg5NjBCB8OWYmxhcm5SB8OWYmxhcm5aAjI2YgrDlmJs
 YXJuIDI2igEHw5ZibGFybioKw5ZibGFybiAyNjIKw5ZibGFybiAyNjIMODk2MCDDlmJsYXJu
 MgvDlnN0ZXJyZWljaDg5QABQAVonCiUSEgl0CYfe4rpHQBHLh/sjZ/wrQBjZMiDHj4Po89yn
 vJIBkAMB;X-APPLE-RADIUS=70.58735946348322;X-APPLE-REFERENCEFRAME=1;X-TIT
 LE="[ku:L] Kunst- & Kulturhaus Öblarn\n8960 Öblarn 26, Austria":geo:47.4
 60048,13.992974
BEGIN:VALARM
ACTION:DISPLAY
DESCRIPTION:This is an event reminder
TRIGGER:-P1D
UID:A4449477-3C11-44D3-AE1D-16287D87CEFF
X-WR-ALARMUID:A4449477-3C11-44D3-AE1D-16287D87CEFF
END:VALARM
BEGIN:VALARM
ACTION:DISPLAY
DESCRIPTION:This is an event reminder
TRIGGER:-PT1H
UID:F548110B-4C92-41EC-A1E4-AAB7E38B9653
X-WR-ALARMUID:F548110B-4C92-41EC-A1E4-AAB7E38B9653
END:VALARM
END:VEVENT
END:VCALENDAR
