BEGIN:VCALENDAR
CALSCALE:GREGORIAN
VERSION:2.0
BEGIN:VTIMEZONE
TZID:Europe/Vienna
BEGIN:DAYLIGHT
DTSTART:19810329T020000
RRULE:FREQ=YEARLY;BYMONTH=3;BYDAY=-1SU
TZNAME:MESZ
TZOFFSETFROM:+0100
TZOFFSETTO:+0200
END:DAYLIGHT
BEGIN:STANDARD
DTSTART:19961027T030000
RRULE:FREQ=YEARLY;BYMONTH=10;BYDAY=-1SU
TZNAME:MEZ
TZOFFSETFROM:+0200
TZOFFSETTO:+0100
END:STANDARD
END:VTIMEZONE
BEGIN:VEVENT
CREATED:20231221T170959Z
DESCRIPTION: HANNAH RARITY ( https://www.hannahrarity.com ) https://www.youtube.com/watch?v=-XrXggQ9ppo Mit dem Gewinn des prestigeträchtigen BBC Radio Scotland Young Traditional Musician of the Year 2018-Award wurde die grandiose Sängerin quasi „über Nacht” zu einem der großen Stars der jungen schottischen Szene! Diese Auszeichnung war bis lange der größte Schritt auf ihrer Karriere-Leiter. Schon 2017 wurde HANNA RARITY als Scots Singer of the Year nominiert. Das kommt nicht von ungefähr, denn selbst renommierte Orchester wie das Royal Scottish National Orchestra, oder das Scottish Chamber Orchestra greifen auf ihre Sangeskünste zurück und auch die irisch-amerikanische Supergroup Cherish the Ladies nahm sie als Sängerin mit auf Welt-Tournee. Für solche Engagements wird in Zukunft wenig Zeit bleiben! Spätestens nachdem das wunderschöne, im Sommer 2018 erschienene Debut-Album Neath the Gloaming Star für den entsprechenden Presse-Rummel sorgte, liefen die Telefone und e-mail-Leitungen im Büro des Managements heiß und HANNAH RARITY ist mittlerweile am Programm vieler wichtiger Festivals zu finden!  FRASER FIFIELD &amp; GRAEME STEPHEN (Scotland) https://www.youtube.com/watch?v=F_jvs-P-jgY Mit ihrer andauernden 25-jährigen musikalischen Partnerschaft gehören FRASER FIFIELD und GRAEME STEPHEN vermutlich zu den bestens eingespielten Acts der internationalen Musikszene. Die aus einem Arsenal von Fifields Blas-Instrumenten wie Low Whistle, Dudelsack, Kaval oder Saxophon mit Zuhilfenahme von Loops &amp; Electronics erzeugten Sphären verweben sich mit Stephens hypnotischer Gitarren-Arbeit zu einem so noch nie gehörten Sound-Teppich. Die beiden gießen weltweite musikalische Einflüsse durch ihren persönlichen Filter aus schottischer Kultur.  Was dabei heraus kommt ist eine Reise von andalusischen Cafes über osteuropäische Zigeuner-Hochzeiten und indischen Ashrams zu keltischen Steinkreisen der schottischen Highlands, und das alles eingebettet in der Spontanität des Jazz-Ethos! Tickets: via Whatsapp Tel 0664 8600300 oder telefonisch       oder an tickets@kultur.st  
DTEND;TZID=Europe/Vienna:20220911T235900
DTSTAMP:20231221T171224Z
DTSTART;TZID=Europe/Vienna:20220911T180000
LAST-MODIFIED:20231221T171210Z
LOCATION:[ku:L] Kunst- & Kulturhaus Öblarn\n8960 Öblarn 26\, Austria
SEQUENCE:0
STATUS:CONFIRMED
SUMMARY:15th SCOTTISH COLOURS – „magic Duos”
TRANSP:OPAQUE
UID:95378F1D-9035-46E4-B853-04D9DBE28066
URL;VALUE=URI:https://www.kultur.st/events-archiv/15th-scottish-colours-magic-duos
X-APPLE-CREATOR-IDENTITY:com.apple.calendar
X-APPLE-CREATOR-TEAM-IDENTITY:0000000000
X-APPLE-STRUCTURED-LOCATION;VALUE=URI;X-APPLE-MAPKIT-HANDLE=CAES4gEI2TIa
 Egl0CYfe4rpHQBHLh/sjZ/wrQCJnCgvDlnN0ZXJyZWljaBICQVQaClN0ZWllcm1hcmsqDUJl
 emlyayBMaWV6ZW4yB8OWYmxhcm46BDg5NjBCB8OWYmxhcm5SB8OWYmxhcm5aAjI2YgrDlmJs
 YXJuIDI2igEHw5ZibGFybioKw5ZibGFybiAyNjIKw5ZibGFybiAyNjIMODk2MCDDlmJsYXJu
 MgvDlnN0ZXJyZWljaDg5QABQAVonCiUSEgl0CYfe4rpHQBHLh/sjZ/wrQBjZMiDHj4Po89yn
 vJIBkAMB;X-APPLE-RADIUS=70.58735946348322;X-APPLE-REFERENCEFRAME=1;X-TIT
 LE="[ku:L] Kunst- & Kulturhaus Öblarn\n8960 Öblarn 26, Austria":geo:47.4
 60048,13.992974
BEGIN:VALARM
ACTION:DISPLAY
DESCRIPTION:This is an event reminder
TRIGGER:-P1D
UID:A4449477-3C11-44D3-AE1D-16287D87CEFF
X-WR-ALARMUID:A4449477-3C11-44D3-AE1D-16287D87CEFF
END:VALARM
BEGIN:VALARM
ACTION:DISPLAY
DESCRIPTION:This is an event reminder
TRIGGER:-PT1H
UID:F548110B-4C92-41EC-A1E4-AAB7E38B9653
X-WR-ALARMUID:F548110B-4C92-41EC-A1E4-AAB7E38B9653
END:VALARM
END:VEVENT
END:VCALENDAR
