BEGIN:VCALENDAR
CALSCALE:GREGORIAN
VERSION:2.0
BEGIN:VTIMEZONE
TZID:Europe/Vienna
BEGIN:DAYLIGHT
DTSTART:19810329T020000
RRULE:FREQ=YEARLY;BYMONTH=3;BYDAY=-1SU
TZNAME:MESZ
TZOFFSETFROM:+0100
TZOFFSETTO:+0200
END:DAYLIGHT
BEGIN:STANDARD
DTSTART:19961027T030000
RRULE:FREQ=YEARLY;BYMONTH=10;BYDAY=-1SU
TZNAME:MEZ
TZOFFSETFROM:+0200
TZOFFSETTO:+0100
END:STANDARD
END:VTIMEZONE
BEGIN:VEVENT
CREATED:20231221T170959Z
DESCRIPTION:In der Afro-Jazz Gruppe „Mamadou Diabate &amp; Bekadiya&quot;, die 2002 gegründet &amp; 2008 neu formatiert wurde, begeben sich afrikanische und europäische Musiker auf eine gemeinsame Reise. Die scheinbar so gegensätzlichen Musikstile dieser beiden Kontinente - Jazz &amp; traditionelle westafrikanische Musik - treffen hier in kunstvoller Weise aufeinander und zeigen wie harmonisch und gleichzeitig kraftvoll diese Welten miteinander verwoben werden können, wie sie sich gegenseitig ergänzen und mit Leichtigkeit und Spielfreude kulturelle Grenzen überwinden. Den Beweis dafür lieferte die Gruppe 2003 mit der CD &quot;Sira Fila&quot;. Was die Zuhörerinnen und Zuhörer gleich nach den ersten Tönen in westafrikanische Sphären entführt, ist nach wie vor das reich verzierte Balafon- (Xylophon) Solo, das noch dazu, zu sprechen scheint. Die Melodie des Balafons wird von jazzigen Harmonien und kraftvollen Grooves untermalt. In der neuen Formation haben die Blechbläser mit ihren virtuosen Linien eine viel größere Rolle als zuvor, außerdem interagieren sie in ungewohnter Form mit der ausdrucksstarken Stimme der afrikanischen Sängerin.
Mamadou DiabateBalafon, Ngoni - origins from a griot-family in Burkina Faso/Westafrika; is due to his originality and technical brilliance a world-wide recognised balafon player. Several projects with diverse artists; 6 CDs on his own.
 Fatoumata DembeleVocal - from Burkina Faso; one of the most famous Griot singers of West Africa.Alex MeislE-Bass - Studied computer music at the University of Music and Performing Arts Vienna and jazz bass at the Vienna Conservatory.Christian GrobauerDrums - Jazz percussion studies at the Vienna Conservatory, Hans Koller Prize 2006 - &quot;Newcomer of the Year&quot; with the &quot;Jazzwerkstatt Wien&quot;Thomas BerghammerTrumpet - Studied music in Linz and Graz, numerous projects with musicians of various genresMario VavtiTrombone - Studied at the conservatories of Klagenfurt, Graz and AmsterdamKarim SanouDjembe - from Burkina Faso; also a member of Percussion Mania. 
http://www.mamadoudiabate.com
DTEND;TZID=Europe/Vienna:20101023T235900
DTSTAMP:20231221T171224Z
DTSTART;TZID=Europe/Vienna:20101023T180000
LAST-MODIFIED:20231221T171210Z
LOCATION:[ku:L] Kunst- & Kulturhaus Öblarn\n8960 Öblarn 26\, Austria
SEQUENCE:0
STATUS:CONFIRMED
SUMMARY:Afro Jazz: Mamadou Diabate & Bekadiya
TRANSP:OPAQUE
UID:95378F1D-9035-46E4-B853-04D9DBE28066
URL;VALUE=URI:https://www.kultur.st/events-archiv/afro-jazz-mamadou-diabate-bekadiya
X-APPLE-CREATOR-IDENTITY:com.apple.calendar
X-APPLE-CREATOR-TEAM-IDENTITY:0000000000
X-APPLE-STRUCTURED-LOCATION;VALUE=URI;X-APPLE-MAPKIT-HANDLE=CAES4gEI2TIa
 Egl0CYfe4rpHQBHLh/sjZ/wrQCJnCgvDlnN0ZXJyZWljaBICQVQaClN0ZWllcm1hcmsqDUJl
 emlyayBMaWV6ZW4yB8OWYmxhcm46BDg5NjBCB8OWYmxhcm5SB8OWYmxhcm5aAjI2YgrDlmJs
 YXJuIDI2igEHw5ZibGFybioKw5ZibGFybiAyNjIKw5ZibGFybiAyNjIMODk2MCDDlmJsYXJu
 MgvDlnN0ZXJyZWljaDg5QABQAVonCiUSEgl0CYfe4rpHQBHLh/sjZ/wrQBjZMiDHj4Po89yn
 vJIBkAMB;X-APPLE-RADIUS=70.58735946348322;X-APPLE-REFERENCEFRAME=1;X-TIT
 LE="[ku:L] Kunst- & Kulturhaus Öblarn\n8960 Öblarn 26, Austria":geo:47.4
 60048,13.992974
BEGIN:VALARM
ACTION:DISPLAY
DESCRIPTION:This is an event reminder
TRIGGER:-P1D
UID:A4449477-3C11-44D3-AE1D-16287D87CEFF
X-WR-ALARMUID:A4449477-3C11-44D3-AE1D-16287D87CEFF
END:VALARM
BEGIN:VALARM
ACTION:DISPLAY
DESCRIPTION:This is an event reminder
TRIGGER:-PT1H
UID:F548110B-4C92-41EC-A1E4-AAB7E38B9653
X-WR-ALARMUID:F548110B-4C92-41EC-A1E4-AAB7E38B9653
END:VALARM
END:VEVENT
END:VCALENDAR
