BEGIN:VCALENDAR
CALSCALE:GREGORIAN
VERSION:2.0
BEGIN:VTIMEZONE
TZID:Europe/Vienna
BEGIN:DAYLIGHT
DTSTART:19810329T020000
RRULE:FREQ=YEARLY;BYMONTH=3;BYDAY=-1SU
TZNAME:MESZ
TZOFFSETFROM:+0100
TZOFFSETTO:+0200
END:DAYLIGHT
BEGIN:STANDARD
DTSTART:19961027T030000
RRULE:FREQ=YEARLY;BYMONTH=10;BYDAY=-1SU
TZNAME:MEZ
TZOFFSETFROM:+0200
TZOFFSETTO:+0100
END:STANDARD
END:VTIMEZONE
BEGIN:VEVENT
CREATED:20231221T170959Z
DESCRIPTION:Das Jodeln ist mehr als nur ein musikalischer Ausdruck. Es ist ein Stück Identität, ein Bekenntnis zur Landschaft und eine Sprache, die ohne Worte Menschen verbindet. Genau hier setzt das LEADER-Projekt "Sound of Alm" an, das im Ennstal und Ausseerland mit Leidenschaft umgesetzt wurde. Einladung zur Projektpräsentation – Sound of AlmFr., 24. April, 19:30 Uhr | ÖHADas Kunst &amp; Kulturhaus Öblarn freut sich, Sie ins Öblarner Haus für Alle einzuladen. Dort erwartet Sie der festliche Abschluss des Projekts "Sound of Alm" – ein Abend voller Musik, Begegnung und besonderer Eindrücke.🎤 Durch den Abend führen Olivia Koland &amp; Hans KöhlFreuen Sie sich auf:Einen geselligen Abend mit Live-Auftritten aller beteiligten Gruppen aus dem Ennstal und Ausseerland.Die Präsentation des Tonträgers samt Notenheft, das jede Besucherin und jeder Besucher als Erinnerung mit nach Hause nimmt.Einblicke hinter die Kulissen mit kurzen Making-of-Einspielungen und Bildmaterial von den Aufnahmetagen.Dieser Abend ist mehr als nur eine Präsentation, er ist ein Fest für alle, die Musik, Tradition und Gemeinschaft schätzen.Seit August 2025 wirkten verschiedene Jodlergruppen und Musiker:innen zusammen, um diese einzigartige Tradition für die Nachwelt zu bewahren. Mit dabei sind die- Hollerschnapszuzler,- der Ennstaler Viergesang,- der K &amp; K Viergesang,- der 234Xang,- die Fensageiger- sowie die Wetterloch Bläser.Auf Almen, Bergwiesen und Seen unserer Region des Ennstales und Ausseerlandes wurden Klänge eingefangen, die seit Generationen weitergegeben werden. Dabei entstanden nicht nur Tonaufnahmen, sondern auch ein umfassendes Notenheft, das Lust macht, selbst zur Stimme zu greifen und die alten Melodien lebendig zu halten.Besonders eindrucksvoll: Neben den Gesängen finden auch Naturgeräusche ihren Platz auf der Aufnahme. Das Rauschen der Bäche, das Läuten der Kuhglocken und die Stimmen der Natur verweben sich mit den Jodlern und machen den "Sound of Alm" zu einem authentischen Erlebnis.🎟️ Reservierung empfohlen:📞 0664 86 00 300 (telefonisch oder via WhatsApp)📧 tickets@kultur.stMit Unterstützung von Bund, Land und europäischer Union
DTEND;TZID=Europe/Vienna:20260424T235900
DTSTAMP:20231221T171224Z
DTSTART;TZID=Europe/Vienna:20260424T193000
LAST-MODIFIED:20231221T171210Z
LOCATION:[ku:L] Kunst- & Kulturhaus Öblarn\n8960 Öblarn 26\, Austria
SEQUENCE:0
STATUS:CONFIRMED
SUMMARY:Sound of Alm – ein klingendes Erbe lebt weiter
TRANSP:OPAQUE
UID:95378F1D-9035-46E4-B853-04D9DBE28066
URL;VALUE=URI:https://www.kultur.st/event/alm
X-APPLE-CREATOR-IDENTITY:com.apple.calendar
X-APPLE-CREATOR-TEAM-IDENTITY:0000000000
X-APPLE-STRUCTURED-LOCATION;VALUE=URI;X-APPLE-MAPKIT-HANDLE=CAES4gEI2TIa
 Egl0CYfe4rpHQBHLh/sjZ/wrQCJnCgvDlnN0ZXJyZWljaBICQVQaClN0ZWllcm1hcmsqDUJl
 emlyayBMaWV6ZW4yB8OWYmxhcm46BDg5NjBCB8OWYmxhcm5SB8OWYmxhcm5aAjI2YgrDlmJs
 YXJuIDI2igEHw5ZibGFybioKw5ZibGFybiAyNjIKw5ZibGFybiAyNjIMODk2MCDDlmJsYXJu
 MgvDlnN0ZXJyZWljaDg5QABQAVonCiUSEgl0CYfe4rpHQBHLh/sjZ/wrQBjZMiDHj4Po89yn
 vJIBkAMB;X-APPLE-RADIUS=70.58735946348322;X-APPLE-REFERENCEFRAME=1;X-TIT
 LE="[ku:L] Kunst- & Kulturhaus Öblarn\n8960 Öblarn 26, Austria":geo:47.4
 60048,13.992974
BEGIN:VALARM
ACTION:DISPLAY
DESCRIPTION:This is an event reminder
TRIGGER:-P1D
UID:A4449477-3C11-44D3-AE1D-16287D87CEFF
X-WR-ALARMUID:A4449477-3C11-44D3-AE1D-16287D87CEFF
END:VALARM
BEGIN:VALARM
ACTION:DISPLAY
DESCRIPTION:This is an event reminder
TRIGGER:-PT1H
UID:F548110B-4C92-41EC-A1E4-AAB7E38B9653
X-WR-ALARMUID:F548110B-4C92-41EC-A1E4-AAB7E38B9653
END:VALARM
END:VEVENT
END:VCALENDAR
