BEGIN:VCALENDAR
CALSCALE:GREGORIAN
VERSION:2.0
BEGIN:VTIMEZONE
TZID:Europe/Vienna
BEGIN:DAYLIGHT
DTSTART:19810329T020000
RRULE:FREQ=YEARLY;BYMONTH=3;BYDAY=-1SU
TZNAME:MESZ
TZOFFSETFROM:+0100
TZOFFSETTO:+0200
END:DAYLIGHT
BEGIN:STANDARD
DTSTART:19961027T030000
RRULE:FREQ=YEARLY;BYMONTH=10;BYDAY=-1SU
TZNAME:MEZ
TZOFFSETFROM:+0200
TZOFFSETTO:+0100
END:STANDARD
END:VTIMEZONE
BEGIN:VEVENT
CREATED:20231221T170959Z
DESCRIPTION:Finest 50s Music - The 50s Show! A Tribute.Die OldSchoolBasterds haben sich der Musik der amerikanischen 50er Jahre verschrieben. Die fünf exzellenten Musiker haben sich 2010 für eine Rock‘n‘Roll-Wedding-Party zusammengetan, geprobt, Gefallen an den vielfältigen Stilen der Musik der 50er Jahre gefunden und unzählige Stunden an 4-stimmigem Gesang gefeilt. So wurde aus einem einmaligen Projekt eine Band.Die CDs der OldSchoolBasterds „No.1“, 16 Lieblingssongs der Band au-thentisch eingespielt, „Holy Sh*t“, die Weihnachts-CD im 50er-Jahre-Stil der Truppe, die Produktion „Whole Lotta Love Songs“ 2015, im Sommer 2017 das Album „The Lost Tapes“ mit ausschließlich eigenem Songmaterial und nicht zuletzt der aktuelle Tonträger „Dance Potion No. 5“, veröffentlicht im Frühjahr 2019, finden reissenden Absatz bei den Konzerten der OldSchoolBasterds und bringen 50ies Flair ins heimische Wohnzimmer.Lassen Sie sich von den OldSchoolBasterds in die 50er Jahre zurückverset-zen mit dem Rock‘n‘Roll von Chuck Berry, dem swingenden Piano von Fats Domino, dem Hüftschwung von Elvis Presley, der Energie von Little Richard, dem Soul eines Ray Charles, den knackigen Basslines der Rockabillies und dem Charme von Harry Belafonte.Love Songs, All-Time-Classics und Rock’n’Roll-Hits; Perlen des Songwritings dieser Ära und musikalische Überraschungen im Stile der 50er erwarten Sie bei der „Finest 50s Music Show” der OldSchoolBasterds.Enthusiastisch, tanzbar und voller Energie! 
DTEND;TZID=Europe/Vienna:20201016T235900
DTSTAMP:20231221T171224Z
DTSTART;TZID=Europe/Vienna:20201016T180000
LAST-MODIFIED:20231221T171210Z
LOCATION:[ku:L] Kunst- & Kulturhaus Öblarn\n8960 Öblarn 26\, Austria
SEQUENCE:0
STATUS:CONFIRMED
SUMMARY:Old School Basterds
TRANSP:OPAQUE
UID:95378F1D-9035-46E4-B853-04D9DBE28066
URL;VALUE=URI:https://www.kultur.st/events-archiv/old-school-basterds
X-APPLE-CREATOR-IDENTITY:com.apple.calendar
X-APPLE-CREATOR-TEAM-IDENTITY:0000000000
X-APPLE-STRUCTURED-LOCATION;VALUE=URI;X-APPLE-MAPKIT-HANDLE=CAES4gEI2TIa
 Egl0CYfe4rpHQBHLh/sjZ/wrQCJnCgvDlnN0ZXJyZWljaBICQVQaClN0ZWllcm1hcmsqDUJl
 emlyayBMaWV6ZW4yB8OWYmxhcm46BDg5NjBCB8OWYmxhcm5SB8OWYmxhcm5aAjI2YgrDlmJs
 YXJuIDI2igEHw5ZibGFybioKw5ZibGFybiAyNjIKw5ZibGFybiAyNjIMODk2MCDDlmJsYXJu
 MgvDlnN0ZXJyZWljaDg5QABQAVonCiUSEgl0CYfe4rpHQBHLh/sjZ/wrQBjZMiDHj4Po89yn
 vJIBkAMB;X-APPLE-RADIUS=70.58735946348322;X-APPLE-REFERENCEFRAME=1;X-TIT
 LE="[ku:L] Kunst- & Kulturhaus Öblarn\n8960 Öblarn 26, Austria":geo:47.4
 60048,13.992974
BEGIN:VALARM
ACTION:DISPLAY
DESCRIPTION:This is an event reminder
TRIGGER:-P1D
UID:A4449477-3C11-44D3-AE1D-16287D87CEFF
X-WR-ALARMUID:A4449477-3C11-44D3-AE1D-16287D87CEFF
END:VALARM
BEGIN:VALARM
ACTION:DISPLAY
DESCRIPTION:This is an event reminder
TRIGGER:-PT1H
UID:F548110B-4C92-41EC-A1E4-AAB7E38B9653
X-WR-ALARMUID:F548110B-4C92-41EC-A1E4-AAB7E38B9653
END:VALARM
END:VEVENT
END:VCALENDAR
