BEGIN:VCALENDAR
CALSCALE:GREGORIAN
VERSION:2.0
BEGIN:VTIMEZONE
TZID:Europe/Vienna
BEGIN:DAYLIGHT
DTSTART:19810329T020000
RRULE:FREQ=YEARLY;BYMONTH=3;BYDAY=-1SU
TZNAME:MESZ
TZOFFSETFROM:+0100
TZOFFSETTO:+0200
END:DAYLIGHT
BEGIN:STANDARD
DTSTART:19961027T030000
RRULE:FREQ=YEARLY;BYMONTH=10;BYDAY=-1SU
TZNAME:MEZ
TZOFFSETFROM:+0200
TZOFFSETTO:+0100
END:STANDARD
END:VTIMEZONE
BEGIN:VEVENT
CREATED:20231221T170959Z
DESCRIPTION:Öffentliche Veranstaltung .......Musiktheater für junges Publikum mit schwungvoller Livemusik, das uns die Welt der Zahlen sichtbar und hörbar macht. Ab 3 Jahren Deuer: 45 Minuten Die Musikvagabundinnen JuJu und Franz sind auf Konzertreise. Mit Hut, Stock und Damenunterrock. In einem der Koffer ist etwas Besonderes. Aber, oje sie haben die Kombination für das Zahlenschloss vergessen. Verzweifelt versuchen sie den Zahlencode herauszufinden. Auf der Bühne wird mit Hilfe der Zahlen und der Kinder komponiert, improvisiert, gesungen, getanzt und gerätselt. Es sind Kompositionen und Improvisationen von Judith Reiter und Julia Schreitl, die mit flinkem Bogen und viel heißer Luft weder vor schönen noch vor schrägen Tönen zurückschrecken.TeamBewegung/ Spiel/ Akkordeon/ Stimme: Franziska AdensamerBratsche/ Komposition/ Spiel/ Stimme: Judith ReiterSaxophon/ Bassklarinette/ Komposition/ Spiel/ Stimme: Julia SchreitlText/ Regie: Johanna JonaschJuJu und Franz / Österreich🎟️ Reservierung empfohlen:📞 0664 86 00 300 (telefonisch oder via WhatsApp)📧 tickets@kultur.st
DTEND;TZID=Europe/Vienna:20260228T235900
DTSTAMP:20231221T171224Z
DTSTART;TZID=Europe/Vienna:20260228T160000
LAST-MODIFIED:20231221T171210Z
LOCATION:[ku:L] Kunst- & Kulturhaus Öblarn\n8960 Öblarn 26\, Austria
SEQUENCE:0
STATUS:CONFIRMED
SUMMARY:Ein Hut, ein Stock, ein Damenunterrock
TRANSP:OPAQUE
UID:95378F1D-9035-46E4-B853-04D9DBE28066
URL;VALUE=URI:https://www.kultur.st/events-archiv/ein-hut-ein-stock-ein-damenunterrock
X-APPLE-CREATOR-IDENTITY:com.apple.calendar
X-APPLE-CREATOR-TEAM-IDENTITY:0000000000
X-APPLE-STRUCTURED-LOCATION;VALUE=URI;X-APPLE-MAPKIT-HANDLE=CAES4gEI2TIa
 Egl0CYfe4rpHQBHLh/sjZ/wrQCJnCgvDlnN0ZXJyZWljaBICQVQaClN0ZWllcm1hcmsqDUJl
 emlyayBMaWV6ZW4yB8OWYmxhcm46BDg5NjBCB8OWYmxhcm5SB8OWYmxhcm5aAjI2YgrDlmJs
 YXJuIDI2igEHw5ZibGFybioKw5ZibGFybiAyNjIKw5ZibGFybiAyNjIMODk2MCDDlmJsYXJu
 MgvDlnN0ZXJyZWljaDg5QABQAVonCiUSEgl0CYfe4rpHQBHLh/sjZ/wrQBjZMiDHj4Po89yn
 vJIBkAMB;X-APPLE-RADIUS=70.58735946348322;X-APPLE-REFERENCEFRAME=1;X-TIT
 LE="[ku:L] Kunst- & Kulturhaus Öblarn\n8960 Öblarn 26, Austria":geo:47.4
 60048,13.992974
BEGIN:VALARM
ACTION:DISPLAY
DESCRIPTION:This is an event reminder
TRIGGER:-P1D
UID:A4449477-3C11-44D3-AE1D-16287D87CEFF
X-WR-ALARMUID:A4449477-3C11-44D3-AE1D-16287D87CEFF
END:VALARM
BEGIN:VALARM
ACTION:DISPLAY
DESCRIPTION:This is an event reminder
TRIGGER:-PT1H
UID:F548110B-4C92-41EC-A1E4-AAB7E38B9653
X-WR-ALARMUID:F548110B-4C92-41EC-A1E4-AAB7E38B9653
END:VALARM
END:VEVENT
END:VCALENDAR
