BEGIN:VCALENDAR
CALSCALE:GREGORIAN
VERSION:2.0
BEGIN:VTIMEZONE
TZID:Europe/Vienna
BEGIN:DAYLIGHT
DTSTART:19810329T020000
RRULE:FREQ=YEARLY;BYMONTH=3;BYDAY=-1SU
TZNAME:MESZ
TZOFFSETFROM:+0100
TZOFFSETTO:+0200
END:DAYLIGHT
BEGIN:STANDARD
DTSTART:19961027T030000
RRULE:FREQ=YEARLY;BYMONTH=10;BYDAY=-1SU
TZNAME:MEZ
TZOFFSETFROM:+0200
TZOFFSETTO:+0100
END:STANDARD
END:VTIMEZONE
BEGIN:VEVENT
CREATED:20231221T170959Z
DESCRIPTION:Neben den unzähligen kulturellen Highlights und traditionellen Festen etabliert sich das „Öblarner Straßenfest“ zu einem festen Bestandteil im dichten Jahresreigen der Veranstaltungen. Eine Straßensperre, die alle freut: Am Freitag, dem 16. Juli ab 17 Uhr wird in Öblarn die Straße zwischen Gemeindeamt und Fischer-Brücke wieder abgesperrt. Nach einem legendären Fest, findet das Öblarner Straßenfest heuer seine Fortsetzung. Erwischte man im Vorjahr ein gut passendes „Fenster“ zwischen den Lockdowns, sieht es auch heuer wieder gut aus für die Öblarner Organisatoren rund um das Kunst- &amp; Kulturhaus [ku:L] Öblarn und Gasthof Stralzn. Für das in Ruhestand gegangene Gasthaus Schattleitner springt der Musikverein Öblarn ein. Drei Stationen, sechs Musikgruppen, allesamt aus Öblarn und der näheren Umgebung, sowie die Marktmusikkapelle Öblarn sorgen für sieben Stunden Nonstop-Musik.  Appa, d’Hoabuachan, Hirnbirnmusi, Paganin Soatnquartett, Sonnberger Hausmusi, WOAF liegend und die Marktmusikkapelle Öblarn unterhalten im „Bermudadreieck“ beim Öblarner Straßenfest.
DTEND;TZID=Europe/Vienna:20210716T235900
DTSTAMP:20231221T171224Z
DTSTART;TZID=Europe/Vienna:20210716T150000
LAST-MODIFIED:20231221T171210Z
LOCATION:[ku:L] Kunst- & Kulturhaus Öblarn\n8960 Öblarn 26\, Austria
SEQUENCE:0
STATUS:CONFIRMED
SUMMARY:Öblarner Straßenfest
TRANSP:OPAQUE
UID:95378F1D-9035-46E4-B853-04D9DBE28066
URL;VALUE=URI:https://www.kultur.st/events-archiv/oeblarner-strassenfest
X-APPLE-CREATOR-IDENTITY:com.apple.calendar
X-APPLE-CREATOR-TEAM-IDENTITY:0000000000
X-APPLE-STRUCTURED-LOCATION;VALUE=URI;X-APPLE-MAPKIT-HANDLE=CAES4gEI2TIa
 Egl0CYfe4rpHQBHLh/sjZ/wrQCJnCgvDlnN0ZXJyZWljaBICQVQaClN0ZWllcm1hcmsqDUJl
 emlyayBMaWV6ZW4yB8OWYmxhcm46BDg5NjBCB8OWYmxhcm5SB8OWYmxhcm5aAjI2YgrDlmJs
 YXJuIDI2igEHw5ZibGFybioKw5ZibGFybiAyNjIKw5ZibGFybiAyNjIMODk2MCDDlmJsYXJu
 MgvDlnN0ZXJyZWljaDg5QABQAVonCiUSEgl0CYfe4rpHQBHLh/sjZ/wrQBjZMiDHj4Po89yn
 vJIBkAMB;X-APPLE-RADIUS=70.58735946348322;X-APPLE-REFERENCEFRAME=1;X-TIT
 LE="[ku:L] Kunst- & Kulturhaus Öblarn\n8960 Öblarn 26, Austria":geo:47.4
 60048,13.992974
BEGIN:VALARM
ACTION:DISPLAY
DESCRIPTION:This is an event reminder
TRIGGER:-P1D
UID:A4449477-3C11-44D3-AE1D-16287D87CEFF
X-WR-ALARMUID:A4449477-3C11-44D3-AE1D-16287D87CEFF
END:VALARM
BEGIN:VALARM
ACTION:DISPLAY
DESCRIPTION:This is an event reminder
TRIGGER:-PT1H
UID:F548110B-4C92-41EC-A1E4-AAB7E38B9653
X-WR-ALARMUID:F548110B-4C92-41EC-A1E4-AAB7E38B9653
END:VALARM
END:VEVENT
END:VCALENDAR
