BEGIN:VCALENDAR
CALSCALE:GREGORIAN
VERSION:2.0
BEGIN:VTIMEZONE
TZID:Europe/Vienna
BEGIN:DAYLIGHT
DTSTART:19810329T020000
RRULE:FREQ=YEARLY;BYMONTH=3;BYDAY=-1SU
TZNAME:MESZ
TZOFFSETFROM:+0100
TZOFFSETTO:+0200
END:DAYLIGHT
BEGIN:STANDARD
DTSTART:19961027T030000
RRULE:FREQ=YEARLY;BYMONTH=10;BYDAY=-1SU
TZNAME:MEZ
TZOFFSETFROM:+0200
TZOFFSETTO:+0100
END:STANDARD
END:VTIMEZONE
BEGIN:VEVENT
CREATED:20231221T170959Z
DESCRIPTION:Plötzlich querschnittgelähmt – und doch voller LebenMi., 22. Oktober 2025 | 19:00 Uhr | Öblarner Haus für AlleEin einziger Augenblick – und alles ist anders. Ein Fahrradunfall verändert das Leben von Walter Seebacher von Grund auf. Plötzlich querschnittgelähmt, steht er vor einem Abgrund, den man sich kaum vorstellen kann. Doch statt zu zerbrechen, beginnt Walter, sein Leben neu zu entdecken – mit Glauben, Humor und einer erstaunlichen inneren Ruhe. In seinem Vortrag „(M)ein Versuch, Leid durch Akzeptanz, Glaube und Visionen zu meistern“ erzählt er offen, ehrlich und mit feinem Witz, wie aus Schmerz neue Stärke entstehen kann. „Diese Erfahrung hat mich noch demütiger, gläubiger und vielleicht sogar stärker – oder nur gelassener – gemacht“, sagt Walter über seinen Weg. Der Abend steht unter dem Motto:„Jedes Glück liegt wohl im Auge des Betrachters.“Was die Besucher erwartet, ist kein klassischer Vortrag. Es ist eine berührende Begegnung – mit einem Menschen, der gelernt hat, das Leben neu zu sehen. Walter spricht über das Loslassen, über Vertrauen und darüber, wie sich Leid verwandeln kann, wenn man es annimmt. Seine Worte gehen unter die Haut und schenken Zuversicht – wie ein Gespräch mit einem guten Freund.Musikalisch begleitet wird der Abend von Walters „Family Band“ sowie dem Quartett Just4Friends, das zusätzlich mitwirkt. Gemeinsam gestalten sie die Veranstaltung mit bekannten Liedern, die Walter eigens neu getextet hat. Diese Lieder verleihen dem Abend eine besondere Tiefe und machen seine Botschaft auch musikalisch erlebbar – bewegend, ehrlich und voller Gefühl.„Besonders freue ich mich über Menschen mit Einschränkungen – ihr seid wie die Kerze auf der Torte 🙂“, sagt Walter mit einem Lächeln. Ein Satz, der seine Haltung perfekt beschreibt: Dankbarkeit, Demut und Lebensfreude.Nach zwei restlos ausverkauften Abenden gibt es nun eine letzte Gelegenheit, Walter Seebacher live zu erleben – mit seiner Geschichte, seiner Musik und seiner ansteckenden Lebensenergie.Ein Abend, der Mut macht. Der bewegt. Und der zeigt, dass wahre Stärke dort beginnt, wo man das Leben mit offenem Herzen annimmt.Tickets:Vorverkauf: € 20Abendkasse: € 25Ermäßigter Eintritt für Menschenmit Behinderung (bis 50 %): € 15( ab 50% oder mit Rollstuhl) : freier EintrittVeranstaltungsort: Öblarner Haus für alle, Öblarn 99, 8960 ÖblarnJetzt Ticket online sichern und Teil dieses besonderen Moments werden.Ein Abend, der bewegt. Und lange nachwirkt.
DTEND;TZID=Europe/Vienna:20251022T235900
DTSTAMP:20231221T171224Z
DTSTART;TZID=Europe/Vienna:20251022T190000
LAST-MODIFIED:20231221T171210Z
LOCATION:[ku:L] Kunst- & Kulturhaus Öblarn\n8960 Öblarn 26\, Austria
SEQUENCE:0
STATUS:CONFIRMED
SUMMARY:Plötzlich querschnittgelähmt – und doch voller Leben
TRANSP:OPAQUE
UID:95378F1D-9035-46E4-B853-04D9DBE28066
URL;VALUE=URI:https://www.kultur.st/events-archiv/ploetzlich-querschnittgelaehmt
X-APPLE-CREATOR-IDENTITY:com.apple.calendar
X-APPLE-CREATOR-TEAM-IDENTITY:0000000000
X-APPLE-STRUCTURED-LOCATION;VALUE=URI;X-APPLE-MAPKIT-HANDLE=CAES4gEI2TIa
 Egl0CYfe4rpHQBHLh/sjZ/wrQCJnCgvDlnN0ZXJyZWljaBICQVQaClN0ZWllcm1hcmsqDUJl
 emlyayBMaWV6ZW4yB8OWYmxhcm46BDg5NjBCB8OWYmxhcm5SB8OWYmxhcm5aAjI2YgrDlmJs
 YXJuIDI2igEHw5ZibGFybioKw5ZibGFybiAyNjIKw5ZibGFybiAyNjIMODk2MCDDlmJsYXJu
 MgvDlnN0ZXJyZWljaDg5QABQAVonCiUSEgl0CYfe4rpHQBHLh/sjZ/wrQBjZMiDHj4Po89yn
 vJIBkAMB;X-APPLE-RADIUS=70.58735946348322;X-APPLE-REFERENCEFRAME=1;X-TIT
 LE="[ku:L] Kunst- & Kulturhaus Öblarn\n8960 Öblarn 26, Austria":geo:47.4
 60048,13.992974
BEGIN:VALARM
ACTION:DISPLAY
DESCRIPTION:This is an event reminder
TRIGGER:-P1D
UID:A4449477-3C11-44D3-AE1D-16287D87CEFF
X-WR-ALARMUID:A4449477-3C11-44D3-AE1D-16287D87CEFF
END:VALARM
BEGIN:VALARM
ACTION:DISPLAY
DESCRIPTION:This is an event reminder
TRIGGER:-PT1H
UID:F548110B-4C92-41EC-A1E4-AAB7E38B9653
X-WR-ALARMUID:F548110B-4C92-41EC-A1E4-AAB7E38B9653
END:VALARM
END:VEVENT
END:VCALENDAR
