BEGIN:VCALENDAR
CALSCALE:GREGORIAN
VERSION:2.0
BEGIN:VTIMEZONE
TZID:Europe/Vienna
BEGIN:DAYLIGHT
DTSTART:19810329T020000
RRULE:FREQ=YEARLY;BYMONTH=3;BYDAY=-1SU
TZNAME:MESZ
TZOFFSETFROM:+0100
TZOFFSETTO:+0200
END:DAYLIGHT
BEGIN:STANDARD
DTSTART:19961027T030000
RRULE:FREQ=YEARLY;BYMONTH=10;BYDAY=-1SU
TZNAME:MEZ
TZOFFSETFROM:+0200
TZOFFSETTO:+0100
END:STANDARD
END:VTIMEZONE
BEGIN:VEVENT
CREATED:20231221T170959Z
DESCRIPTION:Das Konzert kann auch über unseren Livestream verfolgt werden:https://cultour.digital/de/tour/ku-l-oeblarn-konzert/Reservierungen sind via WhatsApp (0664 86 00 300) oder per E-Mail (info@kultur.st) möglich.  Line-up: Claudia Schwab (Geige/Gesang) Hannah James (Akkordeon/Gesang/Tanz) Johannes Bär (Brass/Alphorn/Beatbox/Gesang) Vinzenz Härtel (Flügelhorn/Harmonika/Gitarre/Kontrabass/Gesang)Vier jodelnde Stimmen, ein fulminanter Tanzschuh, singende Geigensaiten, das englische Akkordeon und die steirische Harmonika, das Alphorn und die Tuba, die Gitarre und das Meer: diese einzigartige Zusammenkunft von vier Multi- InstrumentalistInnen aus der Steiermark, England, Irland und Vorarlberg verspricht ein rauschendes Fest des musikalischen Klanges aus dem Alpenland, dessen Echo bis hin zur irischen Hochalm und dem Land der Queen reicht.Bereits im November 2019 brachten die in Irland lebende Steirerin Claudia Schwab (Geige/Gesang/Komposition) und Miss Hannah James (Gesang/Akkordeon/Stepptanz)mit Schwab’s internationalem Quartett das KUL Öblarn zum schwingen. In diesem brandneuen Projekt treffen die KünsterInnen auf die zwei Vollblutmusikanten Johannes Bär und Vinzenz Härtel - mit Alphorn, Blechblasinstrumenten, jodelnden Stimmen, Gitarre, Kotrabass und einer Ziehharmonika:Landler und Steirer Melodien fahren in die Sohle des steppenden Holzschuhs, irische Tunes und englische Folksongs wandern über das Meer und finden sich auf der steirischen Alm wieder, eine flotte Polka trifft auf ein herzerwärmendes Liebeslied, ein Walzer lädt zum Träumen ein, wobei der Jodlfunk das innere Tanzbein zum beben bringt: es wird gejodelt, gegrooved, gesungen, gesteppt und gebradelt: ein musikalischer Ohrenschmaus auf höchstem Niveau welchen man sich auf keinen Fall entgehen lassen sollte!Claudia Schwab stammt ursprünglich aus der Steiermark und lebt heute als Geigerin, Sängerin und Komponistin in Irland. 2019 wurde sie mit dem „National Concert Hall - Sounding The Feminist Scheme 2019”, einem “Next Generation Bursary Award” (Irish Arts Council) und dem Neuen Deutschen Jazz-Preis ausgezeichnet, welchen sie mit der Band “Shreefpunk + Strings” erjodelte. 2020 folgte der „Hubert-von-Goisern-Förderpreis”. „She makes Yodel music modern and happening“ (Eelco Schilder, folkworld)Hannah James ist eine renommierte Sängerin, Musikerin und Clog Tänzerin aus Chesterfield/England. Sie erhielt zahlreiche Nominierungen in einigen der angesehensten Folk - Projekte Großbritanniens und ist als vielseitige Performerin international gefragt. In ihrem Solo Projekt “Jigdoll” kombiniert sie all ihre Talente zu einem unvergesslichen Lied- und Tanzerlebnis. “a true original” (the Guardian) Johannes Bär aus Andelsbuch im Bregenzerwald studierte Trompete am Mozarteum Salzburg, hat aber sein Instrumentarium ständig erweitert und nennt heute ca. 18 Blechblasinstrumente sein eigen. Er ist in etwa einem Dutzend Bands aktiv. Mit dem „Holstuonarmusigbigbandclub“ – kurz HMBC – landete er den Hit „Vo Mello bis ge Schoppornou“. Das Lied stieg im Sommer 2010 in die Charts ein und schaffte es in Österreich auf Platz 2.Vinzenz Härtel (ausgfuXt, Citoller Tanzgeiger) kommt aus einer legendären Musikanten-Familie: die Familie Härtel hat die Volksmusik in vielerlei Hinsicht geprägt. Von klein auf mit der Musik in Berührung hat Vinzenz so neben der traditionellen Volksmusik auch neue musikalische Wege gefunden und erkundet sie immer weiter. Aber nach wie vor schätzt und lebt er die Tradition, leitet die Musikwoche in Johnsbach und scheut vor gewagten Crossover-Nummern nicht zurück. VIDEOLINKS:Claudia Schwab &amp; Hannah James, “JODLFUNK“: https://www.youtube.com/watch?v=muXhEmWYGho AusgfuXt - Mei Bier is nit deppat: https://www.youtube.com/watch?v=S8IwKwSydXYDavid Helbock “Watermelon Man” (feat. Johannes Bär): https://www.youtube.com/watch?v=U1FzHqs8Twc  

DTEND;TZID=Europe/Vienna:20210605T235900
DTSTAMP:20231221T171224Z
DTSTART;TZID=Europe/Vienna:20210605T173000
LAST-MODIFIED:20231221T171210Z
LOCATION:[ku:L] Kunst- & Kulturhaus Öblarn\n8960 Öblarn 26\, Austria
SEQUENCE:0
STATUS:CONFIRMED
SUMMARY:CLAUDIA SCHWAB, HANNAH JAMES, JOHANNES BÄR & VINZENZ HÄRTEL
TRANSP:OPAQUE
UID:95378F1D-9035-46E4-B853-04D9DBE28066
URL;VALUE=URI:https://www.kultur.st/events-archiv/claudia-schwab-hannah-james-johannes-baer-vinzenz-haertel
X-APPLE-CREATOR-IDENTITY:com.apple.calendar
X-APPLE-CREATOR-TEAM-IDENTITY:0000000000
X-APPLE-STRUCTURED-LOCATION;VALUE=URI;X-APPLE-MAPKIT-HANDLE=CAES4gEI2TIa
 Egl0CYfe4rpHQBHLh/sjZ/wrQCJnCgvDlnN0ZXJyZWljaBICQVQaClN0ZWllcm1hcmsqDUJl
 emlyayBMaWV6ZW4yB8OWYmxhcm46BDg5NjBCB8OWYmxhcm5SB8OWYmxhcm5aAjI2YgrDlmJs
 YXJuIDI2igEHw5ZibGFybioKw5ZibGFybiAyNjIKw5ZibGFybiAyNjIMODk2MCDDlmJsYXJu
 MgvDlnN0ZXJyZWljaDg5QABQAVonCiUSEgl0CYfe4rpHQBHLh/sjZ/wrQBjZMiDHj4Po89yn
 vJIBkAMB;X-APPLE-RADIUS=70.58735946348322;X-APPLE-REFERENCEFRAME=1;X-TIT
 LE="[ku:L] Kunst- & Kulturhaus Öblarn\n8960 Öblarn 26, Austria":geo:47.4
 60048,13.992974
BEGIN:VALARM
ACTION:DISPLAY
DESCRIPTION:This is an event reminder
TRIGGER:-P1D
UID:A4449477-3C11-44D3-AE1D-16287D87CEFF
X-WR-ALARMUID:A4449477-3C11-44D3-AE1D-16287D87CEFF
END:VALARM
BEGIN:VALARM
ACTION:DISPLAY
DESCRIPTION:This is an event reminder
TRIGGER:-PT1H
UID:F548110B-4C92-41EC-A1E4-AAB7E38B9653
X-WR-ALARMUID:F548110B-4C92-41EC-A1E4-AAB7E38B9653
END:VALARM
END:VEVENT
END:VCALENDAR
