BEGIN:VCALENDAR
CALSCALE:GREGORIAN
VERSION:2.0
BEGIN:VTIMEZONE
TZID:Europe/Vienna
BEGIN:DAYLIGHT
DTSTART:19810329T020000
RRULE:FREQ=YEARLY;BYMONTH=3;BYDAY=-1SU
TZNAME:MESZ
TZOFFSETFROM:+0100
TZOFFSETTO:+0200
END:DAYLIGHT
BEGIN:STANDARD
DTSTART:19961027T030000
RRULE:FREQ=YEARLY;BYMONTH=10;BYDAY=-1SU
TZNAME:MEZ
TZOFFSETFROM:+0200
TZOFFSETTO:+0100
END:STANDARD
END:VTIMEZONE
BEGIN:VEVENT
CREATED:20231221T170959Z
DESCRIPTION:&quot;Mitleid Crisis&quot; 30 Jahre „Kasperltheater“ mit den Musikkabarettisten Gloggi &amp; Schicho. Wer 30 Jahre Bühne auf dem Buckel hat, der kann schon was erzählen.  Und dass den beiden „Kasperln“ aufgrund ihrer langjährigen Karriere mitunter auch Mitleid entgegenschlägt, ist der Grund, dass sie in die Mitleidcrisis gestürzt sind. Auch selbst haben sie 30 Jahre lang Mitleid gehabt, die zwei Vollblutblödler aus der Steiermark. Mitleid mit sich selbst, mit dem Partner, dem Publikum, den Veranstaltern, ja sogar mit dem Programm. Sie waren mit dem Mitleid quasi verheiratet.  Aber jetzt im besten Mitleidalter haben sie sich getrennt. Vom Mitleid einfach getrennt.  Grund genug, dass die beiden Lachmuskeltrainer eine mitleidlose 30jährige Outung hinpfeffern, die sich gewaschen hat.  Dabei mischen sich ihre schönsten Hits mit ihren schiachsten Erinnerungen bezüglich Publikum und sich selbst.  Das Jubiläumsprogramm ist eine Berg und Talfahrt der Zwerchgefühle ohne Mitleid auf Tränenverluste.  Man darf das Publikum jetzt schon bemitleiden.www.diegimpel.com
DTEND;TZID=Europe/Vienna:20101008T235900
DTSTAMP:20231221T171224Z
DTSTART;TZID=Europe/Vienna:20101008T180000
LAST-MODIFIED:20231221T171210Z
LOCATION:[ku:L] Kunst- & Kulturhaus Öblarn\n8960 Öblarn 26\, Austria
SEQUENCE:0
STATUS:CONFIRMED
SUMMARY:Kabarett: Die Gimpel - Mitleid Crisis
TRANSP:OPAQUE
UID:95378F1D-9035-46E4-B853-04D9DBE28066
URL;VALUE=URI:https://www.kultur.st/events-archiv/kabarett-die-gimpel-mitleid-crisis
X-APPLE-CREATOR-IDENTITY:com.apple.calendar
X-APPLE-CREATOR-TEAM-IDENTITY:0000000000
X-APPLE-STRUCTURED-LOCATION;VALUE=URI;X-APPLE-MAPKIT-HANDLE=CAES4gEI2TIa
 Egl0CYfe4rpHQBHLh/sjZ/wrQCJnCgvDlnN0ZXJyZWljaBICQVQaClN0ZWllcm1hcmsqDUJl
 emlyayBMaWV6ZW4yB8OWYmxhcm46BDg5NjBCB8OWYmxhcm5SB8OWYmxhcm5aAjI2YgrDlmJs
 YXJuIDI2igEHw5ZibGFybioKw5ZibGFybiAyNjIKw5ZibGFybiAyNjIMODk2MCDDlmJsYXJu
 MgvDlnN0ZXJyZWljaDg5QABQAVonCiUSEgl0CYfe4rpHQBHLh/sjZ/wrQBjZMiDHj4Po89yn
 vJIBkAMB;X-APPLE-RADIUS=70.58735946348322;X-APPLE-REFERENCEFRAME=1;X-TIT
 LE="[ku:L] Kunst- & Kulturhaus Öblarn\n8960 Öblarn 26, Austria":geo:47.4
 60048,13.992974
BEGIN:VALARM
ACTION:DISPLAY
DESCRIPTION:This is an event reminder
TRIGGER:-P1D
UID:A4449477-3C11-44D3-AE1D-16287D87CEFF
X-WR-ALARMUID:A4449477-3C11-44D3-AE1D-16287D87CEFF
END:VALARM
BEGIN:VALARM
ACTION:DISPLAY
DESCRIPTION:This is an event reminder
TRIGGER:-PT1H
UID:F548110B-4C92-41EC-A1E4-AAB7E38B9653
X-WR-ALARMUID:F548110B-4C92-41EC-A1E4-AAB7E38B9653
END:VALARM
END:VEVENT
END:VCALENDAR
