BEGIN:VCALENDAR
CALSCALE:GREGORIAN
VERSION:2.0
BEGIN:VTIMEZONE
TZID:Europe/Vienna
BEGIN:DAYLIGHT
DTSTART:19810329T020000
RRULE:FREQ=YEARLY;BYMONTH=3;BYDAY=-1SU
TZNAME:MESZ
TZOFFSETFROM:+0100
TZOFFSETTO:+0200
END:DAYLIGHT
BEGIN:STANDARD
DTSTART:19961027T030000
RRULE:FREQ=YEARLY;BYMONTH=10;BYDAY=-1SU
TZNAME:MEZ
TZOFFSETFROM:+0200
TZOFFSETTO:+0100
END:STANDARD
END:VTIMEZONE
BEGIN:VEVENT
CREATED:20231221T170959Z
DESCRIPTION:Die vier überaus charmanten Herrn des Mundharmonikaquartetts SVÄNG begeistern mit einem anspruchsvollen und abwechslungsreichen Repertoire Publikum, Veranstalter und Presse weltweit.  Wen wundert's, denn der vierkehlige Chor aus tiefer Bass-, Akkord- und zwei Sopran-Mundharmonikas swingt zauberhaft und spieltechnisch höchst kompetent. Das Mundharmonika-Quartett hat es auf diesen für Finnland zwar typischen, jedoch nicht häufig genutzten Instrumenten zu solcher Meisterschaft gebracht, dass man seinen Polkas und Tangos nur genauso gebannt wie verzückt lauschen kann.  Nordische Tanzgrooves, slawische Melancholie und Balkanrhythmen – als das fließt in das „atemberaubende&quot; Musikerlebnis ein, das die vier Herren bieten. Drei von ihnen entstammen der renommierten Sibelius Akademie und verkörpern dennoch das hundertprozentige Gegenteil von Akademismus. Und mit Pasi Leino haben Sväng einen wirklichen Veteranen der berühmten finnischen Mundharmonika-Orchester-Tradition in ihren Reihen.  Sväng tourten neben zahlreichen Konzerten in Finnland intensiv durch Frankreich, Großbritannien, Deutschland, Japan, Österreich, Italien und viele weitere Länder. In Jools Holland´s legendärer Silvestershow auf BBC 2 begeisterten Sväng am 31.12.2008 ein Millionenpublikum vor den Bildschirmen. 
DTEND;TZID=Europe/Vienna:20130517T235900
DTSTAMP:20231221T171224Z
DTSTART;TZID=Europe/Vienna:20130517T180000
LAST-MODIFIED:20231221T171210Z
LOCATION:[ku:L] Kunst- & Kulturhaus Öblarn\n8960 Öblarn 26\, Austria
SEQUENCE:0
STATUS:CONFIRMED
SUMMARY:SVÄNG - das finnische Mundharmonika Quartett
TRANSP:OPAQUE
UID:95378F1D-9035-46E4-B853-04D9DBE28066
URL;VALUE=URI:https://www.kultur.st/events-archiv/svaeng-das-finnische-mundharmonika-quartett
X-APPLE-CREATOR-IDENTITY:com.apple.calendar
X-APPLE-CREATOR-TEAM-IDENTITY:0000000000
X-APPLE-STRUCTURED-LOCATION;VALUE=URI;X-APPLE-MAPKIT-HANDLE=CAES4gEI2TIa
 Egl0CYfe4rpHQBHLh/sjZ/wrQCJnCgvDlnN0ZXJyZWljaBICQVQaClN0ZWllcm1hcmsqDUJl
 emlyayBMaWV6ZW4yB8OWYmxhcm46BDg5NjBCB8OWYmxhcm5SB8OWYmxhcm5aAjI2YgrDlmJs
 YXJuIDI2igEHw5ZibGFybioKw5ZibGFybiAyNjIKw5ZibGFybiAyNjIMODk2MCDDlmJsYXJu
 MgvDlnN0ZXJyZWljaDg5QABQAVonCiUSEgl0CYfe4rpHQBHLh/sjZ/wrQBjZMiDHj4Po89yn
 vJIBkAMB;X-APPLE-RADIUS=70.58735946348322;X-APPLE-REFERENCEFRAME=1;X-TIT
 LE="[ku:L] Kunst- & Kulturhaus Öblarn\n8960 Öblarn 26, Austria":geo:47.4
 60048,13.992974
BEGIN:VALARM
ACTION:DISPLAY
DESCRIPTION:This is an event reminder
TRIGGER:-P1D
UID:A4449477-3C11-44D3-AE1D-16287D87CEFF
X-WR-ALARMUID:A4449477-3C11-44D3-AE1D-16287D87CEFF
END:VALARM
BEGIN:VALARM
ACTION:DISPLAY
DESCRIPTION:This is an event reminder
TRIGGER:-PT1H
UID:F548110B-4C92-41EC-A1E4-AAB7E38B9653
X-WR-ALARMUID:F548110B-4C92-41EC-A1E4-AAB7E38B9653
END:VALARM
END:VEVENT
END:VCALENDAR
