BEGIN:VCALENDAR
CALSCALE:GREGORIAN
VERSION:2.0
BEGIN:VTIMEZONE
TZID:Europe/Vienna
BEGIN:DAYLIGHT
DTSTART:19810329T020000
RRULE:FREQ=YEARLY;BYMONTH=3;BYDAY=-1SU
TZNAME:MESZ
TZOFFSETFROM:+0100
TZOFFSETTO:+0200
END:DAYLIGHT
BEGIN:STANDARD
DTSTART:19961027T030000
RRULE:FREQ=YEARLY;BYMONTH=10;BYDAY=-1SU
TZNAME:MEZ
TZOFFSETFROM:+0200
TZOFFSETTO:+0100
END:STANDARD
END:VTIMEZONE
BEGIN:VEVENT
CREATED:20231221T170959Z
DESCRIPTION: &quot;Als Studiomusiker haben sie sich bereits einen  vortrefflichen Namen gemacht, wenn sie schon mit Künstlern wie Buddy  Guy, B.B. King, ZZ Top, Ray Charles, Jonny Lang, Pat Travers, Koko Taylor oder Kenny Wayne Shepherd zu tun hatten. Die  Geschwister haben bereits einen Emmy im Regal stehen und Son Seals  hatte die beiden Brüder auf seinem Album &quot;Lettin' Go&quot; zusammen mit Trey Anastasio (Phish) für die Nummer &quot;Funky Bitch&quot; im Studio.Mit  dem Produzenten Jim Gaines hat man auch schon zusammen gearbeitet. Mit  &quot;What U Want&quot; pflanzen die Bihlmans bereits ihr viertes Album ins  Getriebe des Blues Rocks und deren Sechszylinder läuft geschmeidig auf allen Pötten. Was  die Beiden zu bieten haben, deckt den gesamten Baumwollacker ab und,  verdammt noch eins, deren 12-Takter ist genau das Zeug, waseinem kaum  stillsitzen lässt.  Ohne Brechstange haben sich The Bihlman Bros. mit &quot;What U Want&quot; in die 2010er-Top Ten des Blues Rock-Genres gespielt.
DTEND;TZID=Europe/Vienna:20130420T235900
DTSTAMP:20231221T171224Z
DTSTART;TZID=Europe/Vienna:20130420T180000
LAST-MODIFIED:20231221T171210Z
LOCATION:[ku:L] Kunst- & Kulturhaus Öblarn\n8960 Öblarn 26\, Austria
SEQUENCE:0
STATUS:CONFIRMED
SUMMARY:Bihlman Brothers
TRANSP:OPAQUE
UID:95378F1D-9035-46E4-B853-04D9DBE28066
URL;VALUE=URI:https://www.kultur.st/events-archiv/bihlman-brothers
X-APPLE-CREATOR-IDENTITY:com.apple.calendar
X-APPLE-CREATOR-TEAM-IDENTITY:0000000000
X-APPLE-STRUCTURED-LOCATION;VALUE=URI;X-APPLE-MAPKIT-HANDLE=CAES4gEI2TIa
 Egl0CYfe4rpHQBHLh/sjZ/wrQCJnCgvDlnN0ZXJyZWljaBICQVQaClN0ZWllcm1hcmsqDUJl
 emlyayBMaWV6ZW4yB8OWYmxhcm46BDg5NjBCB8OWYmxhcm5SB8OWYmxhcm5aAjI2YgrDlmJs
 YXJuIDI2igEHw5ZibGFybioKw5ZibGFybiAyNjIKw5ZibGFybiAyNjIMODk2MCDDlmJsYXJu
 MgvDlnN0ZXJyZWljaDg5QABQAVonCiUSEgl0CYfe4rpHQBHLh/sjZ/wrQBjZMiDHj4Po89yn
 vJIBkAMB;X-APPLE-RADIUS=70.58735946348322;X-APPLE-REFERENCEFRAME=1;X-TIT
 LE="[ku:L] Kunst- & Kulturhaus Öblarn\n8960 Öblarn 26, Austria":geo:47.4
 60048,13.992974
BEGIN:VALARM
ACTION:DISPLAY
DESCRIPTION:This is an event reminder
TRIGGER:-P1D
UID:A4449477-3C11-44D3-AE1D-16287D87CEFF
X-WR-ALARMUID:A4449477-3C11-44D3-AE1D-16287D87CEFF
END:VALARM
BEGIN:VALARM
ACTION:DISPLAY
DESCRIPTION:This is an event reminder
TRIGGER:-PT1H
UID:F548110B-4C92-41EC-A1E4-AAB7E38B9653
X-WR-ALARMUID:F548110B-4C92-41EC-A1E4-AAB7E38B9653
END:VALARM
END:VEVENT
END:VCALENDAR
