BEGIN:VCALENDAR
CALSCALE:GREGORIAN
VERSION:2.0
BEGIN:VTIMEZONE
TZID:Europe/Vienna
BEGIN:DAYLIGHT
DTSTART:19810329T020000
RRULE:FREQ=YEARLY;BYMONTH=3;BYDAY=-1SU
TZNAME:MESZ
TZOFFSETFROM:+0100
TZOFFSETTO:+0200
END:DAYLIGHT
BEGIN:STANDARD
DTSTART:19961027T030000
RRULE:FREQ=YEARLY;BYMONTH=10;BYDAY=-1SU
TZNAME:MEZ
TZOFFSETFROM:+0200
TZOFFSETTO:+0100
END:STANDARD
END:VTIMEZONE
BEGIN:VEVENT
CREATED:20231221T170959Z
DESCRIPTION:Jetzt Ticket sichern:OETICKET:Info für alle Vip Ticketbesucher:Essen u. Trinken (warme Mahlzeit &amp; Dessert 18 - 20 Uhr &amp; in der Pause)Saal GrimmingDas außergewöhnliche Musikprojekt aus Südtirol von Multiinstrumentalist, Komponist und Produzent Herbert Pixner (Diatonische Harmonika, Klarinette, Saxophon, Trompete, Percus-sion), Manuel Randi (Flamenco-Gitarre, E-Gitarre, Gipsy-Gitarre) Heidi Pixner (Harfe) und Werner Unterlercher (Kontrabass) zählt zur Zeit zu den erfolgreichsten Acts in der Sparte „neue &amp; progressive Volksmusik“.Jede regionale Zuweisung ist bei diesem Projekt allerdings überflüssig, weil sich damit die Kraft ihrer Performance ohnehin nicht erklären lässt.Die Ausnahmemusiker bauen mit ihrer unkonventionellen Besetzung musikalische Brücken zwischen ihren entlegenen Heimatregionen. Mit verspielt-lasziver Sanftmut, wuchtigen Rock und Bluesriffs, brillianter Technik und extatischer Spielfreude begeistern sie seit Jahren ein immer größer werdendes Publikum.Euphorie, Energie, Spannung und viel freie Improvisation - das ist die Mischung mit der das Herbert Pixner Projekt das Publikum elektrisiert.Intelligente, authentische Instrumentalmusik mit viel Leichtigkeit in einem famosem Zusammenspiel. Hier werden vielfältige Klangteppiche gewoben, es ist Platz für sanfte Melancholie und auch für vor nichts Halt machenden Ausbrüchen. Minimalistisch, schroff, episch und sehr sexy klingt das.Das alles ist Alpen-Weltmusik ohne kulturelle Beliebigkeit bei gipfelhoher Musikalität. Sie verkörpert Freiheitsdrang und Romantik-Sturm, Wildheit - und vor allem unbändigen Spaß konstatiert die Abendzeitung München.Das ist frei, ungezähmt, teils cool zurückhaltend, teils so leidenschaftlich fordernd, dass man fast vergisst, dass live nur vier Personen auf der Bühne sitzen.So soll Musik klingen in einer Welt, in der sich die Grenzen nicht klar ziehen lassen. In der alles auseinander zu fallen scheint und doch alles irgendwie zusammengehört.Manchmal ist die Musik kräftig, manchmal verhalten, manchmal schaut sie auf die Erde, manchmal in die Sterne. Töne, die leuchten!(Südtiroler Wochenmagazin FF)Herbert Pixner lässt seine Zuhörer beinahe atemlos zurück (Süddeutsche Zeitung)
DTEND;TZID=Europe/Vienna:20211105T235900
DTSTAMP:20231221T171224Z
DTSTART;TZID=Europe/Vienna:20211105T190000
LAST-MODIFIED:20231221T171210Z
LOCATION:[ku:L] Kunst- & Kulturhaus Öblarn\n8960 Öblarn 26\, Austria
SEQUENCE:0
STATUS:CONFIRMED
SUMMARY:Herbert Pixner Projekt
TRANSP:OPAQUE
UID:95378F1D-9035-46E4-B853-04D9DBE28066
URL;VALUE=URI:https://www.kultur.st/events-archiv/herbert-pixner-projekt
X-APPLE-CREATOR-IDENTITY:com.apple.calendar
X-APPLE-CREATOR-TEAM-IDENTITY:0000000000
X-APPLE-STRUCTURED-LOCATION;VALUE=URI;X-APPLE-MAPKIT-HANDLE=CAES4gEI2TIa
 Egl0CYfe4rpHQBHLh/sjZ/wrQCJnCgvDlnN0ZXJyZWljaBICQVQaClN0ZWllcm1hcmsqDUJl
 emlyayBMaWV6ZW4yB8OWYmxhcm46BDg5NjBCB8OWYmxhcm5SB8OWYmxhcm5aAjI2YgrDlmJs
 YXJuIDI2igEHw5ZibGFybioKw5ZibGFybiAyNjIKw5ZibGFybiAyNjIMODk2MCDDlmJsYXJu
 MgvDlnN0ZXJyZWljaDg5QABQAVonCiUSEgl0CYfe4rpHQBHLh/sjZ/wrQBjZMiDHj4Po89yn
 vJIBkAMB;X-APPLE-RADIUS=70.58735946348322;X-APPLE-REFERENCEFRAME=1;X-TIT
 LE="[ku:L] Kunst- & Kulturhaus Öblarn\n8960 Öblarn 26, Austria":geo:47.4
 60048,13.992974
BEGIN:VALARM
ACTION:DISPLAY
DESCRIPTION:This is an event reminder
TRIGGER:-P1D
UID:A4449477-3C11-44D3-AE1D-16287D87CEFF
X-WR-ALARMUID:A4449477-3C11-44D3-AE1D-16287D87CEFF
END:VALARM
BEGIN:VALARM
ACTION:DISPLAY
DESCRIPTION:This is an event reminder
TRIGGER:-PT1H
UID:F548110B-4C92-41EC-A1E4-AAB7E38B9653
X-WR-ALARMUID:F548110B-4C92-41EC-A1E4-AAB7E38B9653
END:VALARM
END:VEVENT
END:VCALENDAR
