BEGIN:VCALENDAR
CALSCALE:GREGORIAN
VERSION:2.0
BEGIN:VTIMEZONE
TZID:Europe/Vienna
BEGIN:DAYLIGHT
DTSTART:19810329T020000
RRULE:FREQ=YEARLY;BYMONTH=3;BYDAY=-1SU
TZNAME:MESZ
TZOFFSETFROM:+0100
TZOFFSETTO:+0200
END:DAYLIGHT
BEGIN:STANDARD
DTSTART:19961027T030000
RRULE:FREQ=YEARLY;BYMONTH=10;BYDAY=-1SU
TZNAME:MEZ
TZOFFSETFROM:+0200
TZOFFSETTO:+0100
END:STANDARD
END:VTIMEZONE
BEGIN:VEVENT
CREATED:20231221T170959Z
DESCRIPTION:Sonntag, 19.April 2026 - Kursort: [ ku:L ]Workshop 1: 10:00 – 12:30Workshop 2: 14:00 – 16:30 Die inhaltlichen Schwerpunkte dieses Anfänger-Workshops liegen in der Vermittlung der Grundschritte. Spielerisch werden die wichtigsten Schritte bzw. Töne, sowie eine der bekanntesten und beliebtesten Schrittkombinationen erlernt. Es bleibt auch Raum, um eigenen Ideen und Improvisationen in die Tanzsequenzen einfließen zu lassen.Geschichte des Stepptanzes:Der amerikanische Stepptanz entstand im 19. Jhd.in den USA aus einer Verschmelzung der Tanzstile irischer Einwanderer und westafrikanischer Sklaven – diese arbeiteten auf den Plantagen der Südstaaten und wurden bestraft, wenn sie die Trommeln benutzten, so begannen sie stattdessen die komplexen Rhythmen ihrer Kulturen durch das Stampfen ihrer Füße und ihren Körper auszudrücken. Die irischen Tänzer brachten die präzise Fußarbeit, während die afroamerikanischen Stile komplexe Rhythmen und Improvisationen einbrachten. Künstler wie Bill "Bojangles" Robinson prägten den Tanz in Hollywood-Filmen und den Jazz-Clubs der 1930er-Jahre.Heute ist der Stepptanz eine international anerkannte Kunstform.Seminarleiterin:Renate Gebhard, Tänzerin und Schauspielerin.10 Jahre Stepptanzunterricht bei Karin Ould Chih und Lane Alexander.Renate kommt aus dem Raum Stuttgart und wohnt seit 2 Jahren in Salzburg.Sie spielte bis 2011 an verschiedenen Off-Theatern in Deutschland, führte Regie und unterrichtet Stepp-Tanz (auch für Kinder).Mitzubringen sind:· Bequeme Kleidung· "laute Schuhe" (mit gereinigten Leder- oder harten Gummisohlen, sodass man Töne hören kann)· Wer Stepptanzschuhe hat, darf diese gerne mitbringen, jedoch bitte die Metallplatten mit Panzertape abkleben, damit der Boden geschont wird)
DTEND;TZID=Europe/Vienna:20260419T235900
DTSTAMP:20231221T171224Z
DTSTART;TZID=Europe/Vienna:20260419T100000
LAST-MODIFIED:20231221T171210Z
LOCATION:[ku:L] Kunst- & Kulturhaus Öblarn\n8960 Öblarn 26\, Austria
SEQUENCE:0
STATUS:CONFIRMED
SUMMARY:Amerikanischer Stepptanz
TRANSP:OPAQUE
UID:95378F1D-9035-46E4-B853-04D9DBE28066
URL;VALUE=URI:https://www.kultur.st/events-archiv/amerikanischer-stepptanz-tanzen-wie-fred-astaire-ginger-rogers-its-swing-time
X-APPLE-CREATOR-IDENTITY:com.apple.calendar
X-APPLE-CREATOR-TEAM-IDENTITY:0000000000
X-APPLE-STRUCTURED-LOCATION;VALUE=URI;X-APPLE-MAPKIT-HANDLE=CAES4gEI2TIa
 Egl0CYfe4rpHQBHLh/sjZ/wrQCJnCgvDlnN0ZXJyZWljaBICQVQaClN0ZWllcm1hcmsqDUJl
 emlyayBMaWV6ZW4yB8OWYmxhcm46BDg5NjBCB8OWYmxhcm5SB8OWYmxhcm5aAjI2YgrDlmJs
 YXJuIDI2igEHw5ZibGFybioKw5ZibGFybiAyNjIKw5ZibGFybiAyNjIMODk2MCDDlmJsYXJu
 MgvDlnN0ZXJyZWljaDg5QABQAVonCiUSEgl0CYfe4rpHQBHLh/sjZ/wrQBjZMiDHj4Po89yn
 vJIBkAMB;X-APPLE-RADIUS=70.58735946348322;X-APPLE-REFERENCEFRAME=1;X-TIT
 LE="[ku:L] Kunst- & Kulturhaus Öblarn\n8960 Öblarn 26, Austria":geo:47.4
 60048,13.992974
BEGIN:VALARM
ACTION:DISPLAY
DESCRIPTION:This is an event reminder
TRIGGER:-P1D
UID:A4449477-3C11-44D3-AE1D-16287D87CEFF
X-WR-ALARMUID:A4449477-3C11-44D3-AE1D-16287D87CEFF
END:VALARM
BEGIN:VALARM
ACTION:DISPLAY
DESCRIPTION:This is an event reminder
TRIGGER:-PT1H
UID:F548110B-4C92-41EC-A1E4-AAB7E38B9653
X-WR-ALARMUID:F548110B-4C92-41EC-A1E4-AAB7E38B9653
END:VALARM
END:VEVENT
END:VCALENDAR
