BEGIN:VCALENDAR
CALSCALE:GREGORIAN
VERSION:2.0
BEGIN:VTIMEZONE
TZID:Europe/Vienna
BEGIN:DAYLIGHT
DTSTART:19810329T020000
RRULE:FREQ=YEARLY;BYMONTH=3;BYDAY=-1SU
TZNAME:MESZ
TZOFFSETFROM:+0100
TZOFFSETTO:+0200
END:DAYLIGHT
BEGIN:STANDARD
DTSTART:19961027T030000
RRULE:FREQ=YEARLY;BYMONTH=10;BYDAY=-1SU
TZNAME:MEZ
TZOFFSETFROM:+0200
TZOFFSETTO:+0100
END:STANDARD
END:VTIMEZONE
BEGIN:VEVENT
CREATED:20231221T170959Z
DESCRIPTION:&quot;Im Leben lag mein Herz, in Tod und Traum&quot;Stimmungen, Freuden und Leiden  
Lesung: Kammerschauspieler Prof Gerhard Ballucham Flügel: Johanna Müller-Frey 
 Prof. Gerhard BALLUCH  Geboren in Wien, absolvierte Prof. Gerhard Balluch  seine Ausbildung an der Schauspielschule Krauss und an der Universität  Wien (Theaterwissenschaften). Es folgten zahlreiche Engagements als  Schauspieler und Regisseur an renommierten Bühnen im In- und Ausland  (Schauspielhaus Graz, Schauspielhaus Stuttgart, Burgtheater Wien); zudem  ist Prof. Balluch als Produzent tätig und leitet, gemeinsam mit seiner  Frau, eine eigene Produktionsfirma.   Johanna Müller-FreyKünstlerbiographie: Geboren in Graz Pianistin und Sängerin  AUSBILDUNGErsten Klavierunterricht in der  Begabtenklasse bei Prof. Barbara Maresch an der Kunstuniversität Graz  und bei Mag. Constanze Reichholf-Thaller am J. J. Fux-Konservatorium in  Graz.1993 IGP-Studium bei Prof. Eugen Jakab an der Kunstuniversität Graz.1997 Lehrbefähigung mit Auszeichnung.2000  zweite Diplomprüfung mit Auszeichnung und Ernennung zur Magistra  artium. 1999 als Korrepetitorin beim internationalen Opernworkshop in  Bayreuth tätig. Zahlreiche Konzerte als Liedbegleiterin (gemeinsam mit  Moritz Gogg, Bariton, Hamburgische Staatsoper).Von 1999 bis 2002  Gesangsstudium bei Ks. Josef Hopferwieser am Konservatorium Wien. 2002  Diplom im Fach Sologesang mit Auszeichnung. 
DTEND;TZID=Europe/Vienna:20130525T235900
DTSTAMP:20231221T171224Z
DTSTART;TZID=Europe/Vienna:20130525T180000
LAST-MODIFIED:20231221T171210Z
LOCATION:[ku:L] Kunst- & Kulturhaus Öblarn\n8960 Öblarn 26\, Austria
SEQUENCE:0
STATUS:CONFIRMED
SUMMARY:Lesung & Klassik
TRANSP:OPAQUE
UID:95378F1D-9035-46E4-B853-04D9DBE28066
URL;VALUE=URI:https://www.kultur.st/events-archiv/lesung-klassik
X-APPLE-CREATOR-IDENTITY:com.apple.calendar
X-APPLE-CREATOR-TEAM-IDENTITY:0000000000
X-APPLE-STRUCTURED-LOCATION;VALUE=URI;X-APPLE-MAPKIT-HANDLE=CAES4gEI2TIa
 Egl0CYfe4rpHQBHLh/sjZ/wrQCJnCgvDlnN0ZXJyZWljaBICQVQaClN0ZWllcm1hcmsqDUJl
 emlyayBMaWV6ZW4yB8OWYmxhcm46BDg5NjBCB8OWYmxhcm5SB8OWYmxhcm5aAjI2YgrDlmJs
 YXJuIDI2igEHw5ZibGFybioKw5ZibGFybiAyNjIKw5ZibGFybiAyNjIMODk2MCDDlmJsYXJu
 MgvDlnN0ZXJyZWljaDg5QABQAVonCiUSEgl0CYfe4rpHQBHLh/sjZ/wrQBjZMiDHj4Po89yn
 vJIBkAMB;X-APPLE-RADIUS=70.58735946348322;X-APPLE-REFERENCEFRAME=1;X-TIT
 LE="[ku:L] Kunst- & Kulturhaus Öblarn\n8960 Öblarn 26, Austria":geo:47.4
 60048,13.992974
BEGIN:VALARM
ACTION:DISPLAY
DESCRIPTION:This is an event reminder
TRIGGER:-P1D
UID:A4449477-3C11-44D3-AE1D-16287D87CEFF
X-WR-ALARMUID:A4449477-3C11-44D3-AE1D-16287D87CEFF
END:VALARM
BEGIN:VALARM
ACTION:DISPLAY
DESCRIPTION:This is an event reminder
TRIGGER:-PT1H
UID:F548110B-4C92-41EC-A1E4-AAB7E38B9653
X-WR-ALARMUID:F548110B-4C92-41EC-A1E4-AAB7E38B9653
END:VALARM
END:VEVENT
END:VCALENDAR
