BEGIN:VCALENDAR
CALSCALE:GREGORIAN
VERSION:2.0
BEGIN:VTIMEZONE
TZID:Europe/Vienna
BEGIN:DAYLIGHT
DTSTART:19810329T020000
RRULE:FREQ=YEARLY;BYMONTH=3;BYDAY=-1SU
TZNAME:MESZ
TZOFFSETFROM:+0100
TZOFFSETTO:+0200
END:DAYLIGHT
BEGIN:STANDARD
DTSTART:19961027T030000
RRULE:FREQ=YEARLY;BYMONTH=10;BYDAY=-1SU
TZNAME:MEZ
TZOFFSETFROM:+0200
TZOFFSETTO:+0100
END:STANDARD
END:VTIMEZONE
BEGIN:VEVENT
CREATED:20231221T170959Z
DESCRIPTION:Line up  
Shae Fiol - Stimme, GitarreMireya Ramos - Stimme, ViolineYesenia Reyes - Stimme, BassJulie Acosta - Stimme, TrompeteStil: Mariachi, Cumbia, Latin, Folk, WeltmusikHerkunft: Mexiko, Puerto Rico, Kuba, KolumbienWohnhaft: USA (NYC)Programmtitel aus dem neuen Album 2020: &quot;Indestructible” 2015 bereits Grammy nominiert, haben sie 2017 den Latin Grammy Award für ihr Album &quot;Las Caras Lindas&quot; gewonnen und sind zu hoch gelobten Pressefavoriten avanciert: Flor de Toloache……erobern die Herzen von Fans der traditionellen und zeitgenössischen Mariachi-Musik. Was sie auszeichnet: eine unverwechselbare musikalische Vision - und der raffinierte Einsatz traditioneller Mariachi-Instrumente.Hoch gelobt wurden ihre Auftritte im amerikanischen Rolling Stone, im Billboard Magazine, im New Yorker, in GQ sowie in der New York Times. Nach einem vielbeachteten &quot;Tiny Desk Concert&quot;-Auftritt beim US-Radiosender NPR führte ihre Zusammenarbeit mit der Rock-Supergroup The Arcs zu Auftritten bei der Late Show with Stephen Colbert und bei Later… With Jools Holland im britischen Fernsehen.Bio2008 gegründet und von Beginn an von den Sängerinnen Mireya I. Ramos und Shae Fiol angeführt, begann das Ensemble als Trio mit Harfe, Violine und Vihuela in Anlehnung an die frühen Tage der Mariachi-Musik. Inzwischen treten Flor de Toloache meist als vierköpfiges Ensemble auf. Die Mitglieder haben ihre Wurzeln in Mexico, Puerto Rico, Kuba, Kolumbien, Deutschland, Italien und der Dominikanischen Republik. Diese große Bandbreite an kulturellen Einflüssen bildet den reichen Nährboden für eine mutige, eklektische und lebendige Interpretation traditionell mexikanischer Musik.Auf der Bühne verschmilzt das Ensemble zu einer unwiderstehlichen Einheit und verzaubert das Publikum mit seiner anmutigen und lebhaften Ausstrahlung - ein Zauber gleich dem der legendären Toloache-Blüte, Hauptzutat des sagenumwobenen mexikanischen Liebestrunks. Flor de Toloache ehren und kultivieren die jahrhundertealte Mariachi-Tradition. Indem sie dabei Tradition und Moderne verbinden, erweitern sie den den Horizont ihres Genres und bringen die Musik der Mariachi einem neuen Publikum näher.Im Laufe der letzten Jahre haben Flor de Toloaches Auftritte auf weltbekannten Bühnen in Asien und Europa für Furore gesorgt. 2015 und 2016 begab sich das Ensemble auf eine umfangreiche US- und Europatournee als Support-Act für The Arcs, der neuen Band von Black-Keys-Sänger Dan Auerbach. Nach Konzerten vor ausverkauften Hallen in Großbritannien, Deutschland, den Niederlanden, Italien und Frankreich gingen Flor de Toloache erneut auf Tour und begeisterten das amerikanische Publikum an so legendären Locations wie dem First Avenue in Minneapolis, The Vic in Chicago, Terminal 5 in New York, dem DC 930 Club und dem Ryman Theater in Nashville sowie auf dem Coachella-Festival. 2017 tourten sie mit der mexikanischen Ikone Cafe Tacvba durch die USA.Flor de Toloaches selbstbetiteltes hochgelobtes Debüt-Album wurde 2015 für den Latin Grammy in der Kategorie Bestes Ranchero-/Mariachi-Album nominiert.2017 erhielten sie den Latin Grammy Award für ihr Album &quot;Las Caras Lindas&quot;.Sehr gelobt wurden ihre Auftritte im amerikanischen Rolling Stone, im Billboard Magazine, im New Yorker, in GQ sowie in der New York Times. Nach einem vielbeachteten &quot;Tiny Desk Concert&quot;-Auftritt beim US-Radiosender NPR führte ihre Zusammenarbeit mit der Rock-supergroup The Arcs zu Auftritten bei der Late Show with Stephen Colbert und bei Later… With Jools Holland im britischen Fernsehen.Auf dem von Jacob Plasse, Chef des angesehenen New Yorker Salsa-Ensembles Los Hacheros, geführten Plattenlabel Chulo Records erschien Flor de Toloaches aktuelles Album. Ihr neues Label schlug überdies die Brücke zwischen ihnen und The Arcs, mit denen Flor de Toloache das 2015 veröffentlichte &quot;Yours, Dreamily&quot; aufnahmen. Als Feature-Gäste waren Flor de Toloache zuletzt unter anderem auf Chicano Batmans neuem Album &quot;Freedom is Free&quot; und auf No Te Var Gustars Album &quot;Suenan Las Alarmas&quot; vertreten.Ferner steuerten sie eine besondere Interpretation von &quot;That’s What I Want for Christmas&quot; zum Compilation-Album &quot;Holidays Rule Vol. 2&quot;, auf der u.a. auch Paul McCartney, The Roots, Norah Jones und The Decemberists vertreten sind. Ferner gastierten sie auf Luba Masons neuem Album &quot;Mixtura&quot;, das von Luba Mason und Jimmy Haslip produziert wurde. Weitere Veröffentlichungen umfassen drei Kollaborationen mit Fania Records, die für das legendäre Label live aufgenommen und gefilmt wurden.Web: mariachinyc.comSocial: https://www.facebook.com/flor.de.toloache/
DTEND;TZID=Europe/Vienna:20210529T235900
DTSTAMP:20231221T171224Z
DTSTART;TZID=Europe/Vienna:20210529T180000
LAST-MODIFIED:20231221T171210Z
LOCATION:[ku:L] Kunst- & Kulturhaus Öblarn\n8960 Öblarn 26\, Austria
SEQUENCE:0
STATUS:CONFIRMED
SUMMARY:Verschoben ! - Flor De Toloache - Ersatztermin in Arbeit
TRANSP:OPAQUE
UID:95378F1D-9035-46E4-B853-04D9DBE28066
URL;VALUE=URI:https://www.kultur.st/events-archiv/verschoben-flor-de-toloache-ersatztermin-in-arbeit
X-APPLE-CREATOR-IDENTITY:com.apple.calendar
X-APPLE-CREATOR-TEAM-IDENTITY:0000000000
X-APPLE-STRUCTURED-LOCATION;VALUE=URI;X-APPLE-MAPKIT-HANDLE=CAES4gEI2TIa
 Egl0CYfe4rpHQBHLh/sjZ/wrQCJnCgvDlnN0ZXJyZWljaBICQVQaClN0ZWllcm1hcmsqDUJl
 emlyayBMaWV6ZW4yB8OWYmxhcm46BDg5NjBCB8OWYmxhcm5SB8OWYmxhcm5aAjI2YgrDlmJs
 YXJuIDI2igEHw5ZibGFybioKw5ZibGFybiAyNjIKw5ZibGFybiAyNjIMODk2MCDDlmJsYXJu
 MgvDlnN0ZXJyZWljaDg5QABQAVonCiUSEgl0CYfe4rpHQBHLh/sjZ/wrQBjZMiDHj4Po89yn
 vJIBkAMB;X-APPLE-RADIUS=70.58735946348322;X-APPLE-REFERENCEFRAME=1;X-TIT
 LE="[ku:L] Kunst- & Kulturhaus Öblarn\n8960 Öblarn 26, Austria":geo:47.4
 60048,13.992974
BEGIN:VALARM
ACTION:DISPLAY
DESCRIPTION:This is an event reminder
TRIGGER:-P1D
UID:A4449477-3C11-44D3-AE1D-16287D87CEFF
X-WR-ALARMUID:A4449477-3C11-44D3-AE1D-16287D87CEFF
END:VALARM
BEGIN:VALARM
ACTION:DISPLAY
DESCRIPTION:This is an event reminder
TRIGGER:-PT1H
UID:F548110B-4C92-41EC-A1E4-AAB7E38B9653
X-WR-ALARMUID:F548110B-4C92-41EC-A1E4-AAB7E38B9653
END:VALARM
END:VEVENT
END:VCALENDAR
