BEGIN:VCALENDAR
CALSCALE:GREGORIAN
VERSION:2.0
BEGIN:VTIMEZONE
TZID:Europe/Vienna
BEGIN:DAYLIGHT
DTSTART:19810329T020000
RRULE:FREQ=YEARLY;BYMONTH=3;BYDAY=-1SU
TZNAME:MESZ
TZOFFSETFROM:+0100
TZOFFSETTO:+0200
END:DAYLIGHT
BEGIN:STANDARD
DTSTART:19961027T030000
RRULE:FREQ=YEARLY;BYMONTH=10;BYDAY=-1SU
TZNAME:MEZ
TZOFFSETFROM:+0200
TZOFFSETTO:+0100
END:STANDARD
END:VTIMEZONE
BEGIN:VEVENT
CREATED:20231221T170959Z
DESCRIPTION:Bitcoin ist in aller Munde. Meist werden nur Dinge wie hoher Energieverbrauch, Schneeballsystem, riesen Gewinne der Früheinsteiger oder Währung für Kriminelle erwähnt - doch was steckt wirklich dahinter? Ist es eine bahnbrechende Innovation oder nur ein aktueller Hype? Und wie unterscheidet sich Bitcoin von traditionellen Anlageformen wie Aktien oder Gold? In diesem Infoabend tauchen wir gemeinsam in die Welt von Bitcoin ein - verständlich, praxisnah und in einfacher Sprache. Egal, ob du absoluter Neuling bist oder dich schon mit dem Thema beschäftigt hast: Hier bekommst du fundiertes Wissen, um Bitcoin und seine Rolle in der Finanzwelt besser einordnen zu können. Das erwartet dich:- Was ist Bitcoin und wie funktioniert es?- Warum wird Bitcoin oft als "digitales Gold" bezeichnet?- Bitcoin im Vergleich mit anderen Anlageklassen: Aktien, Gold und Co.- Chancen und Risiken – was du wissen solltestDieser Vortrag ist unabhängig, leicht verständlich und bietet wertvolle Einblicke hinter den Begriff "Bitcoin". Ganz egal ob man bisher wenig Ahnung von diesem Thema hat oder bereits tiefer in die Materie eingestiegen ist, dieser Vortrag ist für alle da, die sich mit Bitcoin näher auseinandersetzen wollen.Dieser Vortrag versteht sich als reiner Infoabend und dient nicht als Anlageberatung oder zumVerkauf von Produkten oder Investmentstrategien.🎟️ Reservierung empfohlen:📞 0664 86 00 300 (telefonisch oder via WhatsApp)📧 tickets@kultur.st
DTEND;TZID=Europe/Vienna:20250522T235900
DTSTAMP:20231221T171224Z
DTSTART;TZID=Europe/Vienna:20250522T193000
LAST-MODIFIED:20231221T171210Z
LOCATION:[ku:L] Kunst- & Kulturhaus Öblarn\n8960 Öblarn 26\, Austria
SEQUENCE:0
STATUS:CONFIRMED
SUMMARY:Bitcoin: Digitales Gold oder nur heiße Luft?
TRANSP:OPAQUE
UID:95378F1D-9035-46E4-B853-04D9DBE28066
URL;VALUE=URI:https://www.kultur.st/events-archiv/bitcoin-digitales-gold-oder-nur-heisse-luft
X-APPLE-CREATOR-IDENTITY:com.apple.calendar
X-APPLE-CREATOR-TEAM-IDENTITY:0000000000
X-APPLE-STRUCTURED-LOCATION;VALUE=URI;X-APPLE-MAPKIT-HANDLE=CAES4gEI2TIa
 Egl0CYfe4rpHQBHLh/sjZ/wrQCJnCgvDlnN0ZXJyZWljaBICQVQaClN0ZWllcm1hcmsqDUJl
 emlyayBMaWV6ZW4yB8OWYmxhcm46BDg5NjBCB8OWYmxhcm5SB8OWYmxhcm5aAjI2YgrDlmJs
 YXJuIDI2igEHw5ZibGFybioKw5ZibGFybiAyNjIKw5ZibGFybiAyNjIMODk2MCDDlmJsYXJu
 MgvDlnN0ZXJyZWljaDg5QABQAVonCiUSEgl0CYfe4rpHQBHLh/sjZ/wrQBjZMiDHj4Po89yn
 vJIBkAMB;X-APPLE-RADIUS=70.58735946348322;X-APPLE-REFERENCEFRAME=1;X-TIT
 LE="[ku:L] Kunst- & Kulturhaus Öblarn\n8960 Öblarn 26, Austria":geo:47.4
 60048,13.992974
BEGIN:VALARM
ACTION:DISPLAY
DESCRIPTION:This is an event reminder
TRIGGER:-P1D
UID:A4449477-3C11-44D3-AE1D-16287D87CEFF
X-WR-ALARMUID:A4449477-3C11-44D3-AE1D-16287D87CEFF
END:VALARM
BEGIN:VALARM
ACTION:DISPLAY
DESCRIPTION:This is an event reminder
TRIGGER:-PT1H
UID:F548110B-4C92-41EC-A1E4-AAB7E38B9653
X-WR-ALARMUID:F548110B-4C92-41EC-A1E4-AAB7E38B9653
END:VALARM
END:VEVENT
END:VCALENDAR
