BEGIN:VCALENDAR
CALSCALE:GREGORIAN
VERSION:2.0
BEGIN:VTIMEZONE
TZID:Europe/Vienna
BEGIN:DAYLIGHT
DTSTART:19810329T020000
RRULE:FREQ=YEARLY;BYMONTH=3;BYDAY=-1SU
TZNAME:MESZ
TZOFFSETFROM:+0100
TZOFFSETTO:+0200
END:DAYLIGHT
BEGIN:STANDARD
DTSTART:19961027T030000
RRULE:FREQ=YEARLY;BYMONTH=10;BYDAY=-1SU
TZNAME:MEZ
TZOFFSETFROM:+0200
TZOFFSETTO:+0100
END:STANDARD
END:VTIMEZONE
BEGIN:VEVENT
CREATED:20231221T170959Z
DESCRIPTION:&quot;Und sie gehen!&quot; entstammt einer Idee des Musikers, Komponisten und Arrangeurs Josef Schnedl. Ausgehend von der gleichnamigen Kennmelodie setzte er sich daran, altbekanntes Liedgut neu zu arrangieren und dies mit alpenländischen Instrumenten zu realisieren. Das Ergebnis ist ein Mix aus klassischer, kirchlich-traditioneller Weihnachtsmusik (ökumenisch-weltlich) und neuen Kompositionen, gepaart mit großer Interpretationsfreude (Gesang-, Volksmusik-, Folk- und Rapelemente), sowie sinnlich-poetischen, aufwühlenden Adventtexten. Ein völlig neu initiierter musikalisch-literarischer Gang durch den Advent. Die Texte und zeitgemäßen Gedanken des bekannten steirischen Schriftstellers Peter Gruber (&quot;Notgasse&quot;, &quot;Schattenkreuz&quot;, &quot;Tod am Stein&quot; u. a.) fügen sich gekonnt in den Gang zwischen Herbergssuche und Geburt Jesu Christi. Klanglich bereichert mit Musikern aus der Region - sie allesamt genießen im Oberland ausgezeichneten Ruf - und visuellen Effekten begeistert &quot;Und sie gehen!&quot; auf allen Ebenen. Ausverkaufte Aufführungen und Pressestimmen sprechen für sich: &quot;Die Thematik der Herbergssuche wurde ungeschminkt und real in der Jetztzeit dargestellt und so mancher Zuhörer fand sich - vom gehörten berührt - in der Rolle von Josef und Maria wieder. Gerade die inhaltliche Ehrlichkeit war wohl ausschlaggebend für den Erfolg und traf den Nerv der Besucher. Andächtiges Staunen und echte Begeisterung standen dem Publikum nach diesem Gang ins Gesicht geschrieben.&quot; Kleine Zeitung vom 23.12.2011  
 Das Ensemble
  Josef Schnedl - Komposition, Gesang, Steirische HarmonikaPeter Gruber - Erzähler Sylvia Ringdorfer- Querflöte Gudrun Seebacher - Gesang Sigi Lemmerer - Hackbrett Stephan Fuchs - Geige Hans-Peter Knaus - Bass Hans Johann Danklmayer - Visuals
DTEND;TZID=Europe/Vienna:20131221T235900
DTSTAMP:20231221T171224Z
DTSTART;TZID=Europe/Vienna:20131221T190000
LAST-MODIFIED:20231221T171210Z
LOCATION:[ku:L] Kunst- & Kulturhaus Öblarn\n8960 Öblarn 26\, Austria
SEQUENCE:0
STATUS:CONFIRMED
SUMMARY:Und sie gehen
TRANSP:OPAQUE
UID:95378F1D-9035-46E4-B853-04D9DBE28066
URL;VALUE=URI:https://www.kultur.st/events-archiv/und-sie-gehen-2
X-APPLE-CREATOR-IDENTITY:com.apple.calendar
X-APPLE-CREATOR-TEAM-IDENTITY:0000000000
X-APPLE-STRUCTURED-LOCATION;VALUE=URI;X-APPLE-MAPKIT-HANDLE=CAES4gEI2TIa
 Egl0CYfe4rpHQBHLh/sjZ/wrQCJnCgvDlnN0ZXJyZWljaBICQVQaClN0ZWllcm1hcmsqDUJl
 emlyayBMaWV6ZW4yB8OWYmxhcm46BDg5NjBCB8OWYmxhcm5SB8OWYmxhcm5aAjI2YgrDlmJs
 YXJuIDI2igEHw5ZibGFybioKw5ZibGFybiAyNjIKw5ZibGFybiAyNjIMODk2MCDDlmJsYXJu
 MgvDlnN0ZXJyZWljaDg5QABQAVonCiUSEgl0CYfe4rpHQBHLh/sjZ/wrQBjZMiDHj4Po89yn
 vJIBkAMB;X-APPLE-RADIUS=70.58735946348322;X-APPLE-REFERENCEFRAME=1;X-TIT
 LE="[ku:L] Kunst- & Kulturhaus Öblarn\n8960 Öblarn 26, Austria":geo:47.4
 60048,13.992974
BEGIN:VALARM
ACTION:DISPLAY
DESCRIPTION:This is an event reminder
TRIGGER:-P1D
UID:A4449477-3C11-44D3-AE1D-16287D87CEFF
X-WR-ALARMUID:A4449477-3C11-44D3-AE1D-16287D87CEFF
END:VALARM
BEGIN:VALARM
ACTION:DISPLAY
DESCRIPTION:This is an event reminder
TRIGGER:-PT1H
UID:F548110B-4C92-41EC-A1E4-AAB7E38B9653
X-WR-ALARMUID:F548110B-4C92-41EC-A1E4-AAB7E38B9653
END:VALARM
END:VEVENT
END:VCALENDAR
