BEGIN:VCALENDAR
CALSCALE:GREGORIAN
VERSION:2.0
BEGIN:VTIMEZONE
TZID:Europe/Vienna
BEGIN:DAYLIGHT
DTSTART:19810329T020000
RRULE:FREQ=YEARLY;BYMONTH=3;BYDAY=-1SU
TZNAME:MESZ
TZOFFSETFROM:+0100
TZOFFSETTO:+0200
END:DAYLIGHT
BEGIN:STANDARD
DTSTART:19961027T030000
RRULE:FREQ=YEARLY;BYMONTH=10;BYDAY=-1SU
TZNAME:MEZ
TZOFFSETFROM:+0200
TZOFFSETTO:+0100
END:STANDARD
END:VTIMEZONE
BEGIN:VEVENT
CREATED:20231221T170959Z
DESCRIPTION: Tickets: via Whatsapp Tel 0664 8600300 oder telefonisch       oder an tickets@kultur.st EMMA CORBETT &amp; THOMAS AHERN &amp; BREANDAN SEOIGHE (IE) THE MOYNIHANS (IE) Pause THE ALT (IE) + special guest KEVIN BURKE (IE)  Am 30.1. war nicht nur der 50. Jahrestag des desaströsen „Bloody Sunday”, an dem im nordirischen Derry 13 unbewaffnete Demonstranten von der britischen Armee erschossen wurden, sondern am 30.1. bestätigte sich zu 100% die heurige Besetzung eines freudvolleren Ereignisses, nämlich der „nachgeholten” Jubiläums-Tour zum 25-jährigen Bestehen dieser einzigartigen Konzertreise!  Eröffnet wird der Abend von einem sehr jungen, dennoch tief in der irischen Tradition verwurzelten Trio. Angeführt von EMMA CORBETT, der neuen „Queen oft he single row accordion” und dem Banjo-Zauberer THOMAS AHERN an ihrer Seite, legen die beiden den Sound-Teppich für atemberaubenden Sean Nos-Tanz von BREANDAN SEOIGHE.  Das Familien-Ensemble THE MOYNIHANS war in den 1990-ern mit ihrer damaligen Band „Calico” wegweisend. DIARMAID MOYNIHAN (Dudelsack) DEIRDRE MOYNIHAN (Geige, Gesang) und DONNCHA MOYNIHAN (Gitarre) zählen zu den wichtigsten Musikern der Insel. Diarmaid Moynihans Kompositionen gehören zum fixen Repertoire von Größen des Genres wie Lunasa, Flook, Mike McGoldrick usw. Deirdre Moynihan ist eine der renomiertesten Opern- und Kammermusiksängerinnen der Klassik-Szene. Neben seinem Wirken als Gitarrist konnte sich Donncha Moynihan vor allem mit seinem „The Rise Studio” international etablieren, in dem Kunden aus allen Musik-Bereichen wie die Salzburger Festspiele (!), The Chieftains, Donal Lunny, Uri Caine oder Imelda May (4 x Nr.1 in den irischen Charts) https://www.youtube.com/watch?v=AHkv1kt7LeQ   Als „Irish Supergroup” kann man THE ALT mit Gewissheit bezeichnen. NUALA KENNEDY (Flöten, Gesang), JOHN DOYLE (Gitarre, Gesang) und EAMON O`LEARY (Bouzouki Gesang) haben neben ihren vielen anderen Engagements ihr gemeinsames Schaffen altem irischen Liedgut und selten gehörten alten Tunes gewidmet. Als „Draufgabe” bringen sie den Veteranen KEVIN BURKE mit, einen der wichtigsten Geiger der irischen Musikgeschichte, der ab 1976 in der sagenumwobenen „Bothy Band” spielte und 1985 Gründungsmitglied von „Patrick Street” war https://www.youtube.com/watch?v=-3kifrrC_gQ 
DTEND;TZID=Europe/Vienna:20221209T235900
DTSTAMP:20231221T171224Z
DTSTART;TZID=Europe/Vienna:20221209T190000
LAST-MODIFIED:20231221T171210Z
LOCATION:[ku:L] Kunst- & Kulturhaus Öblarn\n8960 Öblarn 26\, Austria
SEQUENCE:0
STATUS:CONFIRMED
SUMMARY:Irish Christmas Festival
TRANSP:OPAQUE
UID:95378F1D-9035-46E4-B853-04D9DBE28066
URL;VALUE=URI:https://www.kultur.st/events-archiv/irish-christmas-festival
X-APPLE-CREATOR-IDENTITY:com.apple.calendar
X-APPLE-CREATOR-TEAM-IDENTITY:0000000000
X-APPLE-STRUCTURED-LOCATION;VALUE=URI;X-APPLE-MAPKIT-HANDLE=CAES4gEI2TIa
 Egl0CYfe4rpHQBHLh/sjZ/wrQCJnCgvDlnN0ZXJyZWljaBICQVQaClN0ZWllcm1hcmsqDUJl
 emlyayBMaWV6ZW4yB8OWYmxhcm46BDg5NjBCB8OWYmxhcm5SB8OWYmxhcm5aAjI2YgrDlmJs
 YXJuIDI2igEHw5ZibGFybioKw5ZibGFybiAyNjIKw5ZibGFybiAyNjIMODk2MCDDlmJsYXJu
 MgvDlnN0ZXJyZWljaDg5QABQAVonCiUSEgl0CYfe4rpHQBHLh/sjZ/wrQBjZMiDHj4Po89yn
 vJIBkAMB;X-APPLE-RADIUS=70.58735946348322;X-APPLE-REFERENCEFRAME=1;X-TIT
 LE="[ku:L] Kunst- & Kulturhaus Öblarn\n8960 Öblarn 26, Austria":geo:47.4
 60048,13.992974
BEGIN:VALARM
ACTION:DISPLAY
DESCRIPTION:This is an event reminder
TRIGGER:-P1D
UID:A4449477-3C11-44D3-AE1D-16287D87CEFF
X-WR-ALARMUID:A4449477-3C11-44D3-AE1D-16287D87CEFF
END:VALARM
BEGIN:VALARM
ACTION:DISPLAY
DESCRIPTION:This is an event reminder
TRIGGER:-PT1H
UID:F548110B-4C92-41EC-A1E4-AAB7E38B9653
X-WR-ALARMUID:F548110B-4C92-41EC-A1E4-AAB7E38B9653
END:VALARM
END:VEVENT
END:VCALENDAR
