BEGIN:VCALENDAR
CALSCALE:GREGORIAN
VERSION:2.0
BEGIN:VTIMEZONE
TZID:Europe/Vienna
BEGIN:DAYLIGHT
DTSTART:19810329T020000
RRULE:FREQ=YEARLY;BYMONTH=3;BYDAY=-1SU
TZNAME:MESZ
TZOFFSETFROM:+0100
TZOFFSETTO:+0200
END:DAYLIGHT
BEGIN:STANDARD
DTSTART:19961027T030000
RRULE:FREQ=YEARLY;BYMONTH=10;BYDAY=-1SU
TZNAME:MEZ
TZOFFSETFROM:+0200
TZOFFSETTO:+0100
END:STANDARD
END:VTIMEZONE
BEGIN:VEVENT
CREATED:20231221T170959Z
DESCRIPTION:In diesem Workshop bekommst du einen Überblick über die Landkarte der 5 Rhythmen®, die getanzte Meditation von Gabrielle Roth.Durch diese Landkarte tanzend, finden wir zurück zu unserem Körper, zum Hier und Jetzt, zu unserer Kreativität, Lebendigkeit und Authentizität. Wir fühlen uns mehr zu Hause, verbunden mit uns selbst, mit den anderen, und mit dem Leben.  Wir werden die Qualität und das transformative, heilende Potential von jedem Rhythmus durch bewusste Bewegung kennenlernen und erleben: sanft und wild, innig und ausdrucksvoll, lustig und tief, ekstatisch oder still, alle deine Aspekte bekommen hier Raum und du findest heraus welche gerade deine Aufmerksamkeit brauchen um sich mehr zu entfalten.Diese Praxis unterstützt dich, weniger vom Denken und von der Außenwelt gesteuert und mehr aus einer verkörperten, lebendigen Präsenz heraus selbstbestimmt dein ganzes Potential zu leben!Alle sind willkommen, keine Vorkenntnisse nötig, komm wie du bist!Seminarleiterin:Stefania Kregel, M.A. tanzt seit 20 Jahren leidenschaftlich durch die Landkarte der 5 Rhythmen® und teilt diese transformative Bewegungspraxis als zertifizierte Lehrerin mit ansteckendem Enthusiasmus seit 2016 regelmäßig in Graz, Wien, Linz und Klagenfurt.Seit 2005leitet sie Organisationen, Projekten, Festivals, Workshops und Kurse im Bereich Tanz und bewusste Bewegung und Begegnung in Österreich und international, nach dem Motto "be the change you want to see in the world"!Ihr Leitungsstil wird als sanft, klar und kraftvoll beschrieben: diese Mischung an Qualitäten sowie die Fähigkeit, mit Leichtigkeit in die Tiefe zu gehen, wirkt oft wohltuend überraschend. Subtil aber sicher erinnert sie daran, dass die Welt, von der unsere Herzen träumen, vielleicht doch nicht so weit weg ist.www.jagati.orgDieser Workshop ist aufbauend, die Teilnahme ist nur den ganzen Tag möglich.Mindesteilnehmerzahl: 10 Personen wegen dem Gruppenfeld.
DTEND;TZID=Europe/Vienna:20260315T235900
DTSTAMP:20231221T171224Z
DTSTART;TZID=Europe/Vienna:20260315T100000
LAST-MODIFIED:20231221T171210Z
LOCATION:[ku:L] Kunst- & Kulturhaus Öblarn\n8960 Öblarn 26\, Austria
SEQUENCE:0
STATUS:CONFIRMED
SUMMARY:5Rhythmen® WORKSHOP mit Stefania Kregel
TRANSP:OPAQUE
UID:95378F1D-9035-46E4-B853-04D9DBE28066
URL;VALUE=URI:https://www.kultur.st/events-archiv/5rhythmen-r-workshop-mit-stefania-kregel
X-APPLE-CREATOR-IDENTITY:com.apple.calendar
X-APPLE-CREATOR-TEAM-IDENTITY:0000000000
X-APPLE-STRUCTURED-LOCATION;VALUE=URI;X-APPLE-MAPKIT-HANDLE=CAES4gEI2TIa
 Egl0CYfe4rpHQBHLh/sjZ/wrQCJnCgvDlnN0ZXJyZWljaBICQVQaClN0ZWllcm1hcmsqDUJl
 emlyayBMaWV6ZW4yB8OWYmxhcm46BDg5NjBCB8OWYmxhcm5SB8OWYmxhcm5aAjI2YgrDlmJs
 YXJuIDI2igEHw5ZibGFybioKw5ZibGFybiAyNjIKw5ZibGFybiAyNjIMODk2MCDDlmJsYXJu
 MgvDlnN0ZXJyZWljaDg5QABQAVonCiUSEgl0CYfe4rpHQBHLh/sjZ/wrQBjZMiDHj4Po89yn
 vJIBkAMB;X-APPLE-RADIUS=70.58735946348322;X-APPLE-REFERENCEFRAME=1;X-TIT
 LE="[ku:L] Kunst- & Kulturhaus Öblarn\n8960 Öblarn 26, Austria":geo:47.4
 60048,13.992974
BEGIN:VALARM
ACTION:DISPLAY
DESCRIPTION:This is an event reminder
TRIGGER:-P1D
UID:A4449477-3C11-44D3-AE1D-16287D87CEFF
X-WR-ALARMUID:A4449477-3C11-44D3-AE1D-16287D87CEFF
END:VALARM
BEGIN:VALARM
ACTION:DISPLAY
DESCRIPTION:This is an event reminder
TRIGGER:-PT1H
UID:F548110B-4C92-41EC-A1E4-AAB7E38B9653
X-WR-ALARMUID:F548110B-4C92-41EC-A1E4-AAB7E38B9653
END:VALARM
END:VEVENT
END:VCALENDAR
