BEGIN:VCALENDAR
CALSCALE:GREGORIAN
VERSION:2.0
BEGIN:VTIMEZONE
TZID:Europe/Vienna
BEGIN:DAYLIGHT
DTSTART:19810329T020000
RRULE:FREQ=YEARLY;BYMONTH=3;BYDAY=-1SU
TZNAME:MESZ
TZOFFSETFROM:+0100
TZOFFSETTO:+0200
END:DAYLIGHT
BEGIN:STANDARD
DTSTART:19961027T030000
RRULE:FREQ=YEARLY;BYMONTH=10;BYDAY=-1SU
TZNAME:MEZ
TZOFFSETFROM:+0200
TZOFFSETTO:+0100
END:STANDARD
END:VTIMEZONE
BEGIN:VEVENT
CREATED:20231221T170959Z
DESCRIPTION:Veranstaltungsort: CCW StainachMelanie Dekkerpackt ihre Gitarre für eine ausgedehnte, 25 europäische Städte umfassende Konzert-Tour.Mit im Gepäck wird auch ihre im Spätsommer fertiggestellte neue CD&quot;Here &amp; Now&quot;sein.Sie trat schon mit Bryan Adams, Faith Hill, Chaka Khan und Diana Krall auf und gewann mehrere internationale Songcontest in den USA und Kanada.Sie hatte schon zahlreiche Auftritte in Musicals und stand mit verschiedenen Popgrößen der Welt auf der Bühne.Wir dürfen also auf ein sehr hochklassiges Musikertrio gespannt sein!Melanie Dekker´s Aufnahmen für das Album ` REVEALED `(2005) entstanden mit David Kershenbaum (Produzent für Tracy Chapman, Joe Jackson und Duran Duran), sowie mit dem virtuosen Gitarristen und Komponisten Jason Nett.Nur zwei Jahre später produzierte Sie selbst das Album „Acoustic Ride“ (2007) -auf CDBABY bzw. bei iTunes zum Download- und scheint damit den Geschmack der Fans genau getroffen zu haben.Eine enthusiastische Dekker sagt:„Ich liebe es zu spielen und Kontakte zu knüpfen. Ich wünsche mir , dass die Leute singen, lachen und nachdenken und meine Emotionen teilen können, während ich sie durch die hellen und dunklen Momente meiner Songs mitnehme. Es sind die zwischenmenschlichen Beziehungen (mit meinen Fans und meinen Freunden), die mir immer wieder Kraft zum Schreiben, Singen und Performen geben“www.melaniedekker.comwww.myspace.com/melaniedekkermusic
DTEND;TZID=Europe/Vienna:20100417T235900
DTSTAMP:20231221T171224Z
DTSTART;TZID=Europe/Vienna:20100417T180000
LAST-MODIFIED:20231221T171210Z
LOCATION:[ku:L] Kunst- & Kulturhaus Öblarn\n8960 Öblarn 26\, Austria
SEQUENCE:0
STATUS:CONFIRMED
SUMMARY:Melanie Dekker Trio
TRANSP:OPAQUE
UID:95378F1D-9035-46E4-B853-04D9DBE28066
URL;VALUE=URI:https://www.kultur.st/events-archiv/melanie-dekker-trio
X-APPLE-CREATOR-IDENTITY:com.apple.calendar
X-APPLE-CREATOR-TEAM-IDENTITY:0000000000
X-APPLE-STRUCTURED-LOCATION;VALUE=URI;X-APPLE-MAPKIT-HANDLE=CAES4gEI2TIa
 Egl0CYfe4rpHQBHLh/sjZ/wrQCJnCgvDlnN0ZXJyZWljaBICQVQaClN0ZWllcm1hcmsqDUJl
 emlyayBMaWV6ZW4yB8OWYmxhcm46BDg5NjBCB8OWYmxhcm5SB8OWYmxhcm5aAjI2YgrDlmJs
 YXJuIDI2igEHw5ZibGFybioKw5ZibGFybiAyNjIKw5ZibGFybiAyNjIMODk2MCDDlmJsYXJu
 MgvDlnN0ZXJyZWljaDg5QABQAVonCiUSEgl0CYfe4rpHQBHLh/sjZ/wrQBjZMiDHj4Po89yn
 vJIBkAMB;X-APPLE-RADIUS=70.58735946348322;X-APPLE-REFERENCEFRAME=1;X-TIT
 LE="[ku:L] Kunst- & Kulturhaus Öblarn\n8960 Öblarn 26, Austria":geo:47.4
 60048,13.992974
BEGIN:VALARM
ACTION:DISPLAY
DESCRIPTION:This is an event reminder
TRIGGER:-P1D
UID:A4449477-3C11-44D3-AE1D-16287D87CEFF
X-WR-ALARMUID:A4449477-3C11-44D3-AE1D-16287D87CEFF
END:VALARM
BEGIN:VALARM
ACTION:DISPLAY
DESCRIPTION:This is an event reminder
TRIGGER:-PT1H
UID:F548110B-4C92-41EC-A1E4-AAB7E38B9653
X-WR-ALARMUID:F548110B-4C92-41EC-A1E4-AAB7E38B9653
END:VALARM
END:VEVENT
END:VCALENDAR
