BEGIN:VCALENDAR
CALSCALE:GREGORIAN
VERSION:2.0
BEGIN:VTIMEZONE
TZID:Europe/Vienna
BEGIN:DAYLIGHT
DTSTART:19810329T020000
RRULE:FREQ=YEARLY;BYMONTH=3;BYDAY=-1SU
TZNAME:MESZ
TZOFFSETFROM:+0100
TZOFFSETTO:+0200
END:DAYLIGHT
BEGIN:STANDARD
DTSTART:19961027T030000
RRULE:FREQ=YEARLY;BYMONTH=10;BYDAY=-1SU
TZNAME:MEZ
TZOFFSETFROM:+0200
TZOFFSETTO:+0100
END:STANDARD
END:VTIMEZONE
BEGIN:VEVENT
CREATED:20231221T170959Z
DESCRIPTION:Im Juli 2013 für einige auserwählte Konzerte live in Österreich  Broadlahn macht 30 Jahre Weltmusik und urbane  Volksmusik. Ihre jazzigen Landler erzählen von den unmerklichen aber  alles bestimmenden Dingen und Gefühlen. Willi Resetarits &amp; Broadlahn  „zelebrieren“ live die Höhepunkte der 30jährigen Erfolgsgeschichte.  Nur Eingeweihte wissen es - unprominent gastierte  Broadlahn in den letzten 30 Jahren in den Zentren der Randregionen – von  Kleinsölk nach Niederöblarn, von Weng nach Grundlsee, machten aber auch  Abstecher nach Vancouver, Faberge, Guimarres, Krakau oder Orvieto.  Gemeinsam mit Gastmusikern, unter ihnen Ausnahmekönner wie Joe Zawinul, Amit Chatterjee, begeisterten sie ihr Publikum.  Ihre Landler riechen nach Curry, ihre Polkas  klingen, als mischte sich Abdullah Ibrahim unter die Musikantenrunde,  ihre Musik ist wie ein Blick vom Gipfel eines Berges bei 20 000 km  Fernsicht. Broadlahn macht Weltmusik, urbane Volksmusik, spielt jazzige  Landler bestimmenden Dingen. Sie sind ein Farbfleck im Grau der schier  unüberschaubaren Musiklandschaft.  Zum runden Jubiläum gastiert „Broadlahn“ auf den  wichtigen Bühnen in Österreich. Willi Resetarits, selbst eine  Ausnahmeerscheinung in Österreichs Musikszene, zelebriert gemeinsam mit  den Broadlahn die Höhepunkte aus 30 Jahre Broadlahn.  
DTEND;TZID=Europe/Vienna:20130725T235900
DTSTAMP:20231221T171224Z
DTSTART;TZID=Europe/Vienna:20130725T180000
LAST-MODIFIED:20231221T171210Z
LOCATION:[ku:L] Kunst- & Kulturhaus Öblarn\n8960 Öblarn 26\, Austria
SEQUENCE:0
STATUS:CONFIRMED
SUMMARY:Willi Resetarits und Broadlahn
TRANSP:OPAQUE
UID:95378F1D-9035-46E4-B853-04D9DBE28066
URL;VALUE=URI:https://www.kultur.st/events-archiv/willi-resetarits-und-broadlahn
X-APPLE-CREATOR-IDENTITY:com.apple.calendar
X-APPLE-CREATOR-TEAM-IDENTITY:0000000000
X-APPLE-STRUCTURED-LOCATION;VALUE=URI;X-APPLE-MAPKIT-HANDLE=CAES4gEI2TIa
 Egl0CYfe4rpHQBHLh/sjZ/wrQCJnCgvDlnN0ZXJyZWljaBICQVQaClN0ZWllcm1hcmsqDUJl
 emlyayBMaWV6ZW4yB8OWYmxhcm46BDg5NjBCB8OWYmxhcm5SB8OWYmxhcm5aAjI2YgrDlmJs
 YXJuIDI2igEHw5ZibGFybioKw5ZibGFybiAyNjIKw5ZibGFybiAyNjIMODk2MCDDlmJsYXJu
 MgvDlnN0ZXJyZWljaDg5QABQAVonCiUSEgl0CYfe4rpHQBHLh/sjZ/wrQBjZMiDHj4Po89yn
 vJIBkAMB;X-APPLE-RADIUS=70.58735946348322;X-APPLE-REFERENCEFRAME=1;X-TIT
 LE="[ku:L] Kunst- & Kulturhaus Öblarn\n8960 Öblarn 26, Austria":geo:47.4
 60048,13.992974
BEGIN:VALARM
ACTION:DISPLAY
DESCRIPTION:This is an event reminder
TRIGGER:-P1D
UID:A4449477-3C11-44D3-AE1D-16287D87CEFF
X-WR-ALARMUID:A4449477-3C11-44D3-AE1D-16287D87CEFF
END:VALARM
BEGIN:VALARM
ACTION:DISPLAY
DESCRIPTION:This is an event reminder
TRIGGER:-PT1H
UID:F548110B-4C92-41EC-A1E4-AAB7E38B9653
X-WR-ALARMUID:F548110B-4C92-41EC-A1E4-AAB7E38B9653
END:VALARM
END:VEVENT
END:VCALENDAR
