BEGIN:VCALENDAR
CALSCALE:GREGORIAN
VERSION:2.0
BEGIN:VTIMEZONE
TZID:Europe/Vienna
BEGIN:DAYLIGHT
DTSTART:19810329T020000
RRULE:FREQ=YEARLY;BYMONTH=3;BYDAY=-1SU
TZNAME:MESZ
TZOFFSETFROM:+0100
TZOFFSETTO:+0200
END:DAYLIGHT
BEGIN:STANDARD
DTSTART:19961027T030000
RRULE:FREQ=YEARLY;BYMONTH=10;BYDAY=-1SU
TZNAME:MEZ
TZOFFSETFROM:+0200
TZOFFSETTO:+0100
END:STANDARD
END:VTIMEZONE
BEGIN:VEVENT
CREATED:20231221T170959Z
DESCRIPTION:Manuel Randi ist ein brillanter Musiker, dessen Vielseitigkeit es ihm erlaubt, mit den anerkanntesten Tonkünstlern auf nationaler und internationaler Ebene zusammenzuarbeiten .Derzeit ist er Mitglied des ‘ Herbert Pixner Projekt ‘, mit dem er ganzjährig auf Tournee ist. Besonders in Deutschland, Osterreich, Italien und in der Schweiz feiert diese Formation große Erfolge mit einer fast endlosen Reihe ausverkaufter Konzerte .Begleitet wird er von Marco Stagni ( Kontrabass und E-Bass ), ein Musiker mit Jazz und Klassik Background der in den verschiedensten Projekten in Italien,Österreich,Deutschland und England aktiv ist , und Mario Punzi ( Perussions und Schlagzeug ), eine der wichtigste und virtuose Schlagzeuger Italiens , der mit den berühmteste Solisten Italiens konzertiert .Die drei Musiker sind musikalisch zusammen gewachsen, und schaffen eine echte Dialog aufzubauen, in den die drei Strumenten zu eine Einheit verschmolzen.Von ganz leise Töne bis zum feurigen Flamenco Rhythmen ,es gibt kaum eine Stimmung die die Drei nicht leidenschaftlich inszenieren.Das Programm beinhaltet Liedern aus den letzten zwei CD’s ‘ New Old Songs ‘ und ‘ Toscana ‘ und viele neue Kompositionen, die verschiedensten Musikrichtungen wie Flamenco, Italienische Folklore , Bossa Nova und afrikanische Einflüsse zu einem originellen und ganz eigenen Musik Cocktail verschmelzen lassen .Kompositionen die eine große Bandbreite erklingen lassen !Manuel Randi - Flamenco und Acoustic Gitarre, E-Gitarre und KlarinetteMarco Stagni - BassMario Punzi - SchlagzeugManuel Randi ist Gitarrist. Aber nicht irgendeiner! Der norditalienische Weltklassemusiker Randi ist seit einigen Jahren das Tüpfelchen auf dem &quot;i&quot;, das das bis zu seinem Beitritt als Trio spielende &quot;Herbert Pixner Projekt&quot; sozusagen musikalisch unsterblich macht. Randi, laut Herbert Pixner selber, &quot;nicht nur der beste, sondern auch schönste Gitarrist des Alpenraums&quot;, ist in allen musikalischen Genres zu Hause. War es ganz früher die Rockmusik, so kamen nach und nach Gypsy Jazz, Klezmer, Lateinamerikanische Musik, jene des Balkans sowie zarte Balladen dazu, die ihm genauso in den Fingern wie am Herzen liegen wie Neuinterpretationen bekannter klassischer Stücke. Mitreißende Rhythmen, fulminante Soli und Spielfreude, gepaart mit technischer Perfektion, gekonnter Phrasierung und jeder Menge &quot;Know How&quot;, das sind die gemeinsamen Nenner seiner Performance, bei der ihn Marco Stagni am Bass und Mario Punzi am Schlagzeug kongenial begleiten. Noch dazu ist der Meister ein auch fürs Auge stets unterhaltsamer Schelm, der mit Witz, Leichtigkeit und sichtbarem Spaß den Abend feiert. Ein Spitzenkonzert für alle Freunde guter, unsterblicher Live-Musik. 
DTEND;TZID=Europe/Vienna:20201023T235900
DTSTAMP:20231221T171224Z
DTSTART;TZID=Europe/Vienna:20201023T180000
LAST-MODIFIED:20231221T171210Z
LOCATION:[ku:L] Kunst- & Kulturhaus Öblarn\n8960 Öblarn 26\, Austria
SEQUENCE:0
STATUS:CONFIRMED
SUMMARY:Manuel Randi Trio
TRANSP:OPAQUE
UID:95378F1D-9035-46E4-B853-04D9DBE28066
URL;VALUE=URI:https://www.kultur.st/events-archiv/manuel-randi-trio
X-APPLE-CREATOR-IDENTITY:com.apple.calendar
X-APPLE-CREATOR-TEAM-IDENTITY:0000000000
X-APPLE-STRUCTURED-LOCATION;VALUE=URI;X-APPLE-MAPKIT-HANDLE=CAES4gEI2TIa
 Egl0CYfe4rpHQBHLh/sjZ/wrQCJnCgvDlnN0ZXJyZWljaBICQVQaClN0ZWllcm1hcmsqDUJl
 emlyayBMaWV6ZW4yB8OWYmxhcm46BDg5NjBCB8OWYmxhcm5SB8OWYmxhcm5aAjI2YgrDlmJs
 YXJuIDI2igEHw5ZibGFybioKw5ZibGFybiAyNjIKw5ZibGFybiAyNjIMODk2MCDDlmJsYXJu
 MgvDlnN0ZXJyZWljaDg5QABQAVonCiUSEgl0CYfe4rpHQBHLh/sjZ/wrQBjZMiDHj4Po89yn
 vJIBkAMB;X-APPLE-RADIUS=70.58735946348322;X-APPLE-REFERENCEFRAME=1;X-TIT
 LE="[ku:L] Kunst- & Kulturhaus Öblarn\n8960 Öblarn 26, Austria":geo:47.4
 60048,13.992974
BEGIN:VALARM
ACTION:DISPLAY
DESCRIPTION:This is an event reminder
TRIGGER:-P1D
UID:A4449477-3C11-44D3-AE1D-16287D87CEFF
X-WR-ALARMUID:A4449477-3C11-44D3-AE1D-16287D87CEFF
END:VALARM
BEGIN:VALARM
ACTION:DISPLAY
DESCRIPTION:This is an event reminder
TRIGGER:-PT1H
UID:F548110B-4C92-41EC-A1E4-AAB7E38B9653
X-WR-ALARMUID:F548110B-4C92-41EC-A1E4-AAB7E38B9653
END:VALARM
END:VEVENT
END:VCALENDAR
