BEGIN:VCALENDAR
CALSCALE:GREGORIAN
VERSION:2.0
BEGIN:VTIMEZONE
TZID:Europe/Vienna
BEGIN:DAYLIGHT
DTSTART:19810329T020000
RRULE:FREQ=YEARLY;BYMONTH=3;BYDAY=-1SU
TZNAME:MESZ
TZOFFSETFROM:+0100
TZOFFSETTO:+0200
END:DAYLIGHT
BEGIN:STANDARD
DTSTART:19961027T030000
RRULE:FREQ=YEARLY;BYMONTH=10;BYDAY=-1SU
TZNAME:MEZ
TZOFFSETFROM:+0200
TZOFFSETTO:+0100
END:STANDARD
END:VTIMEZONE
BEGIN:VEVENT
CREATED:20231221T170959Z
DESCRIPTION:Tickets: via Whatsapp Tel 0664 8600300 oder telefonisch       oder an tickets@kultur.st  											 Sebastian Salzinger Angetrieben durch die Faszination eigene Melodien zu finden, sie zu Liedern heranwachsen zu lassen und diese mit technischen Finessen auszuschmücken, widmet sich Sebastian Salzinger aus Öblarn bereits lange Zeit der Musik. Inspiriert durch Polyphia, ichika nito und Covet entwickelte sich die Liebe zur Instrumentalmusik und der Drang den eigenen Stil auf der Gitarre zu finden.Frank Steinhauser:Der Gitarrenkünstler aus dem Ennstal, Stefan-Frank Steinhauser präsentiert sein Weltmusik-Album „Wödscheibn“. In der Klassik-Szene hat er es gerade einmal so lange ausgehalten, wie sein Studium an der Kunstuniversität gedauert hatte. Nach dessen Abschluss und der gelungenen Flucht vor der akademischen Musikpolizei entschloss er sich, die Musik zu machen, die zu ihm passt. Wie man vielleicht schon ahnt, ist es keine Musik, die Autoritäten akzeptiert oder chirurgisch genauer Analysen bedarf. Die Rede ist von Weltmusik; einer Musik, die die kulturellen Unterschiede und Gemeinsamkeiten aller Völker der Erde vermittelt und am wichtigsten: Musik, die nie langweilig wird und in keine Schublade passt. https://www.sfsteinhauser.at/ 
DTEND;TZID=Europe/Vienna:20220930T235900
DTSTAMP:20231221T171224Z
DTSTART;TZID=Europe/Vienna:20220930T180000
LAST-MODIFIED:20231221T171210Z
LOCATION:[ku:L] Kunst- & Kulturhaus Öblarn\n8960 Öblarn 26\, Austria
SEQUENCE:0
STATUS:CONFIRMED
SUMMARY:Guitar Night -  Salzinger/Steinhauser
TRANSP:OPAQUE
UID:95378F1D-9035-46E4-B853-04D9DBE28066
URL;VALUE=URI:https://www.kultur.st/events-archiv/guitar-night-salzingersteinhauser
X-APPLE-CREATOR-IDENTITY:com.apple.calendar
X-APPLE-CREATOR-TEAM-IDENTITY:0000000000
X-APPLE-STRUCTURED-LOCATION;VALUE=URI;X-APPLE-MAPKIT-HANDLE=CAES4gEI2TIa
 Egl0CYfe4rpHQBHLh/sjZ/wrQCJnCgvDlnN0ZXJyZWljaBICQVQaClN0ZWllcm1hcmsqDUJl
 emlyayBMaWV6ZW4yB8OWYmxhcm46BDg5NjBCB8OWYmxhcm5SB8OWYmxhcm5aAjI2YgrDlmJs
 YXJuIDI2igEHw5ZibGFybioKw5ZibGFybiAyNjIKw5ZibGFybiAyNjIMODk2MCDDlmJsYXJu
 MgvDlnN0ZXJyZWljaDg5QABQAVonCiUSEgl0CYfe4rpHQBHLh/sjZ/wrQBjZMiDHj4Po89yn
 vJIBkAMB;X-APPLE-RADIUS=70.58735946348322;X-APPLE-REFERENCEFRAME=1;X-TIT
 LE="[ku:L] Kunst- & Kulturhaus Öblarn\n8960 Öblarn 26, Austria":geo:47.4
 60048,13.992974
BEGIN:VALARM
ACTION:DISPLAY
DESCRIPTION:This is an event reminder
TRIGGER:-P1D
UID:A4449477-3C11-44D3-AE1D-16287D87CEFF
X-WR-ALARMUID:A4449477-3C11-44D3-AE1D-16287D87CEFF
END:VALARM
BEGIN:VALARM
ACTION:DISPLAY
DESCRIPTION:This is an event reminder
TRIGGER:-PT1H
UID:F548110B-4C92-41EC-A1E4-AAB7E38B9653
X-WR-ALARMUID:F548110B-4C92-41EC-A1E4-AAB7E38B9653
END:VALARM
END:VEVENT
END:VCALENDAR
