BEGIN:VCALENDAR
CALSCALE:GREGORIAN
VERSION:2.0
BEGIN:VTIMEZONE
TZID:Europe/Vienna
BEGIN:DAYLIGHT
DTSTART:19810329T020000
RRULE:FREQ=YEARLY;BYMONTH=3;BYDAY=-1SU
TZNAME:MESZ
TZOFFSETFROM:+0100
TZOFFSETTO:+0200
END:DAYLIGHT
BEGIN:STANDARD
DTSTART:19961027T030000
RRULE:FREQ=YEARLY;BYMONTH=10;BYDAY=-1SU
TZNAME:MEZ
TZOFFSETFROM:+0200
TZOFFSETTO:+0100
END:STANDARD
END:VTIMEZONE
BEGIN:VEVENT
CREATED:20231221T170959Z
DESCRIPTION:FLAMENCOWorkshop für Anfänger mit "Las hermanas"Tauche ein in die faszinierende Welt des Flamencos! Entdecke die Leidenschaft und die Kraft dieses feurigen Solotanzes aus Südspanien! Der Workshop richtet sich an Frauen und Männer und erfordert keine Vorkenntnisse. Es ist kein Tanzpartner erforderlich.Seit 2010 gehört der Flamenco zum immateriellen Weltkulturerbe!Flamenco ist eine ausdrucksstarke und leidenschaftliche Kunstform, die in den südlichen Regionen Spaniens, insbesondere in Andalusien, ihren Ursprung hat. Es ist eine Kombination aus Musik, Tanz und Gesang und wird oft von Handklatschen, Gitarrenspiel und speziellen Gesangsformen begleitet. Workshop-Zeiten:Sonntag, 22. Februar 202610:00 – 12:00 und 13:30 – 15:30Kursinhalte:Einführung in die Welt des FlamencosTechnische und rhythmische Übungen:Braceo - ArmführungZapateado-Technik - FußperkussionCadera – Hüft- und HaltungsübungenMarcaje - einfache SchrittkombinationenErarbeiten einer Flamenco-Choreographie"Über "Las hermanas":Die Schwestern Tanja (Tanja Rojas) und Selina Stekl (Selina Zamora) aus Graz, bekannt unter dem Namen "Las hermanas”, erhielten ihre Tanzausbildung vorwiegend in Spanien. Zu ihren bedeutendsten Lehrmeistern zählen Rosa García und Enrique Burgos aus der Familie der spanischen Flamencolegende Antonio El Bailarín. Beide begleiteten Las hermanas bis hin zur Professionalität und gaben Ihnen das Fundament für ihren tänzerischen Lebensweg.Wichtige Impulse bekamen sie auch von namhaften Künstlern wie Chiqui de Jerez (Jerez de la Frontera) und Manolo Marín (Sevilla). In Meisterkursen (Amor de Dios - Madrid) bei Antonio und Manuel Reyes, Merche Esmeralda, La Tati, Alfonso Losa, Carmela Greco und Carlos Vilan vervollständigten sie ihr Können.Sie tanzten von 1997-2001 in der Flamencogruppe "Tierra seca," alcalá (2001-2009), Pianoflamenco, ab 2009 in der Formation "las hermanas." Kooperationen mit philharmonischen Orchestern, Kammermusikensembles und Flamencokünstlern im In- und Ausland folgten, sowie Fernsehauftritte. 2009 Gründung der Flamencogruppe "las hermanas"; In Kooperation mit gamsbART "Night of Flamenco," Tanztheaterprojekte wie "Gladiadoras", "Dicotomías", "Best of and…", "Flamencobeats." Seit 2008 Leiterinnen der academia flamenca las hermanas in Graz (Austria).Nähere Infos unter: www.las-hermanas.atPreise für Teilnehmer:WS 1 € 55,-/ WS 2 € 55/ ganzer Tag € 95,-Kursort: ÖHAWichtige Hinweise:Die Teilnehmerzahl ist begrenzt, daher empfehlen wir eine frühzeitige Anmeldung.Der Anmeldeschluss ist am 8.2.2026Bitte um Einzahlung des gesamten Kursbeitrages bis 14 Tage vor Kursbeginnauf das Konto AT52 2081 5000 0193 4447,Steiermärkische Sparkasse, Kunst- und Kulturhaus Öblarn.Unsere Vertragsbedingungen bei Workshops und Seminaren findest du im Anschluss. Anmeldung und weitere Informationen:Tel.: 0664 86 00 300 (WhatsApp oder telefonisch) sowie unter info@kultur.stWir freuen uns auf dich!
DTEND;TZID=Europe/Vienna:20260222T235900
DTSTAMP:20231221T171224Z
DTSTART;TZID=Europe/Vienna:20260222T100000
LAST-MODIFIED:20231221T171210Z
LOCATION:[ku:L] Kunst- & Kulturhaus Öblarn\n8960 Öblarn 26\, Austria
SEQUENCE:0
STATUS:CONFIRMED
SUMMARY:Flamenco-Workshop
TRANSP:OPAQUE
UID:95378F1D-9035-46E4-B853-04D9DBE28066
URL;VALUE=URI:https://www.kultur.st/events-archiv/flamenco-workshop
X-APPLE-CREATOR-IDENTITY:com.apple.calendar
X-APPLE-CREATOR-TEAM-IDENTITY:0000000000
X-APPLE-STRUCTURED-LOCATION;VALUE=URI;X-APPLE-MAPKIT-HANDLE=CAES4gEI2TIa
 Egl0CYfe4rpHQBHLh/sjZ/wrQCJnCgvDlnN0ZXJyZWljaBICQVQaClN0ZWllcm1hcmsqDUJl
 emlyayBMaWV6ZW4yB8OWYmxhcm46BDg5NjBCB8OWYmxhcm5SB8OWYmxhcm5aAjI2YgrDlmJs
 YXJuIDI2igEHw5ZibGFybioKw5ZibGFybiAyNjIKw5ZibGFybiAyNjIMODk2MCDDlmJsYXJu
 MgvDlnN0ZXJyZWljaDg5QABQAVonCiUSEgl0CYfe4rpHQBHLh/sjZ/wrQBjZMiDHj4Po89yn
 vJIBkAMB;X-APPLE-RADIUS=70.58735946348322;X-APPLE-REFERENCEFRAME=1;X-TIT
 LE="[ku:L] Kunst- & Kulturhaus Öblarn\n8960 Öblarn 26, Austria":geo:47.4
 60048,13.992974
BEGIN:VALARM
ACTION:DISPLAY
DESCRIPTION:This is an event reminder
TRIGGER:-P1D
UID:A4449477-3C11-44D3-AE1D-16287D87CEFF
X-WR-ALARMUID:A4449477-3C11-44D3-AE1D-16287D87CEFF
END:VALARM
BEGIN:VALARM
ACTION:DISPLAY
DESCRIPTION:This is an event reminder
TRIGGER:-PT1H
UID:F548110B-4C92-41EC-A1E4-AAB7E38B9653
X-WR-ALARMUID:F548110B-4C92-41EC-A1E4-AAB7E38B9653
END:VALARM
END:VEVENT
END:VCALENDAR
