BEGIN:VCALENDAR
CALSCALE:GREGORIAN
VERSION:2.0
BEGIN:VTIMEZONE
TZID:Europe/Vienna
BEGIN:DAYLIGHT
DTSTART:19810329T020000
RRULE:FREQ=YEARLY;BYMONTH=3;BYDAY=-1SU
TZNAME:MESZ
TZOFFSETFROM:+0100
TZOFFSETTO:+0200
END:DAYLIGHT
BEGIN:STANDARD
DTSTART:19961027T030000
RRULE:FREQ=YEARLY;BYMONTH=10;BYDAY=-1SU
TZNAME:MEZ
TZOFFSETFROM:+0200
TZOFFSETTO:+0100
END:STANDARD
END:VTIMEZONE
BEGIN:VEVENT
CREATED:20231221T170959Z
DESCRIPTION:Workshopreihe: 12.01./ 19.01./ 26.01./ 01.02./ 23.02.2025Tanzen, Lernen, Genießen!Bist du bereit, deine Hüften zu schwingen und den pulsierenden Rhythmus von Salsa zu spüren? Unsere Workshop-Reihe bietet die perfekte Gelegenheit, in die aufregende Welt des Salsa-Tanzes einzutauchen. Egal, ob du ein absoluter Anfänger oder bereits versiert bist, unsere engagierten Tanzlehrer stehen bereit, um dir die Schritte beizubringen und deine Leidenschaft für Salsa zu entfachen. Komm vorbei, lerne neue Moves, knüpfe Kontakte und erlebe die Energie und Lebensfreude, die Salsa mit sich bringt!• Workshop 1: Paare Aufbau/Mittelstufe: 13:30 – 15:00• Workshop 2: Paare Beginner + Lady-Dance: 15:15 – 16:45Über das Trainerpaar:Carlitos Alberto Martinez Perrucho stammt aus Kolumbien und unterrichtet mit seiner Frau Gertraud Salsa, Bachata, Merengue, Salsa en Rueda und Latin-Line Dance. Im Vordergrund stehen bei ihnen die Freude an schwungvollen Bewegungen, Lernen im eigenen Tempo und Spaß am miteinander Tanzen.Kursort: [ku:L]Wichtige Hinweise:Die Teilnehmerzahl ist begrenzt, daher empfehlen wir eine frühzeitige Anmeldung. Der Anmeldeschluss ist der 28.12.2024.Bitte um Einzahlung des gesamten Kursbeitrages bis 14 Tage vor Kursbeginn auf das KontoAT52 2081 5000 0193 4447, Steiermärkische Sparkasse, Kunst- und Kulturhaus Öblarn.Unsere Vertragsbedingungen bei Workshops und Seminaren findest du im Anschluß.Anmeldung und weitere Informationen:Um sich anzumelden oder weitere Informationen zu erhalten, kontaktiere uns bitte per E-Mail unter: info@kultur.st oder telefonisch 0664/86 00 300.Wir freuen uns auf dich/euch!Vertragsbedingungen:bei Workshops und Seminaren des Kunst &amp;amp; Kulturhaus Öblarn- Bitte um Einzahlung des gesamten Kurbeitrages bis 14 Tage vor Kursbeginn auf das Konto AT 52 2081 5000 0193 4447 / Steiermärkische Sparkasse / Kunst- und Kulturhaus Öblarn- Bei der Reservierung bitte um Angabe des Kursnamens- Ab Zahlungseingang gilt der Kurs als fix reserviert- Die Anmeldung ist verbindlich!- Sollte ein Seminar ausfallen, werden bereits bezahlte Kursgebühren wieder rückerstattet- Bei Stornierung innerhalb 2 Wochen vor Kursbeginn behalten wir 50% des Kursbeitrages als StornogebührAlle Reservierungen, Änderungen und Stornierungen bitte schriftlich an:info@kultur.st 
DTEND;TZID=Europe/Vienna:20250112T235900
DTSTAMP:20231221T171224Z
DTSTART;TZID=Europe/Vienna:20250112T123000
LAST-MODIFIED:20231221T171210Z
LOCATION:[ku:L] Kunst- & Kulturhaus Öblarn\n8960 Öblarn 26\, Austria
SEQUENCE:0
STATUS:CONFIRMED
SUMMARY:SALSA
TRANSP:OPAQUE
UID:95378F1D-9035-46E4-B853-04D9DBE28066
URL;VALUE=URI:https://www.kultur.st/events-archiv/salsa
X-APPLE-CREATOR-IDENTITY:com.apple.calendar
X-APPLE-CREATOR-TEAM-IDENTITY:0000000000
X-APPLE-STRUCTURED-LOCATION;VALUE=URI;X-APPLE-MAPKIT-HANDLE=CAES4gEI2TIa
 Egl0CYfe4rpHQBHLh/sjZ/wrQCJnCgvDlnN0ZXJyZWljaBICQVQaClN0ZWllcm1hcmsqDUJl
 emlyayBMaWV6ZW4yB8OWYmxhcm46BDg5NjBCB8OWYmxhcm5SB8OWYmxhcm5aAjI2YgrDlmJs
 YXJuIDI2igEHw5ZibGFybioKw5ZibGFybiAyNjIKw5ZibGFybiAyNjIMODk2MCDDlmJsYXJu
 MgvDlnN0ZXJyZWljaDg5QABQAVonCiUSEgl0CYfe4rpHQBHLh/sjZ/wrQBjZMiDHj4Po89yn
 vJIBkAMB;X-APPLE-RADIUS=70.58735946348322;X-APPLE-REFERENCEFRAME=1;X-TIT
 LE="[ku:L] Kunst- & Kulturhaus Öblarn\n8960 Öblarn 26, Austria":geo:47.4
 60048,13.992974
BEGIN:VALARM
ACTION:DISPLAY
DESCRIPTION:This is an event reminder
TRIGGER:-P1D
UID:A4449477-3C11-44D3-AE1D-16287D87CEFF
X-WR-ALARMUID:A4449477-3C11-44D3-AE1D-16287D87CEFF
END:VALARM
BEGIN:VALARM
ACTION:DISPLAY
DESCRIPTION:This is an event reminder
TRIGGER:-PT1H
UID:F548110B-4C92-41EC-A1E4-AAB7E38B9653
X-WR-ALARMUID:F548110B-4C92-41EC-A1E4-AAB7E38B9653
END:VALARM
END:VEVENT
END:VCALENDAR
