BEGIN:VCALENDAR
CALSCALE:GREGORIAN
VERSION:2.0
BEGIN:VTIMEZONE
TZID:Europe/Vienna
BEGIN:DAYLIGHT
DTSTART:19810329T020000
RRULE:FREQ=YEARLY;BYMONTH=3;BYDAY=-1SU
TZNAME:MESZ
TZOFFSETFROM:+0100
TZOFFSETTO:+0200
END:DAYLIGHT
BEGIN:STANDARD
DTSTART:19961027T030000
RRULE:FREQ=YEARLY;BYMONTH=10;BYDAY=-1SU
TZNAME:MEZ
TZOFFSETFROM:+0200
TZOFFSETTO:+0100
END:STANDARD
END:VTIMEZONE
BEGIN:VEVENT
CREATED:20231221T170959Z
DESCRIPTION:„Hopaaa!“ Raus in die “wuide weide Welt“! Und zwar  auf der linken Spur: Django 3000 laden ein zum „Danz ums Feia“, zum  Strawanzen, zur puren Lust am Leben. „Diese Jungs sind heiß! So heiß,  dass sie die Lagerfeuer-Glut barfuß austreten!“ las man immer wieder in  der Presse. Django 3000 aus den unendlichen Weiten des  bayerischen Chiemgau haben mit ihrem Debütalbum 2011 einen neuen Sound  gekürt: den bayerischen Gypsy-Pop, mit dem sie nicht nur die hiesige  Popszene ordentlich aufgemischt haben. Seit über zwei Jahren schallt die  „Heidi“ durch Wirtshäuser, von Konzertbühnen, aus dem Radio und  Fernsehen und wurde gut 700.000 Mal am Internet-Lagerfeuer bei YouTube  angeklickt. Zur Heidi gesellte sich schon bald der Schlachtruf  „Hopaaa!“, der ein Konzert von Django 3000 von Anfang bis Ende  begleitet, und inzwischen bis weit in den Norden der Republik hallt.  Wenn LaBrassBanda die Beatles der bayerischen  „Folks-Musik“ sind, dann sind die Burschen aus dem Chiemgau die Rolling  Stones. Ein Gypsy-Cover von „Paint it black“, ihre Youtube-Knaller  „Heidi“ und „Zeit fia ois“, da steckt das drin, was die Leute wollen.  Wild sein, tanzen, feiern. Und Dialekt.“ (Münchner Merkur)  www.django3000.de
DTEND;TZID=Europe/Vienna:20131012T235900
DTSTAMP:20231221T171224Z
DTSTART;TZID=Europe/Vienna:20131012T180000
LAST-MODIFIED:20231221T171210Z
LOCATION:[ku:L] Kunst- & Kulturhaus Öblarn\n8960 Öblarn 26\, Austria
SEQUENCE:0
STATUS:CONFIRMED
SUMMARY:Django 3000 - Hopaaa!
TRANSP:OPAQUE
UID:95378F1D-9035-46E4-B853-04D9DBE28066
URL;VALUE=URI:https://www.kultur.st/events-archiv/django-3000-hopaaa
X-APPLE-CREATOR-IDENTITY:com.apple.calendar
X-APPLE-CREATOR-TEAM-IDENTITY:0000000000
X-APPLE-STRUCTURED-LOCATION;VALUE=URI;X-APPLE-MAPKIT-HANDLE=CAES4gEI2TIa
 Egl0CYfe4rpHQBHLh/sjZ/wrQCJnCgvDlnN0ZXJyZWljaBICQVQaClN0ZWllcm1hcmsqDUJl
 emlyayBMaWV6ZW4yB8OWYmxhcm46BDg5NjBCB8OWYmxhcm5SB8OWYmxhcm5aAjI2YgrDlmJs
 YXJuIDI2igEHw5ZibGFybioKw5ZibGFybiAyNjIKw5ZibGFybiAyNjIMODk2MCDDlmJsYXJu
 MgvDlnN0ZXJyZWljaDg5QABQAVonCiUSEgl0CYfe4rpHQBHLh/sjZ/wrQBjZMiDHj4Po89yn
 vJIBkAMB;X-APPLE-RADIUS=70.58735946348322;X-APPLE-REFERENCEFRAME=1;X-TIT
 LE="[ku:L] Kunst- & Kulturhaus Öblarn\n8960 Öblarn 26, Austria":geo:47.4
 60048,13.992974
BEGIN:VALARM
ACTION:DISPLAY
DESCRIPTION:This is an event reminder
TRIGGER:-P1D
UID:A4449477-3C11-44D3-AE1D-16287D87CEFF
X-WR-ALARMUID:A4449477-3C11-44D3-AE1D-16287D87CEFF
END:VALARM
BEGIN:VALARM
ACTION:DISPLAY
DESCRIPTION:This is an event reminder
TRIGGER:-PT1H
UID:F548110B-4C92-41EC-A1E4-AAB7E38B9653
X-WR-ALARMUID:F548110B-4C92-41EC-A1E4-AAB7E38B9653
END:VALARM
END:VEVENT
END:VCALENDAR
