BEGIN:VCALENDAR
CALSCALE:GREGORIAN
VERSION:2.0
BEGIN:VTIMEZONE
TZID:Europe/Vienna
BEGIN:DAYLIGHT
DTSTART:19810329T020000
RRULE:FREQ=YEARLY;BYMONTH=3;BYDAY=-1SU
TZNAME:MESZ
TZOFFSETFROM:+0100
TZOFFSETTO:+0200
END:DAYLIGHT
BEGIN:STANDARD
DTSTART:19961027T030000
RRULE:FREQ=YEARLY;BYMONTH=10;BYDAY=-1SU
TZNAME:MEZ
TZOFFSETFROM:+0200
TZOFFSETTO:+0100
END:STANDARD
END:VTIMEZONE
BEGIN:VEVENT
CREATED:20231221T170959Z
DESCRIPTION:Beide Tanzstile - Modern Dance (Moderner Tanz) und Contemporary Dance (Zeitgenössischer Tanz) - sind eng miteinander verbunden und entstanden als Rebellion gegen die starren Strukturen des klassischen Balletts im 20. Jahrhundert. Sie betonen die Bedeutung von Kreativität, Emotion und Individualität in der Tanzkunst. Beide Tanzstile - Modern Dance (Moderner Tanz) und Contemporary Dance(Zeitgenössischer Tanz) - sind eng miteinander verbunden und entstanden als Rebellion gegen die starren Strukturen des klassischen Balletts im 20. Jahrhundert. Sie betonen die Bedeutung von Kreativität, Emotion und Individualität in der Tanzkunst.Modern Dance: im Zentrum stehen der Ausdruck von Emotionen und die Befreiung vontraditionellen, formalen Bewegungsmustern. In Deutschland wird der amerikanische „Modern Dance“ auch als Ausdruckstanz bezeichnet.Contemporary Dance: Ist eine Verschmelzung von Modern Dance, Jazz, Ballett, aber aucanderen Tanzstilen wie z.B. Street Dance, Afro oder Stepptanz. Die Bewegungen sind geprägtvon kraftvollen, dynamischen, fließenden, lässigen Bewegungen im Raum und auf dem Boden (Floorwork). Die Bewegungen kommen aus der Körpermitte und fließen nach außen;es wird auf möglichst viel Bewegungsfreiheit bei geringer Muskelspannung geachtet.Einflussreiche Persönlichkeiten und Wegbereiterinnen des Modern- bzw. Contemporary Dance sind Isadora Duncan und Martha Graham, die euch vielleicht schon ein Begriff sind.Workshop-Zeiten:Sonntag, 09.11.2025Workshop 1: Modern Dance: 10:00 – 12:30 UhrWorkshop 2: Contemporary Dance: 14:00 – 16:30 UhrBeide Workshops sind sowohl für Anfänger als auch für erfahrene TänzerInnen.Du kannst die Workshops auch einzeln buchen.Preis auf Anfrage.Kein Tanzpartner erforderlich!Workshop 1: Modern DanceThema: BewegungsqualitätenDer Workshop umfasst:strukturierte Aufwärmübungen,Tanzen von verschiedenen Bewegungsqualitäten wie hart - weich, gerade - rund, zackig, abrupt, leicht- schwer, gebunden oder freiImprovisation und Verfeinerung der Fähigkeit verschiedene Emotionen durchBewegung auszudrücken Kurze und einfache BewegungskombisWorkshop 2: Contemporary DanceThema: Fließende Bewegungen - dynamische ÜbergängeAufwärmen mit kraftvollen, fließenden und lässigen BewegungenErforschen von dynamischen ÜbergängenTanzen verschiedener RhythmenErweiterung des Bewegungsrepertoires durch verschiedene Tanzstile wie Jazz-Dance,Ballett, Modern- und Street Dance die im Raum, aber auch am Boden getanzt werdenEinfache, kurze Bewegungskombis mit fließenden Bewegungen und dynamischenÜbergängenSeminarleiterin:Gloria Cavet, geboren in Venezuela, bringt durch ihre kulturellen Wurzeln und vielfältigenTanzstile eine einzigartige Perspektive in ihre Arbeit ein. Ihre Tanzreise begann in derJugend, wo sie Ausbildungen in Ballett, modernem Tanz, zeitgenössischen Tanz und orientalischen Tanz in Caracas absolvierte. Heute widmet sie sich der künstlerischen Kreation und Leitung von body-tells, einer Disziplin zur Harmonisierung des Körpers durch die Prinzipien Mobilität, Tanz, Selbstausdruck und Entspannung.www.body-tells.comKursort: ÖHA ÖblarnWichtige Hinweise:Die Teilnehmerzahl ist begrenzt, daher empfehlen wir eine frühzeitige Anmeldung. DerAnmeldeschluss ist am Samstag, 25.10.2025.Bitte um Einzahlung des gesamten Kursbeitrages bis 14 Tage vor Kursbeginn auf das KontoAT52 2081 5000 0193 4447, Steiermärkische Sparkasse, Kunst- und Kulturhaus Öblarn.Unsere Vertragsbedingungen bei Workshops und Seminaren findest du im Anschluss.Reservierung unter:0664 86 00 300 (WhatsApp oder telefonisch) sowie unter tickets@kultur.stAnmeldung und weitere Informationen:0664 86 00 300 (WhatsApp oder telefonisch) sowie unter info@kultur.stWir freuen uns auf eure Teilnahme!
DTEND;TZID=Europe/Vienna:20251109T235900
DTSTAMP:20231221T171224Z
DTSTART;TZID=Europe/Vienna:20251109T100000
LAST-MODIFIED:20231221T171210Z
LOCATION:[ku:L] Kunst- & Kulturhaus Öblarn\n8960 Öblarn 26\, Austria
SEQUENCE:0
STATUS:CONFIRMED
SUMMARY:Modern &amp; Contemporary Dance
TRANSP:OPAQUE
UID:95378F1D-9035-46E4-B853-04D9DBE28066
URL;VALUE=URI:https://www.kultur.st/events-archiv/modern-amp-contemporary-dance-mit-gloria-cavet
X-APPLE-CREATOR-IDENTITY:com.apple.calendar
X-APPLE-CREATOR-TEAM-IDENTITY:0000000000
X-APPLE-STRUCTURED-LOCATION;VALUE=URI;X-APPLE-MAPKIT-HANDLE=CAES4gEI2TIa
 Egl0CYfe4rpHQBHLh/sjZ/wrQCJnCgvDlnN0ZXJyZWljaBICQVQaClN0ZWllcm1hcmsqDUJl
 emlyayBMaWV6ZW4yB8OWYmxhcm46BDg5NjBCB8OWYmxhcm5SB8OWYmxhcm5aAjI2YgrDlmJs
 YXJuIDI2igEHw5ZibGFybioKw5ZibGFybiAyNjIKw5ZibGFybiAyNjIMODk2MCDDlmJsYXJu
 MgvDlnN0ZXJyZWljaDg5QABQAVonCiUSEgl0CYfe4rpHQBHLh/sjZ/wrQBjZMiDHj4Po89yn
 vJIBkAMB;X-APPLE-RADIUS=70.58735946348322;X-APPLE-REFERENCEFRAME=1;X-TIT
 LE="[ku:L] Kunst- & Kulturhaus Öblarn\n8960 Öblarn 26, Austria":geo:47.4
 60048,13.992974
BEGIN:VALARM
ACTION:DISPLAY
DESCRIPTION:This is an event reminder
TRIGGER:-P1D
UID:A4449477-3C11-44D3-AE1D-16287D87CEFF
X-WR-ALARMUID:A4449477-3C11-44D3-AE1D-16287D87CEFF
END:VALARM
BEGIN:VALARM
ACTION:DISPLAY
DESCRIPTION:This is an event reminder
TRIGGER:-PT1H
UID:F548110B-4C92-41EC-A1E4-AAB7E38B9653
X-WR-ALARMUID:F548110B-4C92-41EC-A1E4-AAB7E38B9653
END:VALARM
END:VEVENT
END:VCALENDAR
