BEGIN:VCALENDAR
CALSCALE:GREGORIAN
VERSION:2.0
BEGIN:VTIMEZONE
TZID:Europe/Vienna
BEGIN:DAYLIGHT
DTSTART:19810329T020000
RRULE:FREQ=YEARLY;BYMONTH=3;BYDAY=-1SU
TZNAME:MESZ
TZOFFSETFROM:+0100
TZOFFSETTO:+0200
END:DAYLIGHT
BEGIN:STANDARD
DTSTART:19961027T030000
RRULE:FREQ=YEARLY;BYMONTH=10;BYDAY=-1SU
TZNAME:MEZ
TZOFFSETFROM:+0200
TZOFFSETTO:+0100
END:STANDARD
END:VTIMEZONE
BEGIN:VEVENT
CREATED:20231221T170959Z
DESCRIPTION:Kursort: [ku:L]Uhrzeit: 10:15 – 11:45 UhrTanzworkshop-Reihe: Sonntag, 22.02./ 08.03./ 15.03./ 22.03./ 12.04.2026Tangotanzen ist ein magisches Erlebnis, das dich in die Leidenschaft und den Rhythmus der argentinischen Kultur eintauchen lässt. Der Tango erzählt eine Geschichte von Liebe und Tanz, die in den Vorstädten von Buenos Aires begann. Einst mit der Traurigkeit und Melancholie der Armen und Einwanderer verbunden, hat der Tango mit seiner Schönheit und emotionalen Tiefe die Welt erobert. Aber er ist nicht nur eine Leidenschaft, sondern auch eine Quelle von Glück und Gesundheit. Der Tango ist ein effektives Training für das Gehirn und das Nervensystem, weil er mehr Flexibilität fordert als andere Tänze und nachweislich vermehrt Glückshormone ausgeschüttet. Das Hören der Tango-Musik führt zu tiefer Entspannung und innerer Ausgeglichenheit. Der gleichmäßige Rhythmus, ähnlich dem Herzschlag, wirkt beruhigend auf Körper und Geist und fördert das Wohlbefinden. Tango Argentino gehört zum immateriellen Weltkulturerbe und bietet ein einzigartiges Tanzerlebnis.Über das Trainerpaar:Carlitos Alberto Martinez Perrucho stammt aus Kolumbien und unterrichtet neben den lateinamerikanischen Tänzen auch den Tango Argentino. Er wird mit seiner Frau Gertraud spielerisch und einfühlsam den Tango vermitteln. Dabei nutzen sie kreative Methoden wie zum Beispiel: Schritt-für Schritt Anleitung, Integration von spielerischen Übungen, individuelle Betreuung und individuelle Korrekturen, einfühlsame Kommunikation.Es werden dadurch nicht nur die technischen Aspekte des Tangos vermittelt, sondern auch eine tiefere Verbindung zur Musik aufgebaut. Dies führt zu einem ganzheitlichen und bereichernden Tanzerlebnis.Wichtige Hinweise:Die Teilnehmerzahl ist begrenzt, daher empfehlen wir eine frühzeitige Anmeldung.Der Anmeldeschluss ist am 08.02.2026Bitte um Einzahlung des gesamten Kursbeitrages bis 14 Tage vor Kursbeginn auf das Konto AT52 2081 5000 0193 4447, Steiermärkische Sparkasse, Kunst- und Kulturhaus Öblarn.Unsere Vertragsbedingungen bei Workshops und Seminaren findest du auf unserer Website.Anmeldung und weitere Informationen:Um sich anzumelden oder weitere Informationen zu erhalten, kontaktiere uns bitte perE-Mail unter: info@kultur.st oder telefonisch 0664/86 00 300.Komm vorbei und lass dich von der Faszination des Tangos mitreißen.Wir freuen uns auf eure Teilnahme!
DTEND;TZID=Europe/Vienna:20260222T235900
DTSTAMP:20231221T171224Z
DTSTART;TZID=Europe/Vienna:20260222T101500
LAST-MODIFIED:20231221T171210Z
LOCATION:[ku:L] Kunst- & Kulturhaus Öblarn\n8960 Öblarn 26\, Austria
SEQUENCE:0
STATUS:CONFIRMED
SUMMARY:Workshop: Tango Argentino
TRANSP:OPAQUE
UID:95378F1D-9035-46E4-B853-04D9DBE28066
URL;VALUE=URI:https://www.kultur.st/events-archiv/tango-argentino-tanzworkshop-reihe-mit-carlitor
X-APPLE-CREATOR-IDENTITY:com.apple.calendar
X-APPLE-CREATOR-TEAM-IDENTITY:0000000000
X-APPLE-STRUCTURED-LOCATION;VALUE=URI;X-APPLE-MAPKIT-HANDLE=CAES4gEI2TIa
 Egl0CYfe4rpHQBHLh/sjZ/wrQCJnCgvDlnN0ZXJyZWljaBICQVQaClN0ZWllcm1hcmsqDUJl
 emlyayBMaWV6ZW4yB8OWYmxhcm46BDg5NjBCB8OWYmxhcm5SB8OWYmxhcm5aAjI2YgrDlmJs
 YXJuIDI2igEHw5ZibGFybioKw5ZibGFybiAyNjIKw5ZibGFybiAyNjIMODk2MCDDlmJsYXJu
 MgvDlnN0ZXJyZWljaDg5QABQAVonCiUSEgl0CYfe4rpHQBHLh/sjZ/wrQBjZMiDHj4Po89yn
 vJIBkAMB;X-APPLE-RADIUS=70.58735946348322;X-APPLE-REFERENCEFRAME=1;X-TIT
 LE="[ku:L] Kunst- & Kulturhaus Öblarn\n8960 Öblarn 26, Austria":geo:47.4
 60048,13.992974
BEGIN:VALARM
ACTION:DISPLAY
DESCRIPTION:This is an event reminder
TRIGGER:-P1D
UID:A4449477-3C11-44D3-AE1D-16287D87CEFF
X-WR-ALARMUID:A4449477-3C11-44D3-AE1D-16287D87CEFF
END:VALARM
BEGIN:VALARM
ACTION:DISPLAY
DESCRIPTION:This is an event reminder
TRIGGER:-PT1H
UID:F548110B-4C92-41EC-A1E4-AAB7E38B9653
X-WR-ALARMUID:F548110B-4C92-41EC-A1E4-AAB7E38B9653
END:VALARM
END:VEVENT
END:VCALENDAR
