BEGIN:VCALENDAR
CALSCALE:GREGORIAN
VERSION:2.0
BEGIN:VTIMEZONE
TZID:Europe/Vienna
BEGIN:DAYLIGHT
DTSTART:19810329T020000
RRULE:FREQ=YEARLY;BYMONTH=3;BYDAY=-1SU
TZNAME:MESZ
TZOFFSETFROM:+0100
TZOFFSETTO:+0200
END:DAYLIGHT
BEGIN:STANDARD
DTSTART:19961027T030000
RRULE:FREQ=YEARLY;BYMONTH=10;BYDAY=-1SU
TZNAME:MEZ
TZOFFSETFROM:+0200
TZOFFSETTO:+0100
END:STANDARD
END:VTIMEZONE
BEGIN:VEVENT
CREATED:20231221T170959Z
DESCRIPTION:Tickets: via Whatsapp Tel 0664 8600300 oder telefonisch       oder an tickets@kultur.st        David Helbock´s Random/ControlDavid Helbock - Piano, Inside Piano, Electronics, PercussionJohannes Bär - Trumpet, Flügelhorn, Bassflügelhorn, Sousaphone, Tuba, Alphorn, Beatbox, Didgeridoo, Electronics, PercussionAndreas Broger - Sopransax, Tenorsax, Clarinet, Bassclarinet, Flute, Recorder, Flügelhorn, Percussion, GesangMehr als zwei Dutzend Instrumente auf der Bühne, aber nur drei Musiker: David Helbock beschränkt sich weitgehend auf solche mit Tasten. Vogelwild die beiden unter anderem am Salzburger Mozarteumausgebildeten Bläser. Johannes Bär ist fürs Blech zuständig, von Trompete über Bassflügelhorn bis zu hin zu Alphorn und Tuba. Andreas Broger spielt die Holzblasinstrumente: Saxophone, Klarinetten, Flöte.Für die aktuelle CD, die beim renommierten Label ACT Music erschienen ist, hat sich David Helbock bei seinen Lieblingsjazzpianisten bedient und immer deren bekanntestes Stück arrangiert. So erklingen spannende,groovige neue Versionen von Watermelon Man (Herbie Hancock) oder Bolivia (Cedar Walton) aber auch ruhige, die Seele ansprechende Stücke wie My Song (Keith Jarrett) und viele andere.Über die Jahre hat sich ein ganz eigenständiger Bandsound entwickelt und egal was David Helbock als Ausgangsmaterial wählt - ob wie in der Vergangenheit österreichische Volksmusik oder auch vieleEigenkompositionen (David Helbock hatte 2009 ein großes Kompositionsprojekt, wo er für ein Jahr lang jeden Tag ein neues Stück geschrieben hat) und jetzt eben diese „Pianoplayer´s Hits“ - Die Band klingt immerwie Random/Control - eine Achterbahnfahrt der Gefühle - Musik fürs Ohr und Spannendes fürs Auge oder wie Roland Spiegel vom Bayerischen Rundfunk schon vor vielen Jahren treffend formulierte:&quot;Ich halte diesen Musiker mit dem Strickkäppi für einen der besonders aufregenden des jungen Jazz aus Europa. Wenn David Helbock spielt, erlebt man Neues. Und es ist nie verkopfte Musik – sondern eine, die denKopf und den Körper mitreißt.“Ganz aktuell arbeitet David Helbock mit Random/Control auch an einem neuen Programm - eigene Kompositionen inspiriert von Gedichten von Poeten wie Erich Fried oder Emily Dickinson und Andreas Broger singtzum ersten Mal in der über 12-jährigen Bandgeschichte - man darf also gespannt sein - auch auf ein paar ganz neue Stücke.“David Helbock is a musician to watch. [...] An impeccable pianist with a clear, crisp touch.” - Jazzwise (GB)“Accomplished, melodic playing” - The London Times (GB)„Tour d’Horizon surprises at every turn, a measured feast for the senses.“ - Downbeat (US)“Simply indescribable.” - Jazz thing (DE)“Exciting and full of surprises and delights.” - Les Inrocks (FR)https://youtu.be/m2wZa5QhWpIhttps://youtu.be/ZXAkFwk4Ccchttps://youtu.be/CnzZt2DR_Jc
DTEND;TZID=Europe/Vienna:20220205T235900
DTSTAMP:20231221T171224Z
DTSTART;TZID=Europe/Vienna:20220205T183000
LAST-MODIFIED:20231221T171210Z
LOCATION:[ku:L] Kunst- & Kulturhaus Öblarn\n8960 Öblarn 26\, Austria
SEQUENCE:0
STATUS:CONFIRMED
SUMMARY:David Helbock´s Random/Control
TRANSP:OPAQUE
UID:95378F1D-9035-46E4-B853-04D9DBE28066
URL;VALUE=URI:https://www.kultur.st/events-archiv/david-helbocks-randomcontrol
X-APPLE-CREATOR-IDENTITY:com.apple.calendar
X-APPLE-CREATOR-TEAM-IDENTITY:0000000000
X-APPLE-STRUCTURED-LOCATION;VALUE=URI;X-APPLE-MAPKIT-HANDLE=CAES4gEI2TIa
 Egl0CYfe4rpHQBHLh/sjZ/wrQCJnCgvDlnN0ZXJyZWljaBICQVQaClN0ZWllcm1hcmsqDUJl
 emlyayBMaWV6ZW4yB8OWYmxhcm46BDg5NjBCB8OWYmxhcm5SB8OWYmxhcm5aAjI2YgrDlmJs
 YXJuIDI2igEHw5ZibGFybioKw5ZibGFybiAyNjIKw5ZibGFybiAyNjIMODk2MCDDlmJsYXJu
 MgvDlnN0ZXJyZWljaDg5QABQAVonCiUSEgl0CYfe4rpHQBHLh/sjZ/wrQBjZMiDHj4Po89yn
 vJIBkAMB;X-APPLE-RADIUS=70.58735946348322;X-APPLE-REFERENCEFRAME=1;X-TIT
 LE="[ku:L] Kunst- & Kulturhaus Öblarn\n8960 Öblarn 26, Austria":geo:47.4
 60048,13.992974
BEGIN:VALARM
ACTION:DISPLAY
DESCRIPTION:This is an event reminder
TRIGGER:-P1D
UID:A4449477-3C11-44D3-AE1D-16287D87CEFF
X-WR-ALARMUID:A4449477-3C11-44D3-AE1D-16287D87CEFF
END:VALARM
BEGIN:VALARM
ACTION:DISPLAY
DESCRIPTION:This is an event reminder
TRIGGER:-PT1H
UID:F548110B-4C92-41EC-A1E4-AAB7E38B9653
X-WR-ALARMUID:F548110B-4C92-41EC-A1E4-AAB7E38B9653
END:VALARM
END:VEVENT
END:VCALENDAR
