BEGIN:VCALENDAR
CALSCALE:GREGORIAN
VERSION:2.0
BEGIN:VTIMEZONE
TZID:Europe/Vienna
BEGIN:DAYLIGHT
DTSTART:19810329T020000
RRULE:FREQ=YEARLY;BYMONTH=3;BYDAY=-1SU
TZNAME:MESZ
TZOFFSETFROM:+0100
TZOFFSETTO:+0200
END:DAYLIGHT
BEGIN:STANDARD
DTSTART:19961027T030000
RRULE:FREQ=YEARLY;BYMONTH=10;BYDAY=-1SU
TZNAME:MEZ
TZOFFSETFROM:+0200
TZOFFSETTO:+0100
END:STANDARD
END:VTIMEZONE
BEGIN:VEVENT
CREATED:20231221T170959Z
DESCRIPTION:Aufführungen mit Beginn um 9.00 Uhr &amp; 10:45 Uhr ( nur für Schulen und Kindergarten)Koproduktion Mezzanin Theater &amp; TanzCompanyELLA.  Auf Irrwegen schleichen auf der Suche nach der eigene Idendität.Ein Stück, das lustvoll und philosophisch Mut macht.Ein Tanztheater für Menschen ab 4 Jahren / 45 Min. Es war einmal ein Juckreiz. Der kratzt sich und ist plötzlich: Ein Bär, der vorher nicht da war. Der Bär findet einen Zettel auf dem steht:„Bist du ich?“ „Gute Frage“, denkt er und macht sich auf den Weg durch einen wundersamen Wald, um es herauszufinden. Dort trifft er auf sehr alte Freunde, wie dem bequemem Bergrind und dem saumseligen Salamander, begegnet dem vorletzten Vorzeige-Pinguin, lauscht seiner eigenen Stille, erfreut sich an Blumen und schönen Gedanken, verirrt sich beim geradeaus Fahren auf dem trägen Schildkröten-Taxi und findet schließlich und zu seiner großen Freude – sich selbst.                                    _____ TEAM _____Regie: Hanni Westphal • Choreographie: Lin Verleger • Musikkomposition: Conrado Molina • Dramaturgie:Natascha Grasser • Tanz/Spiel: Sonja Felber, Barbara Krepcik, Lilli Angermeier • Regieassistenz: Astrid Seid-ler • Bühne: Christina Bergner • Kostüme: Corinna Schuster • Lichtdesign: Lisa Raschhofer • Produktionsleitung: Caroline Pucher • Rechte: schaefersphilippen, Theater und Medien GbR, Köln •Autor: Oren Lavie / (Übersetzung) Harry Rowohlt (Illustrationen: angelehnt an die Zeichnungen von Wolf Erlbruch)
DTEND;TZID=Europe/Vienna:20260226T235900
DTSTAMP:20231221T171224Z
DTSTART;TZID=Europe/Vienna:20260226T090000
LAST-MODIFIED:20231221T171210Z
LOCATION:[ku:L] Kunst- & Kulturhaus Öblarn\n8960 Öblarn 26\, Austria
SEQUENCE:0
STATUS:CONFIRMED
SUMMARY:Der Bär, der nicht da war
TRANSP:OPAQUE
UID:95378F1D-9035-46E4-B853-04D9DBE28066
URL;VALUE=URI:https://www.kultur.st/events-archiv/der-baer-der-nicht-da-war
X-APPLE-CREATOR-IDENTITY:com.apple.calendar
X-APPLE-CREATOR-TEAM-IDENTITY:0000000000
X-APPLE-STRUCTURED-LOCATION;VALUE=URI;X-APPLE-MAPKIT-HANDLE=CAES4gEI2TIa
 Egl0CYfe4rpHQBHLh/sjZ/wrQCJnCgvDlnN0ZXJyZWljaBICQVQaClN0ZWllcm1hcmsqDUJl
 emlyayBMaWV6ZW4yB8OWYmxhcm46BDg5NjBCB8OWYmxhcm5SB8OWYmxhcm5aAjI2YgrDlmJs
 YXJuIDI2igEHw5ZibGFybioKw5ZibGFybiAyNjIKw5ZibGFybiAyNjIMODk2MCDDlmJsYXJu
 MgvDlnN0ZXJyZWljaDg5QABQAVonCiUSEgl0CYfe4rpHQBHLh/sjZ/wrQBjZMiDHj4Po89yn
 vJIBkAMB;X-APPLE-RADIUS=70.58735946348322;X-APPLE-REFERENCEFRAME=1;X-TIT
 LE="[ku:L] Kunst- & Kulturhaus Öblarn\n8960 Öblarn 26, Austria":geo:47.4
 60048,13.992974
BEGIN:VALARM
ACTION:DISPLAY
DESCRIPTION:This is an event reminder
TRIGGER:-P1D
UID:A4449477-3C11-44D3-AE1D-16287D87CEFF
X-WR-ALARMUID:A4449477-3C11-44D3-AE1D-16287D87CEFF
END:VALARM
BEGIN:VALARM
ACTION:DISPLAY
DESCRIPTION:This is an event reminder
TRIGGER:-PT1H
UID:F548110B-4C92-41EC-A1E4-AAB7E38B9653
X-WR-ALARMUID:F548110B-4C92-41EC-A1E4-AAB7E38B9653
END:VALARM
END:VEVENT
END:VCALENDAR
