BEGIN:VCALENDAR
CALSCALE:GREGORIAN
VERSION:2.0
BEGIN:VTIMEZONE
TZID:Europe/Vienna
BEGIN:DAYLIGHT
DTSTART:19810329T020000
RRULE:FREQ=YEARLY;BYMONTH=3;BYDAY=-1SU
TZNAME:MESZ
TZOFFSETFROM:+0100
TZOFFSETTO:+0200
END:DAYLIGHT
BEGIN:STANDARD
DTSTART:19961027T030000
RRULE:FREQ=YEARLY;BYMONTH=10;BYDAY=-1SU
TZNAME:MEZ
TZOFFSETFROM:+0200
TZOFFSETTO:+0100
END:STANDARD
END:VTIMEZONE
BEGIN:VEVENT
CREATED:20231221T170959Z
DESCRIPTION:Horst-Michael Schaffer JBBG Edi Köhldorfer, Global Kryner Philipp Sageder, „Bauchklang“ ...
Wenn sich Bauchklang ins Mundwerk schleicht, sich Global Kryner Gitarrensaiten gegen den Wind richten und sich der Kopf der Jazz Bigband Graz zum Singen und Trompetieren eingesellt, dann gibt’s mächtig was auf die Ohren, und dabei dreht sich alles - wie so oft - um Cash! Jawohl - Johnny CASH! Ein wohlwollender Kniefall, aber auch ein frecher Anschlag auf das opulente Werk des „Man in Black“ ist die Programmgrundlage. Doch die wohl außergewöhnlichste Besetzung, die sich jemals dem Erbe Cash‘s gewidmet hat, geht noch einen Schritt weiter und bringt Country nach Jamaica, den Feuerring zurück nach Afrika und macht Eigenes zu Cash!  Also - Augen und Ohren auf, und los geht’s zu einer Reise der wundersamen Überraschungen, denn ihre inneren Geister werden auf Feuerringen reiten und sich mit Desperados herumschlagen. Das „Happy End“ liegt oft zum Greifen nah!  Horst-Michael Schaffer, einer der beiden Köpfe der JBBG-Jazz Bigband Graz und Mitglied zahlreicher Bands, arbeitet seit Jahren als Songschreiber, Trompeter und Sänger  u.a. mit namhaften Musikern zwischen Jazz und Pop wie Maxwell, Nick  Cave, Alex Deutsch, Raphael Wressnig oder Django Bates.  Edi Köhldorfer, Mitglied der überaus  erfolgreichen Global Kryner und einer der versiertesten Gitarristen im  Lande hat schon vor dem Songcontest mit den Besten der Besten gespielt -  von Barbara Dennerlein und Biréli Lagrène über Thomas Gansch bis Benjamin Schmid und Georg Breinschmid.  Philipp Sageder, rockt mit „Bauchklang“ seit 2003 die Bühnen dieser Welt, findet daneben aber auch noch Zeit sich mit indischer Musik zu beschäftigen oder als gefragter Beatboxzauberer und Vocalcoach seine Kreativität weiter zu geben. https://www.facebook.com/welovesissi
DTEND;TZID=Europe/Vienna:20140524T235900
DTSTAMP:20231221T171224Z
DTSTART;TZID=Europe/Vienna:20140524T180000
LAST-MODIFIED:20231221T171210Z
LOCATION:[ku:L] Kunst- & Kulturhaus Öblarn\n8960 Öblarn 26\, Austria
SEQUENCE:0
STATUS:CONFIRMED
SUMMARY:"Ghost Riders" Tribute to Johnny Cash
TRANSP:OPAQUE
UID:95378F1D-9035-46E4-B853-04D9DBE28066
URL;VALUE=URI:https://www.kultur.st/events-archiv/ghost-riders-tribute-to-johnny-cash
X-APPLE-CREATOR-IDENTITY:com.apple.calendar
X-APPLE-CREATOR-TEAM-IDENTITY:0000000000
X-APPLE-STRUCTURED-LOCATION;VALUE=URI;X-APPLE-MAPKIT-HANDLE=CAES4gEI2TIa
 Egl0CYfe4rpHQBHLh/sjZ/wrQCJnCgvDlnN0ZXJyZWljaBICQVQaClN0ZWllcm1hcmsqDUJl
 emlyayBMaWV6ZW4yB8OWYmxhcm46BDg5NjBCB8OWYmxhcm5SB8OWYmxhcm5aAjI2YgrDlmJs
 YXJuIDI2igEHw5ZibGFybioKw5ZibGFybiAyNjIKw5ZibGFybiAyNjIMODk2MCDDlmJsYXJu
 MgvDlnN0ZXJyZWljaDg5QABQAVonCiUSEgl0CYfe4rpHQBHLh/sjZ/wrQBjZMiDHj4Po89yn
 vJIBkAMB;X-APPLE-RADIUS=70.58735946348322;X-APPLE-REFERENCEFRAME=1;X-TIT
 LE="[ku:L] Kunst- & Kulturhaus Öblarn\n8960 Öblarn 26, Austria":geo:47.4
 60048,13.992974
BEGIN:VALARM
ACTION:DISPLAY
DESCRIPTION:This is an event reminder
TRIGGER:-P1D
UID:A4449477-3C11-44D3-AE1D-16287D87CEFF
X-WR-ALARMUID:A4449477-3C11-44D3-AE1D-16287D87CEFF
END:VALARM
BEGIN:VALARM
ACTION:DISPLAY
DESCRIPTION:This is an event reminder
TRIGGER:-PT1H
UID:F548110B-4C92-41EC-A1E4-AAB7E38B9653
X-WR-ALARMUID:F548110B-4C92-41EC-A1E4-AAB7E38B9653
END:VALARM
END:VEVENT
END:VCALENDAR
