BEGIN:VCALENDAR
CALSCALE:GREGORIAN
VERSION:2.0
BEGIN:VTIMEZONE
TZID:Europe/Vienna
BEGIN:DAYLIGHT
DTSTART:19810329T020000
RRULE:FREQ=YEARLY;BYMONTH=3;BYDAY=-1SU
TZNAME:MESZ
TZOFFSETFROM:+0100
TZOFFSETTO:+0200
END:DAYLIGHT
BEGIN:STANDARD
DTSTART:19961027T030000
RRULE:FREQ=YEARLY;BYMONTH=10;BYDAY=-1SU
TZNAME:MEZ
TZOFFSETFROM:+0200
TZOFFSETTO:+0100
END:STANDARD
END:VTIMEZONE
BEGIN:VEVENT
CREATED:20231221T170959Z
DESCRIPTION:Kinder lieben es, sich zu bewegen, ihrer Fantasie freien Lauf zu lassen und in spielerische Welten einzutauchen. Genau hier setzt der Kreative Kindertanz mit der NaturElfeRamsau an:Ein Kurs für Kinder von 3 bis 7 Jahren, die Freude an Musik, Bewegung und Kreativität haben.Ab Oktober startet im Kunst- und Kulturhaus Öblarn ein 10-teiliger Herbstkurs, in dem Bewegung, Spiel und Fantasie harmonisch verbunden werden. Hier geht es nicht um einstudierte Schrittfolgen, sondern darum, dass Kinder: ihren Körper besser kennenlernen und eigene Grenzen austesten,spielerisch Beweglichkeit und Koordination fördern,ihre Kreativität und Fantasie entfalten,ganz nebenbei auch Konzentration und Merkfähigkeit stärken.Geleitet wird der Kurs von Verena Novak, bekannt als die NaturElfeRamsau. Sie bringt über 20 Jahre Erfahrung als Kindergartenpädagogin mit Schwerpunkt Tanz und Kreativität mit und begleitet die Kinder mit viel Einfühlungsvermögen, Freude und Fantasie.👉 Kursbeginn: Oktober 2025👉 Kosten: 100 € für 10 Einheiten à 1 Stunde👉 Ort: Steirersaal gegenüber KircheBesonders einladend: Am 2. Oktober 2025 gibt es von 15–16 Uhr eine kostenlose Schnupperstunde – ideal, um Verena kennenzulernen und auszuprobieren, ob der Kurs das Richtige für Ihr Kind ist.📩 Anmeldung &amp; Infos:✉️ naturelferamsau@gmail.com
DTEND;TZID=Europe/Vienna:20251002T235900
DTSTAMP:20231221T171224Z
DTSTART;TZID=Europe/Vienna:20251002T150000
LAST-MODIFIED:20231221T171210Z
LOCATION:[ku:L] Kunst- & Kulturhaus Öblarn\n8960 Öblarn 26\, Austria
SEQUENCE:0
STATUS:CONFIRMED
SUMMARY:Kreativer Kindertanz mit der NaturElfeRamsau 🌿✨
TRANSP:OPAQUE
UID:95378F1D-9035-46E4-B853-04D9DBE28066
URL;VALUE=URI:https://www.kultur.st/events-archiv/kreativer-kindertanz-mit-der-naturelferamsau
X-APPLE-CREATOR-IDENTITY:com.apple.calendar
X-APPLE-CREATOR-TEAM-IDENTITY:0000000000
X-APPLE-STRUCTURED-LOCATION;VALUE=URI;X-APPLE-MAPKIT-HANDLE=CAES4gEI2TIa
 Egl0CYfe4rpHQBHLh/sjZ/wrQCJnCgvDlnN0ZXJyZWljaBICQVQaClN0ZWllcm1hcmsqDUJl
 emlyayBMaWV6ZW4yB8OWYmxhcm46BDg5NjBCB8OWYmxhcm5SB8OWYmxhcm5aAjI2YgrDlmJs
 YXJuIDI2igEHw5ZibGFybioKw5ZibGFybiAyNjIKw5ZibGFybiAyNjIMODk2MCDDlmJsYXJu
 MgvDlnN0ZXJyZWljaDg5QABQAVonCiUSEgl0CYfe4rpHQBHLh/sjZ/wrQBjZMiDHj4Po89yn
 vJIBkAMB;X-APPLE-RADIUS=70.58735946348322;X-APPLE-REFERENCEFRAME=1;X-TIT
 LE="[ku:L] Kunst- & Kulturhaus Öblarn\n8960 Öblarn 26, Austria":geo:47.4
 60048,13.992974
BEGIN:VALARM
ACTION:DISPLAY
DESCRIPTION:This is an event reminder
TRIGGER:-P1D
UID:A4449477-3C11-44D3-AE1D-16287D87CEFF
X-WR-ALARMUID:A4449477-3C11-44D3-AE1D-16287D87CEFF
END:VALARM
BEGIN:VALARM
ACTION:DISPLAY
DESCRIPTION:This is an event reminder
TRIGGER:-PT1H
UID:F548110B-4C92-41EC-A1E4-AAB7E38B9653
X-WR-ALARMUID:F548110B-4C92-41EC-A1E4-AAB7E38B9653
END:VALARM
END:VEVENT
END:VCALENDAR
